Back to Multiple platform build/check report for BioC 3.21:   simplified   long
AB[C]DEFGHIJKLMNOPQRSTUVWXYZ

This page was generated on 2025-02-20 11:43 -0500 (Thu, 20 Feb 2025).

HostnameOSArch (*)R versionInstalled pkgs
nebbiolo1Linux (Ubuntu 24.04.1 LTS)x86_64R Under development (unstable) (2025-01-20 r87609) -- "Unsuffered Consequences" 4730
palomino7Windows Server 2022 Datacenterx64R Under development (unstable) (2025-01-21 r87610 ucrt) -- "Unsuffered Consequences" 4491
lconwaymacOS 12.7.1 Montereyx86_64R Under development (unstable) (2025-01-22 r87618) -- "Unsuffered Consequences" 4503
kjohnson3macOS 13.7.1 Venturaarm64R Under development (unstable) (2025-01-20 r87609) -- "Unsuffered Consequences" 4457
Click on any hostname to see more info about the system (e.g. compilers)      (*) as reported by 'uname -p', except on Windows and Mac OS X

Package 301/2302HostnameOS / ArchINSTALLBUILDCHECKBUILD BIN
cellmigRation 1.15.0  (landing page)
Waldir Leoncio
Snapshot Date: 2025-02-19 13:40 -0500 (Wed, 19 Feb 2025)
git_url: https://git.bioconductor.org/packages/cellmigRation
git_branch: devel
git_last_commit: 16757c8
git_last_commit_date: 2024-10-29 10:58:18 -0500 (Tue, 29 Oct 2024)
nebbiolo1Linux (Ubuntu 24.04.1 LTS) / x86_64  OK    OK    OK  UNNEEDED, same version is already published
palomino7Windows Server 2022 Datacenter / x64  OK    OK    OK    OK  UNNEEDED, same version is already published
lconwaymacOS 12.7.1 Monterey / x86_64  OK    OK    OK    OK  UNNEEDED, same version is already published
kjohnson3macOS 13.7.1 Ventura / arm64  OK    OK    OK    OK  UNNEEDED, same version is already published


CHECK results for cellmigRation on kjohnson3

To the developers/maintainers of the cellmigRation package:
- Allow up to 24 hours (and sometimes 48 hours) for your latest push to git@git.bioconductor.org:packages/cellmigRation.git to reflect on this report. See Troubleshooting Build Report for more information.
- Use the following Renviron settings to reproduce errors and warnings.
- If 'R CMD check' started to fail recently on the Linux builder(s) over a missing dependency, add the missing dependency to 'Suggests:' in your DESCRIPTION file. See Renviron.bioc for more information.

raw results


Summary

Package: cellmigRation
Version: 1.15.0
Command: /Library/Frameworks/R.framework/Resources/bin/R CMD check --install=check:cellmigRation.install-out.txt --library=/Library/Frameworks/R.framework/Resources/library --no-vignettes --timings cellmigRation_1.15.0.tar.gz
StartedAt: 2025-02-19 18:28:22 -0500 (Wed, 19 Feb 2025)
EndedAt: 2025-02-19 18:29:09 -0500 (Wed, 19 Feb 2025)
EllapsedTime: 46.5 seconds
RetCode: 0
Status:   OK  
CheckDir: cellmigRation.Rcheck
Warnings: 0

Command output

##############################################################################
##############################################################################
###
### Running command:
###
###   /Library/Frameworks/R.framework/Resources/bin/R CMD check --install=check:cellmigRation.install-out.txt --library=/Library/Frameworks/R.framework/Resources/library --no-vignettes --timings cellmigRation_1.15.0.tar.gz
###
##############################################################################
##############################################################################


* using log directory ‘/Users/biocbuild/bbs-3.21-bioc/meat/cellmigRation.Rcheck’
* using R Under development (unstable) (2025-01-20 r87609)
* using platform: aarch64-apple-darwin20
* R was compiled by
    Apple clang version 14.0.0 (clang-1400.0.29.202)
    GNU Fortran (GCC) 14.2.0
* running under: macOS Ventura 13.7.1
* using session charset: UTF-8
* using option ‘--no-vignettes’
* checking for file ‘cellmigRation/DESCRIPTION’ ... OK
* checking extension type ... Package
* this is package ‘cellmigRation’ version ‘1.15.0’
* package encoding: UTF-8
* checking package namespace information ... OK
* checking package dependencies ... OK
* checking if this is a source package ... OK
* checking if there is a namespace ... OK
* checking for hidden files and directories ... OK
* checking for portable file names ... OK
* checking for sufficient/correct file permissions ... OK
* checking whether package ‘cellmigRation’ can be installed ... OK
* checking installed package size ... OK
* checking package directory ... OK
* checking ‘build’ directory ... OK
* checking DESCRIPTION meta-information ... OK
* checking top-level files ... OK
* checking for left-over files ... OK
* checking index information ... OK
* checking package subdirectories ... OK
* checking code files for non-ASCII characters ... OK
* checking R files for syntax errors ... OK
* checking whether the package can be loaded ... OK
* checking whether the package can be loaded with stated dependencies ... OK
* checking whether the package can be unloaded cleanly ... OK
* checking whether the namespace can be loaded with stated dependencies ... OK
* checking whether the namespace can be unloaded cleanly ... OK
* checking dependencies in R code ... OK
* checking S3 generic/method consistency ... OK
* checking replacement functions ... OK
* checking foreign function calls ... OK
* checking R code for possible problems ... OK
* checking Rd files ... OK
* checking Rd metadata ... OK
* checking Rd cross-references ... OK
* checking for missing documentation entries ... OK
* checking for code/documentation mismatches ... OK
* checking Rd \usage sections ... NOTE
Documented arguments not in \usage in Rd file 'fixDA.Rd':
  ‘object’

Documented arguments not in \usage in Rd file 'fixFM1.Rd':
  ‘object’

Documented arguments not in \usage in Rd file 'fixFM2.Rd':
  ‘object’

Documented arguments not in \usage in Rd file 'fixFM3.Rd':
  ‘object’

Documented arguments not in \usage in Rd file 'fixFM4.Rd':
  ‘object’

Documented arguments not in \usage in Rd file 'fixFM5.Rd':
  ‘object’

Documented arguments not in \usage in Rd file 'fixFM6.Rd':
  ‘object’

Documented arguments not in \usage in Rd file 'fixID2.Rd':
  ‘TimeInterval’

Documented arguments not in \usage in Rd file 'fixID3.Rd':
  ‘TimeInterval’

Documented arguments not in \usage in Rd file 'fixID4.Rd':
  ‘TimeInterval’

Documented arguments not in \usage in Rd file 'fixMSD.Rd':
  ‘object’

Documented arguments not in \usage in Rd file 'fixPER1.Rd':
  ‘x’

Documented arguments not in \usage in Rd file 'fixPER2.Rd':
  ‘x’

Documented arguments not in \usage in Rd file 'innerBondRaster.Rd':
  ‘i’

Functions with \usage entries need to have the appropriate \alias
entries, and all their arguments documented.
The \usage entries must correspond to syntactically valid R code.
See chapter ‘Writing R documentation files’ in the ‘Writing R
Extensions’ manual.
* checking Rd contents ... OK
* checking for unstated dependencies in examples ... OK
* checking contents of ‘data’ directory ... OK
* checking data for non-ASCII characters ... OK
* checking data for ASCII and uncompressed saves ... OK
* checking files in ‘vignettes’ ... OK
* checking examples ... OK
* checking for unstated dependencies in ‘tests’ ... OK
* checking tests ...
  Running ‘runTests.R’
 OK
* checking for unstated dependencies in vignettes ... OK
* checking package vignettes ... OK
* checking running R code from vignettes ... SKIPPED
* checking re-building of vignette outputs ... SKIPPED
* checking PDF version of manual ... OK
* DONE

Status: 1 NOTE
See
  ‘/Users/biocbuild/bbs-3.21-bioc/meat/cellmigRation.Rcheck/00check.log’
for details.


Installation output

cellmigRation.Rcheck/00install.out

##############################################################################
##############################################################################
###
### Running command:
###
###   /Library/Frameworks/R.framework/Resources/bin/R CMD INSTALL cellmigRation
###
##############################################################################
##############################################################################


* installing to library ‘/Library/Frameworks/R.framework/Versions/4.5-arm64/Resources/library’
* installing *source* package ‘cellmigRation’ ...
** this is package ‘cellmigRation’ version ‘1.15.0’
** using staged installation
** R
** data
** inst
** byte-compile and prepare package for lazy loading
** help
*** installing help indices
** building package indices
** installing vignettes
** testing if installed package can be loaded from temporary location
** testing if installed package can be loaded from final location
** testing if installed package keeps a record of temporary installation path
* DONE (cellmigRation)

Tests output

cellmigRation.Rcheck/tests/runTests.Rout


R Under development (unstable) (2025-01-20 r87609) -- "Unsuffered Consequences"
Copyright (C) 2025 The R Foundation for Statistical Computing
Platform: aarch64-apple-darwin20

R is free software and comes with ABSOLUTELY NO WARRANTY.
You are welcome to redistribute it under certain conditions.
Type 'license()' or 'licence()' for distribution details.

R is a collaborative project with many contributors.
Type 'contributors()' for more information and
'citation()' on how to cite R or R packages in publications.

Type 'demo()' for some demos, 'help()' for on-line help, or
'help.start()' for an HTML browser interface to help.
Type 'q()' to quit R.

> BiocGenerics:::testPackage("cellmigRation")


RUNIT TEST PROTOCOL -- Wed Feb 19 18:29:03 2025 
*********************************************** 
Number of test functions: 7 
Number of errors: 0 
Number of failures: 0 

 
1 Test Suite : 
cellmigRation RUnit Tests - 7 test functions, 0 errors, 0 failures
Number of test functions: 7 
Number of errors: 0 
Number of failures: 0 
> 
> proc.time()
   user  system elapsed 
  1.096   0.127   1.237 

Example timings

cellmigRation.Rcheck/cellmigRation-Ex.timings

nameusersystemelapsed
AddDimension0.0000.0000.001
CellMig-class0.0130.0010.014
CellMigPCA0.4440.0110.454
CellMigPCAclust0.0030.0010.005
CellMigPCAclustALL0.3030.0130.317
CellTracker0.0080.0010.009
CellTrackerMainLoop0.0030.0040.007
CentroidArray0.0070.0010.008
CentroidValidation0.1500.0070.157
ComputeTracksStats0.0090.0010.012
DetectRadii0.0010.0000.001
DiAutoCor0.4220.0080.469
DiRatio0.0060.0010.007
DiRatioPlot0.0120.0040.016
EstimateDiameterRange0.0050.0000.005
FMI0.1480.0020.164
FianlizeOptiParams000
FilterTrackedCells0.0010.0000.001
FinRes0.2060.0060.237
ForwardMigration0.3030.0030.327
GenAllCombos0.0010.0000.001
LinearConv20.0070.0010.007
LoadTiff0.0000.0000.001
MSD0.4520.0080.513
MakeHypercube000
MigrationStats0.0010.0000.001
NextOdd000
NonParallel4OptimizeParams0.0000.0000.001
NonParallelTrackLoop000
OptimizeParams0.0070.0010.008
OptimizeParamsMainLoop0.0020.0050.010
Parallel4OptimizeParams000
ParallelTrackLoop0.0010.0000.001
PerAndSpeed0.0890.0090.108
PlotTracksSeparately0.0040.0000.005
PostProcessTracking000
Prep4OptimizeParams0.0450.0100.073
ThreeConditions0.0040.0010.006
TrackCellsDataset0.0070.0020.008
TrajectoryDataset0.0100.0000.012
ValidateTrackingArgs0.0000.0000.001
VeAutoCor0.3500.0100.362
VisualizeCntr0.0000.0000.001
VisualizeImg0.0010.0010.001
VisualizeStackCentroids0.0210.0030.023
WSADataset0.0030.0000.004
aggregateFR0.2000.0030.211
aggregateTrackedCells0.0090.0020.013
bpass0.0260.0010.031
circshift000
cntrd0.2320.0090.246
fixDA0.0000.0000.001
fixExpName000
fixFM1000
fixFM2000
fixFM3000
fixFM4000
fixFM5000
fixFM6000
fixID1000
fixMSD000
fixPER1000
fixPER2000
fixPER3000
getAvailableAggrMetrics0.2920.0030.305
getCellImages0.0820.3070.394
getCellMigSlot0.1290.2070.340
getCellTrackMeta0.0070.0010.007
getCellTrackStats0.0070.0010.008
getCellTracks0.0070.0010.008
getCellsMeta0.0060.0010.008
getCellsStats0.0070.0010.008
getDACtable0.6200.0090.632
getDiRatio0.0070.0010.009
getFMItable0.1500.0030.153
getForMigtable0.2940.0040.302
getImageCentroids0.0080.0020.010
getImageStacks0.0200.0020.024
getMSDtable1.0520.0151.073
getOptimizedParameters0.0060.0010.008
getOptimizedParams0.0060.0010.008
getPerAndSpeed0.0860.0080.104
getPopulationStats0.0070.0020.010
getProcessedImages0.0750.2640.342
getProcessingStatus0.0060.0010.008
getResults0.2030.0060.212
getTracks0.0070.0010.008
getVACtable0.3260.0050.331
initializeTrackParams0.0010.0000.000
innerBondRaster000
internalPermutation0.0010.0000.001
matfix000
nontrivialBondTracking0.0000.0010.001
pkfnd0.2210.0080.229
plot3DAllTracks000
plot3DTracks000
plotAllTracks0.0060.0010.008
plotSampleTracks0.0050.0010.006
preProcCellMig0.0030.0010.003
rmPreProcessing0.0290.0010.030
runTrackingPermutation0.0010.0000.001
setAnalyticParams0.0060.0010.008
setCellMigSlot0.0100.0010.011
setCellTracks0.0060.0010.007
setCellsMeta0.0070.0010.008
setExpName0.0110.0010.011
setOptimizedParams0.0060.0010.007
setProcessedImages0.0070.0010.008
setProcessingStatus0.0060.0010.007
setTrackedCellsMeta0.0070.0010.007
setTrackedCentroids0.0060.0010.007
setTrackedPositions0.0110.0020.013
setTrackingStats0.0060.0010.007
sinkAway000
subNetworkTracking0.0000.0000.001
track0.0030.0000.003
trackHypercubeBuild0.0010.0000.000
trackSlideProcessing000
trackSlideWrapUp000
trivialBondRaster0.0010.0000.001
trivialBondTracking000
visualizeCellTracks0.0210.0030.025
visualizeTrcks0.0150.0010.016
warnMessage000
wsaPreProcessing0.0160.0010.017