Back to Multiple platform build/check report for BioC 3.22:   simplified   long
A[B]CDEFGHIJKLMNOPQRSTUVWXYZ

This page was generated on 2025-05-09 12:03 -0400 (Fri, 09 May 2025).

HostnameOSArch (*)R versionInstalled pkgs
nebbiolo2Linux (Ubuntu 24.04.1 LTS)x86_644.5.0 (2025-04-11) -- "How About a Twenty-Six" 4749
palomino8Windows Server 2022 Datacenterx644.5.0 (2025-04-11 ucrt) -- "How About a Twenty-Six" 4510
lconwaymacOS 12.7.1 Montereyx86_644.5.0 Patched (2025-04-21 r88169) -- "How About a Twenty-Six" 4548
kjohnson3macOS 13.7.1 Venturaarm644.5.0 Patched (2025-04-21 r88169) -- "How About a Twenty-Six" 4489
taishanLinux (openEuler 24.03 LTS)aarch644.5.0 (2025-04-11) -- "How About a Twenty-Six" 4449
Click on any hostname to see more info about the system (e.g. compilers)      (*) as reported by 'uname -p', except on Windows and Mac OS X

All results for package basilisk


To the developers/maintainers of the basilisk package:
- Allow up to 24 hours (and sometimes 48 hours) for your latest push to git@git.bioconductor.org:packages/basilisk.git to reflect on this report. See Troubleshooting Build Report for more information.
- Use the following Renviron settings to reproduce errors and warnings.
- If 'R CMD check' started to fail recently on the Linux builder(s) over a missing dependency, add the missing dependency to 'Suggests:' in your DESCRIPTION file. See Renviron.bioc for more information.

raw results

Package 139/2304HostnameOS / ArchINSTALLBUILDCHECKBUILD BIN
basilisk 1.21.0  (landing page)
Aaron Lun
Snapshot Date: 2025-05-08 13:00 -0400 (Thu, 08 May 2025)
git_url: https://git.bioconductor.org/packages/basilisk
git_branch: devel
git_last_commit: c0ae3c0
git_last_commit_date: 2025-04-15 11:54:33 -0400 (Tue, 15 Apr 2025)
nebbiolo2Linux (Ubuntu 24.04.1 LTS) / x86_64  OK    OK    OK  UNNEEDED, same version is already published
palomino8Windows Server 2022 Datacenter / x64  OK    OK    OK    OK  UNNEEDED, same version is already published
lconwaymacOS 12.7.1 Monterey / x86_64  OK    OK    OK    OK  UNNEEDED, same version is already published
kjohnson3macOS 13.7.1 Ventura / arm64  OK    OK    OK    OK  UNNEEDED, same version is already published
taishanLinux (openEuler 24.03 LTS) / aarch64  OK    OK    TIMEOUT  



Results for Bioconductor software packages that depend directly on package basilisk

QUICK STATSOS / ArchINSTALLBUILDCHECKBUILD BIN
nebbiolo2Linux (Ubuntu 24.04.1 LTS) / x86_64
0027
0225
00322
palomino8Windows Server 2022 Datacenter / x64
0021
0219
00316
0019
lconwaymacOS 12.7.1 Monterey / x86_64
0026
0224
00321
0024
kjohnson3macOS 13.7.1 Ventura / arm64
0026
0125
00322
0025
taishanLinux (openEuler 24.03 LTS) / aarch64
0027
1620
21215
Package 1/27HostnameOS / ArchINSTALLBUILDCHECKBUILD BIN
BiocHail 1.9.0  (landing page)
Vincent Carey
git_last_commit: 10fa0e0
git_last_commit_date: 2025-04-15 13:15:00 -0400
nebbiolo2Linux (Ubuntu 24.04.1 LTS) / x86_64  OK    ERROR  skipped
palomino8Windows Server 2022 Datacenter / x64... NOT SUPPORTED ...
lconwaymacOS 12.7.1 Monterey / x86_64... NOT SUPPORTED ...
kjohnson3macOS 13.7.1 Ventura / arm64... NOT SUPPORTED ...
taishanLinux (openEuler 24.03 LTS) / aarch64  OK    OK    TIMEOUT  
Package 2/27HostnameOS / ArchINSTALLBUILDCHECKBUILD BIN
BiocSklearn 1.31.0  (landing page)
Vince Carey
git_last_commit: 0217c91
git_last_commit_date: 2025-04-15 11:13:00 -0400
nebbiolo2Linux (Ubuntu 24.04.1 LTS) / x86_64  OK    OK    OK  UNNEEDED, same version is already published
palomino8Windows Server 2022 Datacenter / x64  OK    OK    OK    OK  UNNEEDED, same version is already published
lconwaymacOS 12.7.1 Monterey / x86_64  OK    OK    OK    OK  UNNEEDED, same version is already published
kjohnson3macOS 13.7.1 Ventura / arm64  OK    OK    OK    OK  UNNEEDED, same version is already published
taishanLinux (openEuler 24.03 LTS) / aarch64  OK    OK    TIMEOUT  
Package 3/27HostnameOS / ArchINSTALLBUILDCHECKBUILD BIN
cbpManager 1.17.0  (landing page)
Arsenij Ustjanzew
git_last_commit: 5120076
git_last_commit_date: 2025-04-15 12:29:58 -0400
nebbiolo2Linux (Ubuntu 24.04.1 LTS) / x86_64  OK    OK    WARNINGS  UNNEEDED, same version is already published
palomino8Windows Server 2022 Datacenter / x64  OK    OK    WARNINGS    OK  UNNEEDED, same version is already published
lconwaymacOS 12.7.1 Monterey / x86_64  OK    OK    WARNINGS    OK  UNNEEDED, same version is already published
kjohnson3macOS 13.7.1 Ventura / arm64  OK    OK    WARNINGS    OK  UNNEEDED, same version is already published
taishanLinux (openEuler 24.03 LTS) / aarch64  OK    OK    WARNINGS  
Package 4/27HostnameOS / ArchINSTALLBUILDCHECKBUILD BIN
cfTools 1.9.0  (landing page)
Ran Hu
git_last_commit: 9ce57ca
git_last_commit_date: 2025-04-15 13:14:16 -0400
nebbiolo2Linux (Ubuntu 24.04.1 LTS) / x86_64  OK    OK    OK  UNNEEDED, same version is already published
palomino8Windows Server 2022 Datacenter / x64  OK    ERROR  skippedskipped
lconwaymacOS 12.7.1 Monterey / x86_64  OK    OK    OK    OK  UNNEEDED, same version is already published
kjohnson3macOS 13.7.1 Ventura / arm64  OK    OK    OK    OK  UNNEEDED, same version is already published
taishanLinux (openEuler 24.03 LTS) / aarch64  OK    ERROR  skipped
Package 5/27HostnameOS / ArchINSTALLBUILDCHECKBUILD BIN
crisprScore 1.13.0  (landing page)
Jean-Philippe Fortin
git_last_commit: 0f6e423
git_last_commit_date: 2025-04-15 12:44:21 -0400
nebbiolo2Linux (Ubuntu 24.04.1 LTS) / x86_64  OK    OK    OK  UNNEEDED, same version is already published
palomino8Windows Server 2022 Datacenter / x64  OK    OK    OK    OK  UNNEEDED, same version is already published
lconwaymacOS 12.7.1 Monterey / x86_64  OK    OK    OK    OK  UNNEEDED, same version is already published
kjohnson3macOS 13.7.1 Ventura / arm64  OK    OK    OK    OK  UNNEEDED, same version is already published
taishanLinux (openEuler 24.03 LTS) / aarch64  OK    OK    OK  
Package 6/27HostnameOS / ArchINSTALLBUILDCHECKBUILD BIN
densvis 1.19.0  (landing page)
Alan O'Callaghan
git_last_commit: f9f3671
git_last_commit_date: 2025-04-15 12:13:47 -0400
nebbiolo2Linux (Ubuntu 24.04.1 LTS) / x86_64  OK    OK    OK  UNNEEDED, same version is already published
palomino8Windows Server 2022 Datacenter / x64  OK    OK    OK    OK  UNNEEDED, same version is already published
lconwaymacOS 12.7.1 Monterey / x86_64  OK    OK    OK    OK  UNNEEDED, same version is already published
kjohnson3macOS 13.7.1 Ventura / arm64  OK    OK    OK    OK  UNNEEDED, same version is already published
taishanLinux (openEuler 24.03 LTS) / aarch64  OK    OK    OK  
Package 7/27HostnameOS / ArchINSTALLBUILDCHECKBUILD BIN
DNAcycP2 1.1.0  (landing page)
Ji-Ping Wang
git_last_commit: 8f14169
git_last_commit_date: 2025-04-15 13:49:02 -0400
nebbiolo2Linux (Ubuntu 24.04.1 LTS) / x86_64  OK    OK    OK  UNNEEDED, same version is already published
palomino8Windows Server 2022 Datacenter / x64  OK    OK    OK    OK  UNNEEDED, same version is already published
lconwaymacOS 12.7.1 Monterey / x86_64  OK    OK    OK    OK  UNNEEDED, same version is already published
kjohnson3macOS 13.7.1 Ventura / arm64  OK    OK    OK    OK  UNNEEDED, same version is already published
taishanLinux (openEuler 24.03 LTS) / aarch64  OK    OK    OK  
Package 8/27HostnameOS / ArchINSTALLBUILDCHECKBUILD BIN
ELViS 1.1.0  (landing page)
Jin-Young Lee
git_last_commit: 71f3f41
git_last_commit_date: 2025-04-15 13:47:24 -0400
nebbiolo2Linux (Ubuntu 24.04.1 LTS) / x86_64  OK    OK    OK  UNNEEDED, same version is already published
palomino8Windows Server 2022 Datacenter / x64  OK    OK    OK    OK  UNNEEDED, same version is already published
lconwaymacOS 12.7.1 Monterey / x86_64  OK    OK    OK    OK  UNNEEDED, same version is already published
kjohnson3macOS 13.7.1 Ventura / arm64  OK    OK    OK    OK  UNNEEDED, same version is already published
taishanLinux (openEuler 24.03 LTS) / aarch64  OK    OK    OK  
Package 9/27HostnameOS / ArchINSTALLBUILDCHECKBUILD BIN
FLAMES 2.3.0  (landing page)
Changqing Wang
git_last_commit: a2e1e1d
git_last_commit_date: 2025-04-15 12:35:03 -0400
nebbiolo2Linux (Ubuntu 24.04.1 LTS) / x86_64  OK    OK    OK  UNNEEDED, same version is already published
palomino8Windows Server 2022 Datacenter / x64... NOT SUPPORTED ...
lconwaymacOS 12.7.1 Monterey / x86_64  OK    OK    OK    OK  UNNEEDED, same version is already published
kjohnson3macOS 13.7.1 Ventura / arm64  OK    OK    OK    OK  NO, package depends on 'DropletUtils' which is only available as a source package that needs compilation
taishanLinux (openEuler 24.03 LTS) / aarch64  OK    OK    ERROR  
Package 10/27HostnameOS / ArchINSTALLBUILDCHECKBUILD BIN
HiCool 1.9.0  (landing page)
Jacques Serizay
git_last_commit: 81fb5f7
git_last_commit_date: 2025-04-15 13:10:52 -0400
nebbiolo2Linux (Ubuntu 24.04.1 LTS) / x86_64  OK    OK    OK  UNNEEDED, same version is already published
palomino8Windows Server 2022 Datacenter / x64... NOT SUPPORTED ...
lconwaymacOS 12.7.1 Monterey / x86_64  OK    OK    OK    OK  UNNEEDED, same version is already published
kjohnson3macOS 13.7.1 Ventura / arm64  OK    ERROR  skippedskipped
taishanLinux (openEuler 24.03 LTS) / aarch64  OK    ERROR  skipped
Package 11/27HostnameOS / ArchINSTALLBUILDCHECKBUILD BIN
MACSr 1.17.0  (landing page)
Qiang Hu
git_last_commit: fe27ec5
git_last_commit_date: 2025-04-15 12:19:13 -0400
nebbiolo2Linux (Ubuntu 24.04.1 LTS) / x86_64  OK    OK    OK  UNNEEDED, same version is already published
palomino8Windows Server 2022 Datacenter / x64... NOT SUPPORTED ...
lconwaymacOS 12.7.1 Monterey / x86_64  OK    OK    OK    OK  UNNEEDED, same version is already published
kjohnson3macOS 13.7.1 Ventura / arm64  OK    OK    OK    OK  UNNEEDED, same version is already published
taishanLinux (openEuler 24.03 LTS) / aarch64  OK    OK    OK  
Package 12/27HostnameOS / ArchINSTALLBUILDCHECKBUILD BIN
MOFA2 1.19.0  (landing page)
Ricard Argelaguet
git_last_commit: b2755a0
git_last_commit_date: 2025-04-15 12:12:13 -0400
nebbiolo2Linux (Ubuntu 24.04.1 LTS) / x86_64  OK    OK    WARNINGS  UNNEEDED, same version is already published
palomino8Windows Server 2022 Datacenter / x64  OK    OK    WARNINGS    OK  UNNEEDED, same version is already published
lconwaymacOS 12.7.1 Monterey / x86_64  OK    OK    WARNINGS    OK  UNNEEDED, same version is already published
kjohnson3macOS 13.7.1 Ventura / arm64  OK    OK    WARNINGS    OK  NO, package depends on 'DelayedArray' which is only available as a source package that needs compilation
taishanLinux (openEuler 24.03 LTS) / aarch64  OK    OK    WARNINGS  
Package 13/27HostnameOS / ArchINSTALLBUILDCHECKBUILD BIN
ontoProc 2.3.0  (landing page)
Vincent Carey
git_last_commit: a344851
git_last_commit_date: 2025-04-15 11:15:40 -0400
nebbiolo2Linux (Ubuntu 24.04.1 LTS) / x86_64  OK    OK    OK  UNNEEDED, same version is already published
palomino8Windows Server 2022 Datacenter / x64  OK    OK    OK    OK  UNNEEDED, same version is already published
lconwaymacOS 12.7.1 Monterey / x86_64  OK    OK    OK    OK  UNNEEDED, same version is already published
kjohnson3macOS 13.7.1 Ventura / arm64  OK    OK    OK    OK  UNNEEDED, same version is already published
taishanLinux (openEuler 24.03 LTS) / aarch64  OK    OK    OK  
Package 14/27HostnameOS / ArchINSTALLBUILDCHECKBUILD BIN
orthos 1.7.0  (landing page)
Panagiotis Papasaikas
git_last_commit: 65cc8af
git_last_commit_date: 2025-04-15 13:18:18 -0400
nebbiolo2Linux (Ubuntu 24.04.1 LTS) / x86_64  OK    OK    OK  UNNEEDED, same version is already published
palomino8Windows Server 2022 Datacenter / x64  OK    OK    OK    OK  UNNEEDED, same version is already published
lconwaymacOS 12.7.1 Monterey / x86_64  OK    OK    OK    OK  UNNEEDED, same version is already published
kjohnson3macOS 13.7.1 Ventura / arm64  OK    OK    OK    OK  NO, package depends on 'DelayedArray' which is only available as a source package that needs compilation
taishanLinux (openEuler 24.03 LTS) / aarch64  OK    TIMEOUT  skipped
Package 15/27HostnameOS / ArchINSTALLBUILDCHECKBUILD BIN
Pirat 1.3.0  (landing page)
Samuel Wieczorek
git_last_commit: 6f7dd12
git_last_commit_date: 2025-04-15 13:36:11 -0400
nebbiolo2Linux (Ubuntu 24.04.1 LTS) / x86_64  OK    OK    OK  UNNEEDED, same version is already published
palomino8Windows Server 2022 Datacenter / x64  OK    OK    OK    OK  UNNEEDED, same version is already published
lconwaymacOS 12.7.1 Monterey / x86_64  OK    ERROR  skippedskipped
kjohnson3macOS 13.7.1 Ventura / arm64  OK    OK    OK    OK  UNNEEDED, same version is already published
taishanLinux (openEuler 24.03 LTS) / aarch64  OK    ERROR  skipped
Package 16/27HostnameOS / ArchINSTALLBUILDCHECKBUILD BIN
Rcwl 1.25.0  (landing page)
Qiang Hu
git_last_commit: c036781
git_last_commit_date: 2025-04-15 11:41:07 -0400
nebbiolo2Linux (Ubuntu 24.04.1 LTS) / x86_64  OK    OK    OK  UNNEEDED, same version is already published
palomino8Windows Server 2022 Datacenter / x64... NOT SUPPORTED ...
lconwaymacOS 12.7.1 Monterey / x86_64  OK    OK    OK    OK  UNNEEDED, same version is already published
kjohnson3macOS 13.7.1 Ventura / arm64  OK    OK    OK    OK  UNNEEDED, same version is already published
taishanLinux (openEuler 24.03 LTS) / aarch64  OK    OK    OK  
Package 17/27HostnameOS / ArchINSTALLBUILDCHECKBUILD BIN
recountmethylation 1.19.0  (landing page)
Sean K Maden
git_last_commit: 8935ee2
git_last_commit_date: 2025-04-15 12:08:00 -0400
nebbiolo2Linux (Ubuntu 24.04.1 LTS) / x86_64  OK    OK    OK  UNNEEDED, same version is already published
palomino8Windows Server 2022 Datacenter / x64  OK    OK    OK    OK  UNNEEDED, same version is already published
lconwaymacOS 12.7.1 Monterey / x86_64  OK    OK    OK    OK  UNNEEDED, same version is already published
kjohnson3macOS 13.7.1 Ventura / arm64  OK    OK    OK    OK  UNNEEDED, same version is already published
taishanLinux (openEuler 24.03 LTS) / aarch64  OK    OK    OK  
Package 18/27HostnameOS / ArchINSTALLBUILDCHECKBUILD BIN
ReUseData 1.9.0  (landing page)
Qian Liu
git_last_commit: c5927b9
git_last_commit_date: 2025-04-15 13:01:44 -0400
nebbiolo2Linux (Ubuntu 24.04.1 LTS) / x86_64  OK    OK    OK  UNNEEDED, same version is already published
palomino8Windows Server 2022 Datacenter / x64... NOT SUPPORTED ...
lconwaymacOS 12.7.1 Monterey / x86_64  OK    OK    OK    OK  UNNEEDED, same version is already published
kjohnson3macOS 13.7.1 Ventura / arm64  OK    OK    OK    OK  UNNEEDED, same version is already published
taishanLinux (openEuler 24.03 LTS) / aarch64  OK    OK    OK  
Package 19/27HostnameOS / ArchINSTALLBUILDCHECKBUILD BIN
scifer 1.11.0  (landing page)
Rodrigo Arcoverde Cerveira
git_last_commit: fc6565a
git_last_commit_date: 2025-04-15 12:56:09 -0400
nebbiolo2Linux (Ubuntu 24.04.1 LTS) / x86_64  OK    OK    OK  UNNEEDED, same version is already published
palomino8Windows Server 2022 Datacenter / x64  OK    OK    OK    OK  UNNEEDED, same version is already published
lconwaymacOS 12.7.1 Monterey / x86_64  OK    OK    OK    OK  NO, package depends on 'flowCore' which is only available as a source package that needs compilation
kjohnson3macOS 13.7.1 Ventura / arm64  OK    OK    OK    OK  NO, package depends on 'flowCore' which is only available as a source package that needs compilation
taishanLinux (openEuler 24.03 LTS) / aarch64  OK    OK    OK  
Package 20/27HostnameOS / ArchINSTALLBUILDCHECKBUILD BIN
scPipe 2.9.0  (landing page)
Shian Su
git_last_commit: f3a6ca4
git_last_commit_date: 2025-04-15 11:15:16 -0400
nebbiolo2Linux (Ubuntu 24.04.1 LTS) / x86_64  OK    OK    OK  UNNEEDED, same version is already published
palomino8Windows Server 2022 Datacenter / x64  OK    OK    OK    OK  UNNEEDED, same version is already published
lconwaymacOS 12.7.1 Monterey / x86_64  OK    OK    OK    OK  UNNEEDED, same version is already published
kjohnson3macOS 13.7.1 Ventura / arm64  OK    OK    OK    OK  NO, package depends on 'DropletUtils' which is only available as a source package that needs compilation
taishanLinux (openEuler 24.03 LTS) / aarch64  OK    OK    OK  
Package 21/27HostnameOS / ArchINSTALLBUILDCHECKBUILD BIN
scviR 1.9.7  (landing page)
Vincent Carey
git_last_commit: cb1efb2
git_last_commit_date: 2025-05-08 06:37:07 -0400
nebbiolo2Linux (Ubuntu 24.04.1 LTS) / x86_64  OK    ERROR  skipped
palomino8Windows Server 2022 Datacenter / x64  OK    ERROR  skippedskipped
lconwaymacOS 12.7.1 Monterey / x86_64  OK    ERROR  skippedskipped
kjohnson3macOS 13.7.1 Ventura / arm64  OK    OK    OK    OK  YES
taishanLinux (openEuler 24.03 LTS) / aarch64  OK    ERROR  skipped
Package 22/27HostnameOS / ArchINSTALLBUILDCHECKBUILD BIN
SimBu 1.11.0  (landing page)
Alexander Dietrich
git_last_commit: 216793c
git_last_commit_date: 2025-04-15 12:54:44 -0400
nebbiolo2Linux (Ubuntu 24.04.1 LTS) / x86_64  OK    OK    OK  UNNEEDED, same version is already published
palomino8Windows Server 2022 Datacenter / x64  OK    OK    OK    OK  UNNEEDED, same version is already published
lconwaymacOS 12.7.1 Monterey / x86_64  OK    OK    OK    OK  UNNEEDED, same version is already published
kjohnson3macOS 13.7.1 Ventura / arm64  OK    OK    OK    OK  UNNEEDED, same version is already published
taishanLinux (openEuler 24.03 LTS) / aarch64  OK    OK    OK  
Package 23/27HostnameOS / ArchINSTALLBUILDCHECKBUILD BIN
sketchR 1.5.0  (landing page)
Charlotte Soneson
git_last_commit: e6ebeee
git_last_commit_date: 2025-04-15 13:29:20 -0400
nebbiolo2Linux (Ubuntu 24.04.1 LTS) / x86_64  OK    OK    OK  UNNEEDED, same version is already published
palomino8Windows Server 2022 Datacenter / x64  OK    OK    OK    OK  UNNEEDED, same version is already published
lconwaymacOS 12.7.1 Monterey / x86_64  OK    OK    OK    OK  UNNEEDED, same version is already published
kjohnson3macOS 13.7.1 Ventura / arm64  OK    OK    OK    OK  NO, package depends on 'DelayedArray' which is only available as a source package that needs compilation
taishanLinux (openEuler 24.03 LTS) / aarch64  OK    OK    OK  
Package 24/27HostnameOS / ArchINSTALLBUILDCHECKBUILD BIN
snifter 1.19.0  (landing page)
Alan O'Callaghan
git_last_commit: 04bdacf
git_last_commit_date: 2025-04-15 12:06:36 -0400
nebbiolo2Linux (Ubuntu 24.04.1 LTS) / x86_64  OK    OK    OK  UNNEEDED, same version is already published
palomino8Windows Server 2022 Datacenter / x64  OK    OK    OK    OK  UNNEEDED, same version is already published
lconwaymacOS 12.7.1 Monterey / x86_64  OK    OK    OK    OK  UNNEEDED, same version is already published
kjohnson3macOS 13.7.1 Ventura / arm64  OK    OK    OK    OK  UNNEEDED, same version is already published
taishanLinux (openEuler 24.03 LTS) / aarch64  OK    OK    OK  
Package 25/27HostnameOS / ArchINSTALLBUILDCHECKBUILD BIN
spatialDE 1.15.1  (landing page)
Gabriele Sales
git_last_commit: 361ffda
git_last_commit_date: 2025-04-16 02:22:34 -0400
nebbiolo2Linux (Ubuntu 24.04.1 LTS) / x86_64  OK    OK    OK  UNNEEDED, same version is already published
palomino8Windows Server 2022 Datacenter / x64  OK    OK    OK    OK  UNNEEDED, same version is already published
lconwaymacOS 12.7.1 Monterey / x86_64  OK    OK    OK    OK  UNNEEDED, same version is already published
kjohnson3macOS 13.7.1 Ventura / arm64  OK    OK    OK    OK  UNNEEDED, same version is already published
taishanLinux (openEuler 24.03 LTS) / aarch64  OK    ERROR  skipped
Package 26/27HostnameOS / ArchINSTALLBUILDCHECKBUILD BIN
velociraptor 1.19.0  (landing page)
Kevin Rue-Albrecht
git_last_commit: b9dc58d
git_last_commit_date: 2025-04-15 12:09:49 -0400
nebbiolo2Linux (Ubuntu 24.04.1 LTS) / x86_64  OK    OK    WARNINGS  UNNEEDED, same version is already published
palomino8Windows Server 2022 Datacenter / x64  OK    OK    WARNINGS    OK  UNNEEDED, same version is already published
lconwaymacOS 12.7.1 Monterey / x86_64  OK    OK    WARNINGS    OK  UNNEEDED, same version is already published
kjohnson3macOS 13.7.1 Ventura / arm64  OK    OK    WARNINGS    OK  NO, package depends on 'DelayedArray' which is only available as a source package that needs compilation
taishanLinux (openEuler 24.03 LTS) / aarch64  OK    ERROR  skipped
Package 27/27HostnameOS / ArchINSTALLBUILDCHECKBUILD BIN
zellkonverter 1.19.0  (landing page)
Luke Zappia
git_last_commit: c17a172
git_last_commit_date: 2025-04-19 07:09:31 -0400
nebbiolo2Linux (Ubuntu 24.04.1 LTS) / x86_64  OK    OK    OK  UNNEEDED, same version is already published
palomino8Windows Server 2022 Datacenter / x64  OK    OK    OK    OK  UNNEEDED, same version is already published
lconwaymacOS 12.7.1 Monterey / x86_64  OK    OK    OK    OK  UNNEEDED, same version is already published
kjohnson3macOS 13.7.1 Ventura / arm64  OK    OK    OK    OK  NO, package depends on 'DelayedArray' which is only available as a source package that needs compilation
taishanLinux (openEuler 24.03 LTS) / aarch64  OK    OK    OK