Back to Multiple platform build/check report for BioC 3.22: simplified long |
|
This page was generated on 2025-10-18 12:04 -0400 (Sat, 18 Oct 2025).
Hostname | OS | Arch (*) | R version | Installed pkgs |
---|---|---|---|---|
nebbiolo2 | Linux (Ubuntu 24.04.3 LTS) | x86_64 | 4.5.1 Patched (2025-08-23 r88802) -- "Great Square Root" | 4887 |
lconway | macOS 12.7.6 Monterey | x86_64 | 4.5.1 Patched (2025-09-10 r88807) -- "Great Square Root" | 4677 |
kjohnson3 | macOS 13.7.7 Ventura | arm64 | 4.5.1 Patched (2025-09-10 r88807) -- "Great Square Root" | 4622 |
taishan | Linux (openEuler 24.03 LTS) | aarch64 | 4.5.0 (2025-04-11) -- "How About a Twenty-Six" | 4632 |
Click on any hostname to see more info about the system (e.g. compilers) (*) as reported by 'uname -p', except on Windows and Mac OS X |
Package 2070/2353 | Hostname | OS / Arch | INSTALL | BUILD | CHECK | BUILD BIN | ||||||||
spatialDE 1.15.1 (landing page) Gabriele Sales
| nebbiolo2 | Linux (Ubuntu 24.04.3 LTS) / x86_64 | OK | OK | OK | ![]() | ||||||||
lconway | macOS 12.7.6 Monterey / x86_64 | OK | OK | OK | OK | ![]() | ||||||||
kjohnson3 | macOS 13.7.7 Ventura / arm64 | OK | OK | OK | OK | ![]() | ||||||||
taishan | Linux (openEuler 24.03 LTS) / aarch64 | OK | OK | OK | ||||||||||
To the developers/maintainers of the spatialDE package: - Allow up to 24 hours (and sometimes 48 hours) for your latest push to git@git.bioconductor.org:packages/spatialDE.git to reflect on this report. See Troubleshooting Build Report for more information. - Use the following Renviron settings to reproduce errors and warnings. - If 'R CMD check' started to fail recently on the Linux builder(s) over a missing dependency, add the missing dependency to 'Suggests:' in your DESCRIPTION file. See Renviron.bioc for more information. |
Package: spatialDE |
Version: 1.15.1 |
Command: /home/biocbuild/bbs-3.22-bioc/R/bin/R CMD check --install=check:spatialDE.install-out.txt --library=/home/biocbuild/bbs-3.22-bioc/R/site-library --timings spatialDE_1.15.1.tar.gz |
StartedAt: 2025-10-18 05:03:02 -0400 (Sat, 18 Oct 2025) |
EndedAt: 2025-10-18 05:08:25 -0400 (Sat, 18 Oct 2025) |
EllapsedTime: 322.3 seconds |
RetCode: 0 |
Status: OK |
CheckDir: spatialDE.Rcheck |
Warnings: 0 |
############################################################################## ############################################################################## ### ### Running command: ### ### /home/biocbuild/bbs-3.22-bioc/R/bin/R CMD check --install=check:spatialDE.install-out.txt --library=/home/biocbuild/bbs-3.22-bioc/R/site-library --timings spatialDE_1.15.1.tar.gz ### ############################################################################## ############################################################################## * using log directory ‘/home/biocbuild/bbs-3.22-bioc/meat/spatialDE.Rcheck’ * using R version 4.5.1 Patched (2025-08-23 r88802) * using platform: x86_64-pc-linux-gnu * R was compiled by gcc (Ubuntu 13.3.0-6ubuntu2~24.04) 13.3.0 GNU Fortran (Ubuntu 13.3.0-6ubuntu2~24.04) 13.3.0 * running under: Ubuntu 24.04.3 LTS * using session charset: UTF-8 * checking for file ‘spatialDE/DESCRIPTION’ ... OK * this is package ‘spatialDE’ version ‘1.15.1’ * package encoding: UTF-8 * checking package namespace information ... OK * checking package dependencies ... OK * checking if this is a source package ... OK * checking if there is a namespace ... OK * checking for hidden files and directories ... OK * checking for portable file names ... OK * checking for sufficient/correct file permissions ... OK * checking whether package ‘spatialDE’ can be installed ... NOTE Found the following notes/warnings: Non-staged installation was used See ‘/home/biocbuild/bbs-3.22-bioc/meat/spatialDE.Rcheck/00install.out’ for details. * checking installed package size ... OK * checking package directory ... OK * checking ‘build’ directory ... OK * checking DESCRIPTION meta-information ... OK * checking top-level files ... OK * checking for left-over files ... OK * checking index information ... OK * checking package subdirectories ... OK * checking code files for non-ASCII characters ... OK * checking R files for syntax errors ... OK * checking whether the package can be loaded ... OK * checking whether the package can be loaded with stated dependencies ... OK * checking whether the package can be unloaded cleanly ... OK * checking whether the namespace can be loaded with stated dependencies ... OK * checking whether the namespace can be unloaded cleanly ... OK * checking loading without being on the library search path ... OK * checking dependencies in R code ... OK * checking S3 generic/method consistency ... OK * checking replacement functions ... OK * checking foreign function calls ... OK * checking R code for possible problems ... OK * checking Rd files ... OK * checking Rd metadata ... OK * checking Rd cross-references ... NOTE Found the following Rd file(s) with Rd \link{} targets missing package anchors: mockSVG.Rd: SpatialExperiment-class modelSearch.Rd: SpatialExperiment-class multiGenePlots.Rd: SpatialExperiment-class spatialDE.Rd: SpatialExperiment-class spatialPatterns.Rd: SpatialExperiment-class Please provide package anchors for all Rd \link{} targets not in the package itself and the base packages. * checking for missing documentation entries ... OK * checking for code/documentation mismatches ... OK * checking Rd \usage sections ... OK * checking Rd contents ... OK * checking for unstated dependencies in examples ... OK * checking contents of ‘data’ directory ... OK * checking data for non-ASCII characters ... OK * checking data for ASCII and uncompressed saves ... OK * checking line endings in shell scripts ... OK * checking files in ‘vignettes’ ... OK * checking examples ... OK Examples with CPU (user + system) or elapsed time > 5s user system elapsed spatial_patterns 12.634 6.815 9.724 * checking for unstated dependencies in ‘tests’ ... OK * checking tests ... Running ‘testthat.R’ OK * checking for unstated dependencies in vignettes ... OK * checking package vignettes ... OK * checking re-building of vignette outputs ... OK * checking PDF version of manual ... OK * DONE Status: 2 NOTEs See ‘/home/biocbuild/bbs-3.22-bioc/meat/spatialDE.Rcheck/00check.log’ for details.
spatialDE.Rcheck/00install.out
############################################################################## ############################################################################## ### ### Running command: ### ### /home/biocbuild/bbs-3.22-bioc/R/bin/R CMD INSTALL spatialDE ### ############################################################################## ############################################################################## * installing to library ‘/home/biocbuild/bbs-3.22-bioc/R/site-library’ * installing *source* package ‘spatialDE’ ... ** this is package ‘spatialDE’ version ‘1.15.1’ ** using non-staged installation via StagedInstall field ** R ** data ** inst ** byte-compile and prepare package for lazy loading ** help *** installing help indices ** building package indices ** installing vignettes ** testing if installed package can be loaded * DONE (spatialDE)
spatialDE.Rcheck/tests/testthat.Rout
R version 4.5.1 Patched (2025-08-23 r88802) -- "Great Square Root" Copyright (C) 2025 The R Foundation for Statistical Computing Platform: x86_64-pc-linux-gnu R is free software and comes with ABSOLUTELY NO WARRANTY. You are welcome to redistribute it under certain conditions. Type 'license()' or 'licence()' for distribution details. R is a collaborative project with many contributors. Type 'contributors()' for more information and 'citation()' on how to cite R or R packages in publications. Type 'demo()' for some demos, 'help()' for on-line help, or 'help.start()' for an HTML browser interface to help. Type 'q()' to quit R. > library(testthat) > library(spatialDE) > > test_check("spatialDE") Loading required package: SingleCellExperiment Loading required package: SummarizedExperiment Loading required package: MatrixGenerics Loading required package: matrixStats Attaching package: 'MatrixGenerics' The following objects are masked from 'package:matrixStats': colAlls, colAnyNAs, colAnys, colAvgsPerRowSet, colCollapse, colCounts, colCummaxs, colCummins, colCumprods, colCumsums, colDiffs, colIQRDiffs, colIQRs, colLogSumExps, colMadDiffs, colMads, colMaxs, colMeans2, colMedians, colMins, colOrderStats, colProds, colQuantiles, colRanges, colRanks, colSdDiffs, colSds, colSums2, colTabulates, colVarDiffs, colVars, colWeightedMads, colWeightedMeans, colWeightedMedians, colWeightedSds, colWeightedVars, rowAlls, rowAnyNAs, rowAnys, rowAvgsPerColSet, rowCollapse, rowCounts, rowCummaxs, rowCummins, rowCumprods, rowCumsums, rowDiffs, rowIQRDiffs, rowIQRs, rowLogSumExps, rowMadDiffs, rowMads, rowMaxs, rowMeans2, rowMedians, rowMins, rowOrderStats, rowProds, rowQuantiles, rowRanges, rowRanks, rowSdDiffs, rowSds, rowSums2, rowTabulates, rowVarDiffs, rowVars, rowWeightedMads, rowWeightedMeans, rowWeightedMedians, rowWeightedSds, rowWeightedVars Loading required package: GenomicRanges Loading required package: stats4 Loading required package: BiocGenerics Loading required package: generics Attaching package: 'generics' The following objects are masked from 'package:base': as.difftime, as.factor, as.ordered, intersect, is.element, setdiff, setequal, union Attaching package: 'BiocGenerics' The following objects are masked from 'package:stats': IQR, mad, sd, var, xtabs The following objects are masked from 'package:base': Filter, Find, Map, Position, Reduce, anyDuplicated, aperm, append, as.data.frame, basename, cbind, colnames, dirname, do.call, duplicated, eval, evalq, get, grep, grepl, is.unsorted, lapply, mapply, match, mget, order, paste, pmax, pmax.int, pmin, pmin.int, rank, rbind, rownames, sapply, saveRDS, table, tapply, unique, unsplit, which.max, which.min Loading required package: S4Vectors Attaching package: 'S4Vectors' The following object is masked from 'package:utils': findMatches The following objects are masked from 'package:base': I, expand.grid, unname Loading required package: IRanges Loading required package: Seqinfo Loading required package: Biobase Welcome to Bioconductor Vignettes contain introductory material; view with 'browseVignettes()'. To cite Bioconductor, see 'citation("Biobase")', and for packages 'citation("pkgname")'. Attaching package: 'Biobase' The following object is masked from 'package:MatrixGenerics': rowMedians The following objects are masked from 'package:matrixStats': anyMissing, rowMedians Models: 0%| | 0/10 [00:00<?, ?it/s] 0%| | 0/100 [00:00<?, ?it/s][A 53%|█████▎ | 53/100 [00:00<00:00, 522.73it/s][A [A Models: 10%|█ | 1/10 [00:00<00:01, 5.18it/s] 0%| | 0/100 [00:00<?, ?it/s][A 41%|████ | 41/100 [00:00<00:00, 404.76it/s][A 82%|████████▏ | 82/100 [00:00<00:00, 383.42it/s][A [A Models: 20%|██ | 2/10 [00:00<00:01, 4.29it/s] 0%| | 0/100 [00:00<?, ?it/s][A 37%|███▋ | 37/100 [00:00<00:00, 369.79it/s][A 74%|███████▍ | 74/100 [00:00<00:00, 354.85it/s][A [A Models: 30%|███ | 3/10 [00:00<00:01, 3.93it/s] 0%| | 0/100 [00:00<?, ?it/s][A 37%|███▋ | 37/100 [00:00<00:00, 361.47it/s][A 74%|███████▍ | 74/100 [00:00<00:00, 341.67it/s][A [A Models: 40%|████ | 4/10 [00:01<00:01, 3.72it/s] 0%| | 0/100 [00:00<?, ?it/s][A 37%|███▋ | 37/100 [00:00<00:00, 364.08it/s][A 74%|███████▍ | 74/100 [00:00<00:00, 345.53it/s][A [A Models: 50%|█████ | 5/10 [00:01<00:01, 3.62it/s] 0%| | 0/100 [00:00<?, ?it/s][A 37%|███▋ | 37/100 [00:00<00:00, 365.31it/s][A 74%|███████▍ | 74/100 [00:00<00:00, 327.30it/s][A [A Models: 60%|██████ | 6/10 [00:01<00:01, 3.51it/s] 0%| | 0/100 [00:00<?, ?it/s][A 38%|███▊ | 38/100 [00:00<00:00, 378.67it/s][A 76%|███████▌ | 76/100 [00:00<00:00, 361.54it/s][A [A Models: 70%|███████ | 7/10 [00:01<00:00, 3.53it/s] 0%| | 0/100 [00:00<?, ?it/s][A 37%|███▋ | 37/100 [00:00<00:00, 369.14it/s][A 74%|███████▍ | 74/100 [00:00<00:00, 352.55it/s][A [A Models: 80%|████████ | 8/10 [00:02<00:00, 3.53it/s] 0%| | 0/100 [00:00<?, ?it/s][A 40%|████ | 40/100 [00:00<00:00, 393.97it/s][A 80%|████████ | 80/100 [00:00<00:00, 324.87it/s][A [A Models: 90%|█████████ | 9/10 [00:02<00:00, 3.48it/s] 0%| | 0/100 [00:00<?, ?it/s][A 39%|███▉ | 39/100 [00:00<00:00, 384.47it/s][A 78%|███████▊ | 78/100 [00:00<00:00, 377.13it/s][A [A Models: 100%|██████████| 10/10 [00:02<00:00, 3.57it/s] Models: 100%|██████████| 10/10 [00:02<00:00, 3.65it/s] Models: 0%| | 0/10 [00:00<?, ?it/s] 0%| | 0/100 [00:00<?, ?it/s][A 51%|█████ | 51/100 [00:00<00:00, 507.64it/s][A [A Models: 10%|█ | 1/10 [00:00<00:01, 5.05it/s] 0%| | 0/100 [00:00<?, ?it/s][A 40%|████ | 40/100 [00:00<00:00, 399.58it/s][A 80%|████████ | 80/100 [00:00<00:00, 385.22it/s][A [A Models: 20%|██ | 2/10 [00:00<00:01, 4.22it/s] 0%| | 0/100 [00:00<?, ?it/s][A 39%|███▉ | 39/100 [00:00<00:00, 386.85it/s][A 78%|███████▊ | 78/100 [00:00<00:00, 357.69it/s][A [A Models: 30%|███ | 3/10 [00:00<00:01, 3.86it/s] 0%| | 0/100 [00:00<?, ?it/s][A 36%|███▌ | 36/100 [00:00<00:00, 359.16it/s][A 72%|███████▏ | 72/100 [00:00<00:00, 346.27it/s][A [A Models: 40%|████ | 4/10 [00:01<00:01, 3.69it/s] 0%| | 0/100 [00:00<?, ?it/s][A 37%|███▋ | 37/100 [00:00<00:00, 367.84it/s][A 74%|███████▍ | 74/100 [00:00<00:00, 348.46it/s][A [A Models: 50%|█████ | 5/10 [00:01<00:01, 3.58it/s] 0%| | 0/100 [00:00<?, ?it/s][A 37%|███▋ | 37/100 [00:00<00:00, 368.20it/s][A 74%|███████▍ | 74/100 [00:00<00:00, 352.73it/s][A [A Models: 60%|██████ | 6/10 [00:01<00:01, 3.54it/s] 0%| | 0/100 [00:00<?, ?it/s][A 38%|███▊ | 38/100 [00:00<00:00, 370.62it/s][A 76%|███████▌ | 76/100 [00:00<00:00, 348.78it/s][A [A Models: 70%|███████ | 7/10 [00:01<00:00, 3.51it/s] 0%| | 0/100 [00:00<?, ?it/s][A 38%|███▊ | 38/100 [00:00<00:00, 372.06it/s][A 76%|███████▌ | 76/100 [00:00<00:00, 358.18it/s][A [A Models: 80%|████████ | 8/10 [00:02<00:00, 3.52it/s] 0%| | 0/100 [00:00<?, ?it/s][A 38%|███▊ | 38/100 [00:00<00:00, 371.35it/s][A 76%|███████▌ | 76/100 [00:00<00:00, 355.81it/s][A [A Models: 90%|█████████ | 9/10 [00:02<00:00, 3.54it/s] 0%| | 0/100 [00:00<?, ?it/s][A 38%|███▊ | 38/100 [00:00<00:00, 379.87it/s][A 76%|███████▌ | 76/100 [00:00<00:00, 370.06it/s][A [A Models: 100%|██████████| 10/10 [00:02<00:00, 3.58it/s] Models: 100%|██████████| 10/10 [00:02<00:00, 3.65it/s] /var/cache/basilisk/1.21.5/spatialDE/1.15.1/env/lib/python3.11/site-packages/pandas/core/internals/blocks.py:351: RuntimeWarning: invalid value encountered in log result = func(self.values, **kwargs) Models: 0%| | 0/10 [00:00<?, ?it/s] 0%| | 0/100 [00:00<?, ?it/s][A 52%|█████▏ | 52/100 [00:00<00:00, 516.90it/s][A [A Models: 10%|█ | 1/10 [00:00<00:01, 5.25it/s] 0%| | 0/100 [00:00<?, ?it/s][A 43%|████▎ | 43/100 [00:00<00:00, 427.53it/s][A 86%|████████▌ | 86/100 [00:00<00:00, 405.50it/s][A [A Models: 20%|██ | 2/10 [00:00<00:01, 4.45it/s] 0%| | 0/100 [00:00<?, ?it/s][A 38%|███▊ | 38/100 [00:00<00:00, 374.49it/s][A 76%|███████▌ | 76/100 [00:00<00:00, 364.40it/s][A [A Models: 30%|███ | 3/10 [00:00<00:01, 4.03it/s] 0%| | 0/100 [00:00<?, ?it/s][A 37%|███▋ | 37/100 [00:00<00:00, 366.53it/s][A 74%|███████▍ | 74/100 [00:00<00:00, 354.29it/s][A [A Models: 40%|████ | 4/10 [00:00<00:01, 3.81it/s] 0%| | 0/100 [00:00<?, ?it/s][A 36%|███▌ | 36/100 [00:00<00:00, 357.81it/s][A 72%|███████▏ | 72/100 [00:00<00:00, 338.79it/s][A [A Models: 50%|█████ | 5/10 [00:01<00:01, 3.65it/s] 0%| | 0/100 [00:00<?, ?it/s][A 37%|███▋ | 37/100 [00:00<00:00, 362.49it/s][A 74%|███████▍ | 74/100 [00:00<00:00, 347.59it/s][A [A Models: 60%|██████ | 6/10 [00:01<00:01, 3.58it/s] 0%| | 0/100 [00:00<?, ?it/s][A 37%|███▋ | 37/100 [00:00<00:00, 365.65it/s][A 74%|███████▍ | 74/100 [00:00<00:00, 360.50it/s][A [A Models: 70%|███████ | 7/10 [00:01<00:00, 3.58it/s] 0%| | 0/100 [00:00<?, ?it/s][A 36%|███▌ | 36/100 [00:00<00:00, 352.09it/s][A 72%|███████▏ | 72/100 [00:00<00:00, 347.10it/s][A [A Models: 80%|████████ | 8/10 [00:02<00:00, 3.54it/s] 0%| | 0/100 [00:00<?, ?it/s][A 40%|████ | 40/100 [00:00<00:00, 395.13it/s][A 80%|████████ | 80/100 [00:00<00:00, 370.94it/s][A [A Models: 90%|█████████ | 9/10 [00:02<00:00, 3.58it/s] 0%| | 0/100 [00:00<?, ?it/s][A 40%|████ | 40/100 [00:00<00:00, 398.07it/s][A 80%|████████ | 80/100 [00:00<00:00, 383.73it/s][A [A Models: 100%|██████████| 10/10 [00:02<00:00, 3.66it/s] Models: 100%|██████████| 10/10 [00:02<00:00, 3.73it/s] Models: 0%| | 0/10 [00:00<?, ?it/s] 0%| | 0/100 [00:00<?, ?it/s][A 51%|█████ | 51/100 [00:00<00:00, 508.39it/s][A [A Models: 10%|█ | 1/10 [00:00<00:01, 5.23it/s] 0%| | 0/100 [00:00<?, ?it/s][A 43%|████▎ | 43/100 [00:00<00:00, 417.02it/s][A 85%|████████▌ | 85/100 [00:00<00:00, 401.48it/s][A [A Models: 20%|██ | 2/10 [00:00<00:01, 4.42it/s] 0%| | 0/100 [00:00<?, ?it/s][A 39%|███▉ | 39/100 [00:00<00:00, 389.93it/s][A 78%|███████▊ | 78/100 [00:00<00:00, 373.09it/s][A [A Models: 30%|███ | 3/10 [00:00<00:01, 4.06it/s] 0%| | 0/100 [00:00<?, ?it/s][A 37%|███▋ | 37/100 [00:00<00:00, 367.74it/s][A 74%|███████▍ | 74/100 [00:00<00:00, 360.59it/s][A [A Models: 40%|████ | 4/10 [00:00<00:01, 3.84it/s] 0%| | 0/100 [00:00<?, ?it/s][A 36%|███▌ | 36/100 [00:00<00:00, 359.53it/s][A 72%|███████▏ | 72/100 [00:00<00:00, 352.05it/s][A [A Models: 50%|█████ | 5/10 [00:01<00:01, 3.71it/s] 0%| | 0/100 [00:00<?, ?it/s][A 37%|███▋ | 37/100 [00:00<00:00, 360.22it/s][A 74%|███████▍ | 74/100 [00:00<00:00, 351.98it/s][A [A Models: 60%|██████ | 6/10 [00:01<00:01, 3.64it/s] 0%| | 0/100 [00:00<?, ?it/s][A 38%|███▊ | 38/100 [00:00<00:00, 372.66it/s][A 76%|███████▌ | 76/100 [00:00<00:00, 367.03it/s][A [A Models: 70%|███████ | 7/10 [00:01<00:00, 3.64it/s] 0%| | 0/100 [00:00<?, ?it/s][A 39%|███▉ | 39/100 [00:00<00:00, 382.81it/s][A 78%|███████▊ | 78/100 [00:00<00:00, 367.15it/s][A [A Models: 80%|████████ | 8/10 [00:02<00:00, 3.65it/s] 0%| | 0/100 [00:00<?, ?it/s][A 41%|████ | 41/100 [00:00<00:00, 400.83it/s][A 82%|████████▏ | 82/100 [00:00<00:00, 378.58it/s][A [A Models: 90%|█████████ | 9/10 [00:02<00:00, 3.69it/s] 0%| | 0/100 [00:00<?, ?it/s][A 42%|████▏ | 42/100 [00:00<00:00, 419.18it/s][A 84%|████████▍ | 84/100 [00:00<00:00, 401.14it/s][A [A Models: 100%|██████████| 10/10 [00:02<00:00, 3.78it/s] Models: 100%|██████████| 10/10 [00:02<00:00, 3.81it/s] Models: 0%| | 0/10 [00:00<?, ?it/s] 0%| | 0/100 [00:00<?, ?it/s][A 50%|█████ | 50/100 [00:00<00:00, 497.12it/s][A [A Models: 10%|█ | 1/10 [00:00<00:01, 5.14it/s] 0%| | 0/100 [00:00<?, ?it/s][A 41%|████ | 41/100 [00:00<00:00, 401.41it/s][A 82%|████████▏ | 82/100 [00:00<00:00, 378.98it/s][A [A Models: 20%|██ | 2/10 [00:00<00:01, 4.24it/s] 0%| | 0/100 [00:00<?, ?it/s][A 37%|███▋ | 37/100 [00:00<00:00, 363.30it/s][A 74%|███████▍ | 74/100 [00:00<00:00, 362.61it/s][A [A Models: 30%|███ | 3/10 [00:00<00:01, 3.90it/s] 0%| | 0/100 [00:00<?, ?it/s][A 38%|███▊ | 38/100 [00:00<00:00, 372.24it/s][A 76%|███████▌ | 76/100 [00:00<00:00, 363.99it/s][A [A Models: 40%|████ | 4/10 [00:01<00:01, 3.76it/s] 0%| | 0/100 [00:00<?, ?it/s][A 36%|███▌ | 36/100 [00:00<00:00, 350.13it/s][A 72%|███████▏ | 72/100 [00:00<00:00, 339.34it/s][A [A Models: 50%|█████ | 5/10 [00:01<00:01, 3.61it/s] 0%| | 0/100 [00:00<?, ?it/s][A 36%|███▌ | 36/100 [00:00<00:00, 354.68it/s][A 72%|███████▏ | 72/100 [00:00<00:00, 341.70it/s][A [A Models: 60%|██████ | 6/10 [00:01<00:01, 3.54it/s] 0%| | 0/100 [00:00<?, ?it/s][A 37%|███▋ | 37/100 [00:00<00:00, 360.96it/s][A 74%|███████▍ | 74/100 [00:00<00:00, 355.64it/s][A [A Models: 70%|███████ | 7/10 [00:01<00:00, 3.54it/s] 0%| | 0/100 [00:00<?, ?it/s][A 38%|███▊ | 38/100 [00:00<00:00, 371.66it/s][A 76%|███████▌ | 76/100 [00:00<00:00, 353.75it/s][A [A Models: 80%|████████ | 8/10 [00:02<00:00, 3.54it/s] 0%| | 0/100 [00:00<?, ?it/s][A 39%|███▉ | 39/100 [00:00<00:00, 389.51it/s][A 78%|███████▊ | 78/100 [00:00<00:00, 368.69it/s][A [A Models: 90%|█████████ | 9/10 [00:02<00:00, 3.59it/s] 0%| | 0/100 [00:00<?, ?it/s][A 40%|████ | 40/100 [00:00<00:00, 396.10it/s][A 80%|████████ | 80/100 [00:00<00:00, 388.15it/s][A [A Models: 100%|██████████| 10/10 [00:02<00:00, 3.67it/s] Models: 100%|██████████| 10/10 [00:02<00:00, 3.70it/s] [ FAIL 0 | WARN 0 | SKIP 0 | PASS 29 ] > > proc.time() user system elapsed 40.650 7.361 40.457
spatialDE.Rcheck/spatialDE-Ex.timings
name | user | system | elapsed | |
FSV_sig | 2.579 | 1.385 | 2.956 | |
mockSVG | 0.125 | 0.001 | 0.126 | |
modelSearch | 1.151 | 0.642 | 1.002 | |
model_search | 1.667 | 0.646 | 1.516 | |
multiGenePlots | 1.575 | 0.501 | 1.552 | |
regress_out | 0.079 | 0.002 | 0.081 | |
run | 0.566 | 0.234 | 0.469 | |
spatialDE | 0.623 | 0.307 | 0.503 | |
spatialPatterns | 0.896 | 0.616 | 0.765 | |
spatial_patterns | 12.634 | 6.815 | 9.724 | |
stabilize | 0.049 | 0.036 | 0.042 | |