Back to Multiple platform build/check report for BioC 3.21:   simplified   long
[A]BCDEFGHIJKLMNOPQRSTUVWXYZ

This page was generated on 2025-02-17 11:41 -0500 (Mon, 17 Feb 2025).

HostnameOSArch (*)R versionInstalled pkgs
nebbiolo1Linux (Ubuntu 24.04.1 LTS)x86_64R Under development (unstable) (2025-01-20 r87609) -- "Unsuffered Consequences" 4720
palomino7Windows Server 2022 Datacenterx64R Under development (unstable) (2025-01-21 r87610 ucrt) -- "Unsuffered Consequences" 4482
lconwaymacOS 12.7.1 Montereyx86_64R Under development (unstable) (2025-01-22 r87618) -- "Unsuffered Consequences" 4493
kjohnson3macOS 13.7.1 Venturaarm64R Under development (unstable) (2025-01-20 r87609) -- "Unsuffered Consequences" 4446
Click on any hostname to see more info about the system (e.g. compilers)      (*) as reported by 'uname -p', except on Windows and Mac OS X

Package 116/2295HostnameOS / ArchINSTALLBUILDCHECKBUILD BIN
autonomics 1.15.143  (landing page)
Aditya Bhagwat
Snapshot Date: 2025-02-16 13:40 -0500 (Sun, 16 Feb 2025)
git_url: https://git.bioconductor.org/packages/autonomics
git_branch: devel
git_last_commit: d6a7703
git_last_commit_date: 2025-01-28 04:51:36 -0500 (Tue, 28 Jan 2025)
nebbiolo1Linux (Ubuntu 24.04.1 LTS) / x86_64  OK    OK    OK  UNNEEDED, same version is already published
palomino7Windows Server 2022 Datacenter / x64  OK    OK    OK    OK  UNNEEDED, same version is already published
lconwaymacOS 12.7.1 Monterey / x86_64  OK    OK    OK    OK  UNNEEDED, same version is already published
kjohnson3macOS 13.7.1 Ventura / arm64  OK    OK    OK    OK  UNNEEDED, same version is already published


CHECK results for autonomics on palomino7

To the developers/maintainers of the autonomics package:
- Allow up to 24 hours (and sometimes 48 hours) for your latest push to git@git.bioconductor.org:packages/autonomics.git to reflect on this report. See Troubleshooting Build Report for more information.
- Use the following Renviron settings to reproduce errors and warnings.
- If 'R CMD check' started to fail recently on the Linux builder(s) over a missing dependency, add the missing dependency to 'Suggests:' in your DESCRIPTION file. See Renviron.bioc for more information.

raw results


Summary

Package: autonomics
Version: 1.15.143
Command: E:\biocbuild\bbs-3.21-bioc\R\bin\R.exe CMD check --no-multiarch --install=check:autonomics.install-out.txt --library=E:\biocbuild\bbs-3.21-bioc\R\library --no-vignettes --timings autonomics_1.15.143.tar.gz
StartedAt: 2025-02-16 22:36:23 -0500 (Sun, 16 Feb 2025)
EndedAt: 2025-02-16 22:56:49 -0500 (Sun, 16 Feb 2025)
EllapsedTime: 1225.5 seconds
RetCode: 0
Status:   OK  
CheckDir: autonomics.Rcheck
Warnings: 0

Command output

##############################################################################
##############################################################################
###
### Running command:
###
###   E:\biocbuild\bbs-3.21-bioc\R\bin\R.exe CMD check --no-multiarch --install=check:autonomics.install-out.txt --library=E:\biocbuild\bbs-3.21-bioc\R\library --no-vignettes --timings autonomics_1.15.143.tar.gz
###
##############################################################################
##############################################################################


* using log directory 'E:/biocbuild/bbs-3.21-bioc/meat/autonomics.Rcheck'
* using R Under development (unstable) (2025-01-21 r87610 ucrt)
* using platform: x86_64-w64-mingw32
* R was compiled by
    gcc.exe (GCC) 13.3.0
    GNU Fortran (GCC) 13.3.0
* running under: Windows Server 2022 x64 (build 20348)
* using session charset: UTF-8
* using option '--no-vignettes'
* checking for file 'autonomics/DESCRIPTION' ... OK
* checking extension type ... Package
* this is package 'autonomics' version '1.15.143'
* package encoding: UTF-8
* checking package namespace information ... OK
* checking package dependencies ... OK
* checking if this is a source package ... OK
* checking if there is a namespace ... OK
* checking for hidden files and directories ... NOTE
Found the following hidden files and directories:
  .BBSoptions
These were most likely included in error. See section 'Package
structure' in the 'Writing R Extensions' manual.
* checking for portable file names ... OK
* checking whether package 'autonomics' can be installed ... OK
* checking installed package size ... OK
* checking package directory ... OK
* checking 'build' directory ... OK
* checking DESCRIPTION meta-information ... OK
* checking top-level files ... OK
* checking for left-over files ... OK
* checking index information ... OK
* checking package subdirectories ... OK
* checking code files for non-ASCII characters ... OK
* checking R files for syntax errors ... OK
* checking whether the package can be loaded ... OK
* checking whether the package can be loaded with stated dependencies ... OK
* checking whether the package can be unloaded cleanly ... OK
* checking whether the namespace can be loaded with stated dependencies ... OK
* checking whether the namespace can be unloaded cleanly ... OK
* checking dependencies in R code ... OK
* checking S3 generic/method consistency ... OK
* checking replacement functions ... OK
* checking foreign function calls ... OK
* checking R code for possible problems ... OK
* checking Rd files ... OK
* checking Rd metadata ... OK
* checking Rd cross-references ... OK
* checking for missing documentation entries ... OK
* checking for code/documentation mismatches ... OK
* checking Rd \usage sections ... OK
* checking Rd contents ... OK
* checking for unstated dependencies in examples ... OK
* checking files in 'vignettes' ... OK
* checking examples ... OK
Examples with CPU (user + system) or elapsed time > 5s
                           user system elapsed
read_diann_proteingroups 144.77   4.42  146.12
read_rnaseq_counts        41.25   2.20   43.62
fit_linmod                38.00   0.50   38.53
rm_diann_contaminants     30.31   0.96   30.42
plot_exprs_per_coef       28.81   0.25   29.07
plot_exprs                26.82   0.29   27.13
default_formula           21.62   0.56   22.19
read_somascan             19.57   0.21   19.80
plot_summary              18.19   0.24   18.42
analyze                   17.30   0.28   17.59
read_metabolon            17.14   0.20   17.33
plot_volcano              15.64   0.25   15.89
read_fragpipe             10.69   0.25   10.82
ftype                      9.68   0.47   10.20
plot_densities             9.39   0.23    9.64
extract_coef_features      8.62   0.11    8.74
fcluster                   8.01   0.14    8.16
plot_sample_nas            7.66   0.08    7.75
reset_fit                  7.22   0.26    7.47
code                       6.53   0.11    6.66
fit_survival               6.37   0.12    6.61
plot_subgroup_points       6.18   0.09    6.28
biplot_covariates          5.92   0.17    6.13
subtract_baseline          6.01   0.08    6.09
biplot                     4.91   0.18    5.10
* checking for unstated dependencies in 'tests' ... OK
* checking tests ...
  Running 'testthat.R'
 OK
* checking for unstated dependencies in vignettes ... OK
* checking package vignettes ... OK
* checking running R code from vignettes ... SKIPPED
* checking re-building of vignette outputs ... SKIPPED
* checking PDF version of manual ... OK
* DONE

Status: 1 NOTE
See
  'E:/biocbuild/bbs-3.21-bioc/meat/autonomics.Rcheck/00check.log'
for details.


Installation output

autonomics.Rcheck/00install.out

##############################################################################
##############################################################################
###
### Running command:
###
###   E:\biocbuild\bbs-3.21-bioc\R\bin\R.exe CMD INSTALL autonomics
###
##############################################################################
##############################################################################


* installing to library 'E:/biocbuild/bbs-3.21-bioc/R/library'
* installing *source* package 'autonomics' ...
** this is package 'autonomics' version '1.15.143'
** using staged installation
** R
** inst
** byte-compile and prepare package for lazy loading
** help
*** installing help indices
** building package indices
** installing vignettes
** testing if installed package can be loaded from temporary location
** testing if installed package can be loaded from final location
** testing if installed package keeps a record of temporary installation path
* DONE (autonomics)

Tests output

autonomics.Rcheck/tests/testthat.Rout


R Under development (unstable) (2025-01-21 r87610 ucrt) -- "Unsuffered Consequences"
Copyright (C) 2025 The R Foundation for Statistical Computing
Platform: x86_64-w64-mingw32/x64

R is free software and comes with ABSOLUTELY NO WARRANTY.
You are welcome to redistribute it under certain conditions.
Type 'license()' or 'licence()' for distribution details.

R is a collaborative project with many contributors.
Type 'contributors()' for more information and
'citation()' on how to cite R or R packages in publications.

Type 'demo()' for some demos, 'help()' for on-line help, or
'help.start()' for an HTML browser interface to help.
Type 'q()' to quit R.

> library(testthat)
> library(autonomics)

Attaching package: 'autonomics'

The following objects are masked from 'package:stats':

    biplot, loadings

The following object is masked from 'package:base':

    beta

> 
> test_check("autonomics")
[ FAIL 0 | WARN 2 | SKIP 0 | PASS 158 ]

[ FAIL 0 | WARN 2 | SKIP 0 | PASS 158 ]
> 
> proc.time()
   user  system elapsed 
 180.81   11.67  204.54 

Example timings

autonomics.Rcheck/autonomics-Ex.timings

nameusersystemelapsed
AUTONOMICS_DATASETS000
COMPOUNDDISCOVERER_PATTERNS000
FITSEP000
LINMODENGINES000
MAXQUANT_PATTERNS000
SURVIVALENGINES000
TAXON_TO_ORGNAME000
TESTS000
X1.730.051.86
abstract_fit2.680.062.73
add_adjusted_pvalues0.810.030.86
add_assay_means0.420.030.45
add_facetvars2.120.142.27
add_opentargets_by_uniprot0.550.030.58
add_psp0.700.030.75
add_smiles0.630.040.65
analysis0.370.000.38
analyze17.30 0.2817.59
annotate_maxquant1.200.061.27
annotate_uniprot_rest0.080.051.91
assert_is_valid_sumexp0.530.110.64
bin0.440.000.43
biplot4.910.185.10
biplot_corrections4.220.104.33
biplot_covariates5.920.176.13
block2lme000
center1.840.021.86
code6.530.116.66
coefs0.830.080.90
collapsed_entrezg_to_symbol000
contrast_subgroup_cols0.750.050.80
count_in0.020.000.01
counts0.450.000.45
counts2cpm0.380.020.40
counts2tpm0.350.000.35
cpm0.380.010.40
create_design0.910.111.01
default_formula21.62 0.5622.19
default_geom0.490.050.53
default_sfile000
demultiplex0.010.000.02
dequantify000
dequantify_compounddiscoverer000
dot-coxph0.470.060.53
dot-merge0.010.000.02
dot-read_maxquant_proteingroups0.090.020.12
download_data000
download_gtf000
download_mcclain210.000.000.02
dt2mat000
enrichment2.380.012.39
entrezg_to_symbol000
extract_coef_features8.620.118.74
extract_rectangle0.190.050.23
fcluster8.010.148.16
fcor1.250.031.28
fdata0.780.030.81
fdr2p1.170.031.20
filter_exprs_replicated_in_some_subgroup1.060.051.11
filter_features0.660.050.70
filter_medoid0.940.010.96
filter_samples0.610.070.67
fit_linmod38.00 0.5038.53
fit_survival6.370.126.61
fitcoefs1.020.081.09
fits0.870.030.91
fix_xlgenes000
flevels0.50.00.5
fnames0.600.030.62
formula2str000
ftype 9.68 0.4710.20
fvalues0.550.010.57
fvars0.530.030.56
genome_to_orgdb000
group_by_level0.020.000.01
guess_compounddiscoverer_quantity000
guess_fitsep0.690.000.69
guess_maxquant_quantity000
guess_sep0.540.030.60
has_multiple_levels0.050.000.04
hdlproteins0.080.040.13
impute3.400.043.45
invert_subgroups0.520.030.55
is_collapsed_subset000
is_correlation_matrix0.020.000.01
is_diann_report0.340.080.53
is_fastadt0.080.000.08
is_file000
is_fraction000
is_imputed0.760.030.80
is_positive_number0.000.020.02
is_scalar_subset0.320.000.31
is_sig1.900.051.95
is_valid_formula0.060.000.06
keep_connected_blocks0.690.030.72
keep_connected_features0.580.090.67
keep_replicated_features0.720.060.80
label2index000
list2mat000
log2counts0.300.000.29
log2cpm0.390.030.43
log2diffs0.390.000.39
log2proteins0.310.020.32
log2sites0.380.020.39
log2tpm0.280.000.29
log2transform4.740.064.79
logical2factor000
make_alpha_palette0.560.080.66
make_colors0.010.000.01
make_volcano_dt0.990.011.02
map_fvalues0.550.020.56
matrix2sumexp1.050.041.09
merge_sample_file0.590.000.60
merge_sdata0.560.100.65
message_df000
model_coefs0.930.060.99
modelvar4.200.114.32
order_on_p1.280.141.43
pca3.750.173.92
pg_to_canonical000
plot_coef_densities1.610.161.76
plot_contrast_venn2.640.062.71
plot_contrastogram3.530.083.68
plot_data1.520.081.60
plot_densities9.390.239.64
plot_design0.900.020.92
plot_exprs26.82 0.2927.13
plot_exprs_per_coef28.81 0.2529.07
plot_fit_summary2.330.072.41
plot_heatmap2.530.002.53
plot_joint_density3.360.113.47
plot_matrix0.660.010.67
plot_sample_nas7.660.087.75
plot_subgroup_points6.180.096.28
plot_summary18.19 0.2418.42
plot_survival4.450.114.56
plot_venn000
plot_venn_heatmap0.030.000.03
plot_violins4.790.114.90
plot_volcano15.64 0.2515.89
preprocess_rnaseq_counts0.40.00.4
pull_columns000
read_affymetrix000
read_diann_proteingroups144.77 4.42146.12
read_fragpipe10.69 0.2510.82
read_maxquant_phosphosites1.870.001.90
read_maxquant_proteingroups1.450.051.50
read_metabolon17.14 0.2017.33
read_msigdt0.000.020.02
read_olink1.770.091.89
read_rectangles0.270.030.30
read_rnaseq_counts41.25 2.2043.62
read_salmon000
read_somascan19.57 0.2119.80
read_uniprotdt0.330.000.33
reset_fit7.220.267.47
rm_diann_contaminants30.31 0.9630.42
rm_missing_in_some_samples0.580.010.59
rm_unmatched_samples0.880.020.88
scaledlibsizes0.420.000.42
scoremat1.370.061.45
slevels0.350.030.38
snames0.530.000.53
split_extract_fixed0.670.060.73
split_samples1.360.081.44
stri_any_regex000
stri_detect_fixed_in_collapsed0.480.000.49
subgroup_matrix0.460.060.55
subtract_baseline6.010.086.09
sumexp_to_longdt1.940.062.00
sumexp_to_tsv0.610.000.61
sumexplist_to_longdt1.700.031.74
summarize_fit1.960.082.04
svalues0.360.000.36
svars0.420.010.44
systematic_nas0.710.020.72
tag_features1.090.091.19
tag_hdlproteins0.590.040.63
taxon2org000
tpm0.280.000.28
uncollapse0.020.000.01
values0.470.000.47
varlevels_dont_clash0.010.000.02
venn_detects0.540.030.56
weights0.370.010.39
write_xl0.740.050.80
zero_to_na0.010.000.01