Back to Multiple platform build/check report for BioC 3.22: simplified long |
|
This page was generated on 2025-10-04 12:05 -0400 (Sat, 04 Oct 2025).
Hostname | OS | Arch (*) | R version | Installed pkgs |
---|---|---|---|---|
nebbiolo2 | Linux (Ubuntu 24.04.3 LTS) | x86_64 | 4.5.1 Patched (2025-08-23 r88802) -- "Great Square Root" | 4853 |
lconway | macOS 12.7.1 Monterey | x86_64 | 4.5.1 Patched (2025-09-10 r88807) -- "Great Square Root" | 4640 |
kjohnson3 | macOS 13.7.7 Ventura | arm64 | 4.5.1 Patched (2025-09-10 r88807) -- "Great Square Root" | 4585 |
taishan | Linux (openEuler 24.03 LTS) | aarch64 | 4.5.0 (2025-04-11) -- "How About a Twenty-Six" | 4576 |
Click on any hostname to see more info about the system (e.g. compilers) (*) as reported by 'uname -p', except on Windows and Mac OS X |
Package 117/2341 | Hostname | OS / Arch | INSTALL | BUILD | CHECK | BUILD BIN | ||||||||
autonomics 1.17.16 (landing page) Aditya Bhagwat
| nebbiolo2 | Linux (Ubuntu 24.04.3 LTS) / x86_64 | OK | OK | OK | ![]() | ||||||||
lconway | macOS 12.7.1 Monterey / x86_64 | OK | OK | OK | OK | ![]() | ||||||||
kjohnson3 | macOS 13.7.7 Ventura / arm64 | OK | OK | OK | OK | ![]() | ||||||||
taishan | Linux (openEuler 24.03 LTS) / aarch64 | OK | OK | OK | ||||||||||
To the developers/maintainers of the autonomics package: - Allow up to 24 hours (and sometimes 48 hours) for your latest push to git@git.bioconductor.org:packages/autonomics.git to reflect on this report. See Troubleshooting Build Report for more information. - Use the following Renviron settings to reproduce errors and warnings. - If 'R CMD check' started to fail recently on the Linux builder(s) over a missing dependency, add the missing dependency to 'Suggests:' in your DESCRIPTION file. See Renviron.bioc for more information. |
Package: autonomics |
Version: 1.17.16 |
Command: /Library/Frameworks/R.framework/Resources/bin/R CMD check --install=check:autonomics.install-out.txt --library=/Library/Frameworks/R.framework/Resources/library --no-vignettes --timings autonomics_1.17.16.tar.gz |
StartedAt: 2025-10-03 18:15:16 -0400 (Fri, 03 Oct 2025) |
EndedAt: 2025-10-03 18:21:55 -0400 (Fri, 03 Oct 2025) |
EllapsedTime: 398.9 seconds |
RetCode: 0 |
Status: OK |
CheckDir: autonomics.Rcheck |
Warnings: 0 |
############################################################################## ############################################################################## ### ### Running command: ### ### /Library/Frameworks/R.framework/Resources/bin/R CMD check --install=check:autonomics.install-out.txt --library=/Library/Frameworks/R.framework/Resources/library --no-vignettes --timings autonomics_1.17.16.tar.gz ### ############################################################################## ############################################################################## * using log directory ‘/Users/biocbuild/bbs-3.22-bioc/meat/autonomics.Rcheck’ * using R version 4.5.1 Patched (2025-09-10 r88807) * using platform: aarch64-apple-darwin20 * R was compiled by Apple clang version 16.0.0 (clang-1600.0.26.6) GNU Fortran (GCC) 14.2.0 * running under: macOS Ventura 13.7.7 * using session charset: UTF-8 * using option ‘--no-vignettes’ * checking for file ‘autonomics/DESCRIPTION’ ... OK * checking extension type ... Package * this is package ‘autonomics’ version ‘1.17.16’ * package encoding: UTF-8 * checking package namespace information ... OK * checking package dependencies ... INFO Imports includes 32 non-default packages. Importing from so many packages makes the package vulnerable to any of them becoming unavailable. Move as many as possible to Suggests and use conditionally. * checking if this is a source package ... OK * checking if there is a namespace ... OK * checking for hidden files and directories ... NOTE Found the following hidden files and directories: .BBSoptions These were most likely included in error. See section ‘Package structure’ in the ‘Writing R Extensions’ manual. * checking for portable file names ... OK * checking for sufficient/correct file permissions ... OK * checking whether package ‘autonomics’ can be installed ... OK * checking installed package size ... OK * checking package directory ... OK * checking ‘build’ directory ... OK * checking DESCRIPTION meta-information ... OK * checking top-level files ... OK * checking for left-over files ... OK * checking index information ... OK * checking package subdirectories ... OK * checking code files for non-ASCII characters ... OK * checking R files for syntax errors ... OK * checking whether the package can be loaded ... OK * checking whether the package can be loaded with stated dependencies ... OK * checking whether the package can be unloaded cleanly ... OK * checking whether the namespace can be loaded with stated dependencies ... OK * checking whether the namespace can be unloaded cleanly ... OK * checking dependencies in R code ... OK * checking S3 generic/method consistency ... OK * checking replacement functions ... OK * checking foreign function calls ... OK * checking R code for possible problems ... OK * checking Rd files ... OK * checking Rd metadata ... OK * checking Rd cross-references ... NOTE Non-topic package-anchored link(s) in Rd file 'reexports.Rd': ‘[magrittr:compound]{%<>%}’ ‘[magrittr:pipe]{%>%}’ ‘[magrittr:aliases]{extract}’ See section 'Cross-references' in the 'Writing R Extensions' manual. * checking for missing documentation entries ... OK * checking for code/documentation mismatches ... OK * checking Rd \usage sections ... OK * checking Rd contents ... OK * checking for unstated dependencies in examples ... OK * checking files in ‘vignettes’ ... OK * checking examples ... OK Examples with CPU (user + system) or elapsed time > 5s user system elapsed write_xl 52.909 2.129 57.432 read_diann_proteingroups 34.161 0.929 35.579 awblinmod 12.446 0.070 12.830 read_rnaseq_counts 9.853 0.751 10.907 rm_diann_contaminants 7.702 0.228 8.092 LINMOD 7.153 0.094 7.533 default_formula 6.052 0.206 6.288 plot_exprs 5.901 0.053 6.238 plot_exprs_per_coef 5.536 0.024 5.883 * checking for unstated dependencies in ‘tests’ ... OK * checking tests ... Running ‘testthat.R’ OK * checking for unstated dependencies in vignettes ... OK * checking package vignettes ... OK * checking running R code from vignettes ... SKIPPED * checking re-building of vignette outputs ... SKIPPED * checking PDF version of manual ... OK * DONE Status: 2 NOTEs See ‘/Users/biocbuild/bbs-3.22-bioc/meat/autonomics.Rcheck/00check.log’ for details.
autonomics.Rcheck/00install.out
############################################################################## ############################################################################## ### ### Running command: ### ### /Library/Frameworks/R.framework/Resources/bin/R CMD INSTALL autonomics ### ############################################################################## ############################################################################## * installing to library ‘/Library/Frameworks/R.framework/Versions/4.5-arm64/Resources/library’ * installing *source* package ‘autonomics’ ... ** this is package ‘autonomics’ version ‘1.17.16’ ** using staged installation ** R ** inst ** byte-compile and prepare package for lazy loading Note: wrong number of arguments to 'seq_along' Note: wrong number of arguments to 'sqrt' ** help *** installing help indices ** building package indices ** installing vignettes ** testing if installed package can be loaded from temporary location ** testing if installed package can be loaded from final location ** testing if installed package keeps a record of temporary installation path * DONE (autonomics)
autonomics.Rcheck/tests/testthat.Rout
R version 4.5.1 Patched (2025-09-10 r88807) -- "Great Square Root" Copyright (C) 2025 The R Foundation for Statistical Computing Platform: aarch64-apple-darwin20 R is free software and comes with ABSOLUTELY NO WARRANTY. You are welcome to redistribute it under certain conditions. Type 'license()' or 'licence()' for distribution details. R is a collaborative project with many contributors. Type 'contributors()' for more information and 'citation()' on how to cite R or R packages in publications. Type 'demo()' for some demos, 'help()' for on-line help, or 'help.start()' for an HTML browser interface to help. Type 'q()' to quit R. > library(testthat) > library(autonomics) Attaching package: 'autonomics' The following objects are masked from 'package:stats': biplot, loadings The following object is masked from 'package:base': beta > > test_check("autonomics") [ FAIL 0 | WARN 3 | SKIP 0 | PASS 158 ] [ FAIL 0 | WARN 3 | SKIP 0 | PASS 158 ] > > proc.time() user system elapsed 53.400 3.347 58.630
autonomics.Rcheck/autonomics-Ex.timings
name | user | system | elapsed | |
AUTONOMICS_DATASETS | 0 | 0 | 0 | |
COMPOUNDDISCOVERER_PATTERNS | 0 | 0 | 0 | |
LINMOD | 7.153 | 0.094 | 7.533 | |
LINMODENGINES | 0.000 | 0.000 | 0.001 | |
MAXQUANT_PATTERNS | 0 | 0 | 0 | |
TAXON_TO_ORGNAME | 0 | 0 | 0 | |
TESTS | 0.000 | 0.000 | 0.001 | |
X | 0.343 | 0.013 | 0.357 | |
abstract_fit | 0.297 | 0.016 | 0.316 | |
add_adjusted_pvalues | 0.156 | 0.003 | 0.160 | |
add_assay_means | 0.098 | 0.001 | 0.099 | |
add_facetvars | 0.393 | 0.015 | 0.415 | |
add_opentargets_by_uniprot | 0.123 | 0.001 | 0.126 | |
add_psp | 0.152 | 0.002 | 0.157 | |
add_smiles | 0.145 | 0.012 | 0.166 | |
all_non_numeric | 0.168 | 0.000 | 0.169 | |
analysis | 0.121 | 0.002 | 0.123 | |
analyze | 3.766 | 0.050 | 3.817 | |
annotate_maxquant | 0.310 | 0.024 | 0.336 | |
annotate_uniprot_rest | 0.031 | 0.006 | 1.908 | |
assert_is_valid_sumexp | 0.222 | 0.014 | 0.236 | |
awblinmod | 12.446 | 0.070 | 12.830 | |
biplot | 1.117 | 0.021 | 1.214 | |
biplot_corrections | 1.034 | 0.018 | 1.060 | |
biplot_covariates | 2.049 | 0.021 | 2.076 | |
block2limma | 0 | 0 | 0 | |
block2lm | 0.001 | 0.000 | 0.001 | |
block2lme | 0.001 | 0.000 | 0.000 | |
block2lmer | 0.001 | 0.000 | 0.001 | |
block_has_two_levels | 0.206 | 0.016 | 0.221 | |
center | 0.559 | 0.006 | 0.567 | |
code | 1.391 | 0.015 | 1.409 | |
collapsed_entrezg_to_symbol | 0.327 | 0.019 | 0.347 | |
contrast_subgroup_cols | 0.207 | 0.015 | 0.225 | |
contrastdt | 0.180 | 0.001 | 0.180 | |
count_in | 0.000 | 0.000 | 0.001 | |
counts | 0.105 | 0.001 | 0.105 | |
counts2cpm | 0.100 | 0.001 | 0.102 | |
counts2tpm | 0.086 | 0.000 | 0.087 | |
cpm | 0.105 | 0.001 | 0.105 | |
create_design | 0.212 | 0.015 | 0.250 | |
default_formula | 6.052 | 0.206 | 6.288 | |
default_geom | 0.142 | 0.014 | 0.158 | |
default_sfile | 0.001 | 0.000 | 0.000 | |
demultiplex | 0.004 | 0.000 | 0.003 | |
densities | 0.065 | 0.001 | 0.065 | |
dequantify | 0.001 | 0.000 | 0.001 | |
dequantify_compounddiscoverer | 0 | 0 | 0 | |
dot-coxph | 0.125 | 0.009 | 0.136 | |
dot-merge | 0.008 | 0.001 | 0.009 | |
dot-read_maxquant_proteingroups | 0.046 | 0.001 | 0.048 | |
download_data | 0.000 | 0.001 | 0.000 | |
download_gtf | 0 | 0 | 0 | |
download_mcclain21 | 0.000 | 0.000 | 0.001 | |
dt2mat | 0.001 | 0.000 | 0.002 | |
enrichment | 0.333 | 0.004 | 0.346 | |
entrezg_to_symbol | 0.048 | 0.001 | 0.050 | |
explore-transforms | 2.944 | 0.017 | 3.038 | |
extract_contrast_features | 1.362 | 0.043 | 1.407 | |
extract_rectangle | 0.044 | 0.013 | 0.056 | |
factor.vars | 0.051 | 0.000 | 0.054 | |
factorize | 0.246 | 0.004 | 0.251 | |
fcluster | 2.868 | 0.016 | 2.985 | |
fcor | 0.492 | 0.010 | 0.508 | |
fdata | 0.157 | 0.003 | 0.161 | |
fdr2p | 0.285 | 0.014 | 0.304 | |
filter_exprs_replicated_in_some_subgroup | 0.300 | 0.015 | 0.323 | |
filter_features | 0.156 | 0.014 | 0.174 | |
filter_medoid | 0.156 | 0.001 | 0.168 | |
filter_samples | 0.177 | 0.015 | 0.198 | |
fit_survival | 3.221 | 0.064 | 3.321 | |
fits | 0.087 | 0.000 | 0.087 | |
fix_xlgenes | 0.000 | 0.000 | 0.001 | |
flevels | 0.117 | 0.003 | 0.120 | |
fnames | 0.129 | 0.002 | 0.131 | |
formula2str | 0 | 0 | 0 | |
ftype | 2.596 | 0.128 | 2.838 | |
fvalues | 0.121 | 0.002 | 0.123 | |
fvars | 0.118 | 0.002 | 0.137 | |
genome_to_orgdb | 0 | 0 | 0 | |
group_by_level | 0.000 | 0.001 | 0.000 | |
guess_compounddiscoverer_quantity | 0.000 | 0.000 | 0.001 | |
guess_fitsep | 0.161 | 0.001 | 0.168 | |
guess_maxquant_quantity | 0.001 | 0.000 | 0.002 | |
guess_sep | 0.142 | 0.014 | 0.160 | |
has_multiple_levels | 0.016 | 0.001 | 0.016 | |
hdlproteins | 0.020 | 0.009 | 0.033 | |
impute | 1.064 | 0.007 | 1.093 | |
invert_subgroups | 0.184 | 0.001 | 0.193 | |
is_character_matrix | 0.039 | 0.000 | 0.038 | |
is_collapsed_subset | 0 | 0 | 0 | |
is_compounddiscoverer_output | 0.022 | 0.007 | 0.061 | |
is_correlation_matrix | 0.001 | 0.000 | 0.000 | |
is_diann_report | 0.053 | 0.005 | 0.057 | |
is_fastadt | 0.02 | 0.00 | 0.02 | |
is_file | 0.000 | 0.000 | 0.001 | |
is_fraction | 0 | 0 | 0 | |
is_fragpipe_tsv | 0.045 | 0.005 | 0.047 | |
is_imputed | 0.255 | 0.004 | 0.259 | |
is_maxquant_phosphosites | 0.033 | 0.003 | 0.031 | |
is_maxquant_proteingroups | 0.030 | 0.003 | 0.027 | |
is_positive_number | 0.001 | 0.000 | 0.000 | |
is_scalar_subset | 0.092 | 0.001 | 0.093 | |
is_sig | 0.447 | 0.002 | 0.450 | |
is_valid_formula | 0.014 | 0.000 | 0.014 | |
keep_estimable_features | 0.233 | 0.014 | 0.251 | |
label2index | 0 | 0 | 0 | |
list2mat | 0.001 | 0.000 | 0.001 | |
log2counts | 0.129 | 0.000 | 0.130 | |
log2cpm | 0.087 | 0.000 | 0.088 | |
log2diffs | 0.093 | 0.001 | 0.094 | |
log2proteins | 0.091 | 0.001 | 0.092 | |
log2sites | 0.128 | 0.002 | 0.130 | |
log2tpm | 0.099 | 0.001 | 0.100 | |
log2transform | 1.570 | 0.014 | 1.609 | |
logical2factor | 0.001 | 0.000 | 0.001 | |
make_alpha_palette | 0.155 | 0.014 | 0.176 | |
make_colors | 0.004 | 0.000 | 0.005 | |
make_volcano_dt | 0.306 | 0.008 | 0.315 | |
map_fvalues | 0.115 | 0.001 | 0.117 | |
matrix2sumexp | 0.318 | 0.014 | 0.340 | |
mclust_breaks | 0.193 | 0.020 | 0.222 | |
merge_sample_file | 0.152 | 0.003 | 0.155 | |
merge_sdata | 0.209 | 0.018 | 0.245 | |
message_df | 0.001 | 0.000 | 0.001 | |
model_coefs | 0.229 | 0.013 | 0.258 | |
modelvar | 1.045 | 0.018 | 1.371 | |
object1 | 0.177 | 0.001 | 0.202 | |
order_on_p | 0.426 | 0.019 | 0.491 | |
overall_parameters | 0.008 | 0.001 | 0.008 | |
pca | 1.063 | 0.019 | 1.267 | |
pg_to_canonical | 0.001 | 0.000 | 0.001 | |
plot_coef_densities | 0.426 | 0.015 | 0.500 | |
plot_contrast_venn | 0.698 | 0.017 | 0.781 | |
plot_contrastogram | 1.009 | 0.056 | 1.181 | |
plot_data | 0.554 | 0.018 | 0.732 | |
plot_densities | 3.760 | 0.121 | 4.271 | |
plot_design | 0.217 | 0.003 | 0.250 | |
plot_detections | 2.209 | 0.011 | 2.413 | |
plot_exprs | 5.901 | 0.053 | 6.238 | |
plot_exprs_per_coef | 5.536 | 0.024 | 5.883 | |
plot_fit_summary | 0.668 | 0.018 | 0.804 | |
plot_heatmap | 0.538 | 0.003 | 0.551 | |
plot_matrix | 0.146 | 0.014 | 0.196 | |
plot_subgroup_points | 1.757 | 0.028 | 1.860 | |
plot_summary | 3.787 | 0.024 | 4.048 | |
plot_venn | 0.008 | 0.001 | 0.009 | |
plot_venn_heatmap | 0.008 | 0.000 | 0.008 | |
plot_violins | 1.481 | 0.036 | 1.585 | |
plot_volcano | 4.105 | 0.044 | 4.374 | |
plot_xy_density | 1.903 | 0.009 | 1.975 | |
preprocess_rnaseq_counts | 0.112 | 0.000 | 0.112 | |
pull_columns | 0.001 | 0.000 | 0.001 | |
pvalues_estimable | 0.014 | 0.001 | 0.015 | |
read_affymetrix | 0 | 0 | 0 | |
read_diann_proteingroups | 34.161 | 0.929 | 35.579 | |
read_fragpipe | 2.021 | 0.091 | 2.072 | |
read_maxquant_phosphosites | 0.486 | 0.008 | 0.494 | |
read_maxquant_proteingroups | 0.398 | 0.006 | 0.412 | |
read_metabolon | 3.900 | 0.052 | 4.105 | |
read_msigdt | 0.000 | 0.000 | 0.001 | |
read_olink | 0.557 | 0.025 | 0.662 | |
read_rectangles | 0.063 | 0.007 | 0.070 | |
read_rnaseq_counts | 9.853 | 0.751 | 10.907 | |
read_salmon | 0 | 0 | 0 | |
read_somascan | 4.103 | 0.009 | 4.332 | |
read_uniprotdt | 0.110 | 0.006 | 0.120 | |
reset_fit | 1.438 | 0.028 | 1.611 | |
rm_diann_contaminants | 7.702 | 0.228 | 8.092 | |
rm_missing_in_some_samples | 0.142 | 0.022 | 0.168 | |
rm_unmatched_samples | 0.191 | 0.004 | 0.195 | |
sbind | 1.194 | 0.005 | 1.208 | |
scaledlibsizes | 0.106 | 0.001 | 0.107 | |
scoremat | 0.246 | 0.021 | 0.268 | |
slevels | 0.204 | 0.037 | 0.285 | |
snames | 0.123 | 0.001 | 0.144 | |
split_extract_fixed | 0.147 | 0.018 | 0.166 | |
split_samples | 0.366 | 0.021 | 0.404 | |
stepauc | 0.094 | 0.000 | 0.096 | |
stri_any_regex | 0.000 | 0.000 | 0.001 | |
stri_detect_fixed_in_collapsed | 0.125 | 0.001 | 0.134 | |
subgroup_matrix | 0.161 | 0.024 | 0.255 | |
subtract_baseline | 1.430 | 0.018 | 1.516 | |
sumexp_to_longdt | 0.572 | 0.024 | 0.790 | |
sumexp_to_tsv | 0.139 | 0.002 | 0.147 | |
sumexplist_to_longdt | 0.465 | 0.006 | 0.530 | |
summarize_fit | 0.471 | 0.016 | 0.511 | |
survobj | 0.064 | 0.001 | 0.067 | |
svalues | 0.119 | 0.001 | 0.121 | |
svars | 0.118 | 0.001 | 0.119 | |
systematic_nas | 0.178 | 0.001 | 0.180 | |
tag_features | 0.337 | 0.008 | 0.346 | |
tag_hdlproteins | 0.162 | 0.010 | 0.172 | |
taxon2org | 0.000 | 0.000 | 0.001 | |
tpm | 0.129 | 0.001 | 0.130 | |
uncollapse | 0.009 | 0.001 | 0.010 | |
values | 0.135 | 0.003 | 0.138 | |
varlevels_dont_clash | 0.009 | 0.000 | 0.008 | |
venn_detects | 0.150 | 0.003 | 0.153 | |
weights | 0.118 | 0.001 | 0.120 | |
write_xl | 52.909 | 2.129 | 57.432 | |
zero_to_na | 0.001 | 0.001 | 0.002 | |