| Back to Multiple platform build/check report for BioC 3.22: simplified long |
|
This page was generated on 2025-10-25 12:04 -0400 (Sat, 25 Oct 2025).
| Hostname | OS | Arch (*) | R version | Installed pkgs |
|---|---|---|---|---|
| nebbiolo2 | Linux (Ubuntu 24.04.3 LTS) | x86_64 | 4.5.1 Patched (2025-08-23 r88802) -- "Great Square Root" | 4901 |
| lconway | macOS 12.7.6 Monterey | x86_64 | 4.5.1 Patched (2025-09-10 r88807) -- "Great Square Root" | 4691 |
| kjohnson3 | macOS 13.7.7 Ventura | arm64 | 4.5.1 Patched (2025-09-10 r88807) -- "Great Square Root" | 4637 |
| taishan | Linux (openEuler 24.03 LTS) | aarch64 | 4.5.0 (2025-04-11) -- "How About a Twenty-Six" | 4658 |
| Click on any hostname to see more info about the system (e.g. compilers) (*) as reported by 'uname -p', except on Windows and Mac OS X | ||||
| Package 119/2361 | Hostname | OS / Arch | INSTALL | BUILD | CHECK | BUILD BIN | ||||||||
| autonomics 1.17.16 (landing page) Aditya Bhagwat
| nebbiolo2 | Linux (Ubuntu 24.04.3 LTS) / x86_64 | OK | OK | OK | |||||||||
| lconway | macOS 12.7.6 Monterey / x86_64 | OK | OK | OK | OK | |||||||||
| kjohnson3 | macOS 13.7.7 Ventura / arm64 | OK | OK | OK | OK | |||||||||
| taishan | Linux (openEuler 24.03 LTS) / aarch64 | OK | NA | NA | ||||||||||
|
To the developers/maintainers of the autonomics package: - Allow up to 24 hours (and sometimes 48 hours) for your latest push to git@git.bioconductor.org:packages/autonomics.git to reflect on this report. See Troubleshooting Build Report for more information. - Use the following Renviron settings to reproduce errors and warnings. - If 'R CMD check' started to fail recently on the Linux builder(s) over a missing dependency, add the missing dependency to 'Suggests:' in your DESCRIPTION file. See Renviron.bioc for more information. |
| Package: autonomics |
| Version: 1.17.16 |
| Command: /Library/Frameworks/R.framework/Resources/bin/R CMD check --install=check:autonomics.install-out.txt --library=/Library/Frameworks/R.framework/Resources/library --no-vignettes --timings autonomics_1.17.16.tar.gz |
| StartedAt: 2025-10-24 19:34:06 -0400 (Fri, 24 Oct 2025) |
| EndedAt: 2025-10-24 19:57:00 -0400 (Fri, 24 Oct 2025) |
| EllapsedTime: 1373.9 seconds |
| RetCode: 0 |
| Status: OK |
| CheckDir: autonomics.Rcheck |
| Warnings: 0 |
##############################################################################
##############################################################################
###
### Running command:
###
### /Library/Frameworks/R.framework/Resources/bin/R CMD check --install=check:autonomics.install-out.txt --library=/Library/Frameworks/R.framework/Resources/library --no-vignettes --timings autonomics_1.17.16.tar.gz
###
##############################################################################
##############################################################################
* using log directory ‘/Users/biocbuild/bbs-3.22-bioc/meat/autonomics.Rcheck’
* using R version 4.5.1 Patched (2025-09-10 r88807)
* using platform: x86_64-apple-darwin20
* R was compiled by
Apple clang version 14.0.0 (clang-1400.0.29.202)
GNU Fortran (GCC) 14.2.0
* running under: macOS Monterey 12.7.6
* using session charset: UTF-8
* using option ‘--no-vignettes’
* checking for file ‘autonomics/DESCRIPTION’ ... OK
* checking extension type ... Package
* this is package ‘autonomics’ version ‘1.17.16’
* package encoding: UTF-8
* checking package namespace information ... OK
* checking package dependencies ... INFO
Imports includes 32 non-default packages.
Importing from so many packages makes the package vulnerable to any of
them becoming unavailable. Move as many as possible to Suggests and
use conditionally.
* checking if this is a source package ... OK
* checking if there is a namespace ... OK
* checking for hidden files and directories ... NOTE
Found the following hidden files and directories:
.BBSoptions
These were most likely included in error. See section ‘Package
structure’ in the ‘Writing R Extensions’ manual.
* checking for portable file names ... OK
* checking for sufficient/correct file permissions ... OK
* checking whether package ‘autonomics’ can be installed ... OK
* checking installed package size ... OK
* checking package directory ... OK
* checking ‘build’ directory ... OK
* checking DESCRIPTION meta-information ... OK
* checking top-level files ... OK
* checking for left-over files ... OK
* checking index information ... OK
* checking package subdirectories ... OK
* checking code files for non-ASCII characters ... OK
* checking R files for syntax errors ... OK
* checking whether the package can be loaded ... OK
* checking whether the package can be loaded with stated dependencies ... OK
* checking whether the package can be unloaded cleanly ... OK
* checking whether the namespace can be loaded with stated dependencies ... OK
* checking whether the namespace can be unloaded cleanly ... OK
* checking dependencies in R code ... OK
* checking S3 generic/method consistency ... OK
* checking replacement functions ... OK
* checking foreign function calls ... OK
* checking R code for possible problems ... OK
* checking Rd files ... OK
* checking Rd metadata ... OK
* checking Rd cross-references ... NOTE
Non-topic package-anchored link(s) in Rd file 'reexports.Rd':
‘[magrittr:compound]{%<>%}’ ‘[magrittr:pipe]{%>%}’
‘[magrittr:aliases]{extract}’
See section 'Cross-references' in the 'Writing R Extensions' manual.
* checking for missing documentation entries ... OK
* checking for code/documentation mismatches ... OK
* checking Rd \usage sections ... OK
* checking Rd contents ... OK
* checking for unstated dependencies in examples ... OK
* checking files in ‘vignettes’ ... OK
* checking examples ... OK
Examples with CPU (user + system) or elapsed time > 5s
user system elapsed
write_xl 173.301 8.674 231.421
read_diann_proteingroups 117.668 1.975 120.901
awblinmod 46.590 0.295 47.197
read_rnaseq_counts 34.739 3.189 38.779
LINMOD 26.177 0.322 26.623
rm_diann_contaminants 24.609 0.477 25.389
plot_exprs 23.799 0.222 24.168
plot_exprs_per_coef 21.439 0.121 21.629
default_formula 19.975 0.491 20.674
plot_volcano 16.230 0.157 16.490
read_metabolon 16.146 0.152 16.491
read_somascan 16.051 0.141 16.353
analyze 14.535 0.218 14.830
plot_summary 14.109 0.098 14.265
fit_survival 12.989 0.183 13.273
explore-transforms 12.347 0.135 12.574
fcluster 11.512 0.088 11.664
plot_densities 11.327 0.185 11.566
ftype 9.873 0.297 10.259
plot_detections 8.402 0.056 8.498
read_fragpipe 8.208 0.198 8.501
plot_xy_density 8.283 0.051 8.391
biplot_covariates 8.109 0.091 8.270
plot_subgroup_points 6.263 0.074 6.360
plot_violins 5.696 0.085 5.816
subtract_baseline 5.422 0.097 5.576
reset_fit 5.361 0.146 5.587
log2transform 5.409 0.051 5.486
code 5.357 0.082 5.514
extract_contrast_features 5.188 0.139 5.368
* checking for unstated dependencies in ‘tests’ ... OK
* checking tests ...
Running ‘testthat.R’
OK
* checking for unstated dependencies in vignettes ... OK
* checking package vignettes ... OK
* checking running R code from vignettes ... SKIPPED
* checking re-building of vignette outputs ... SKIPPED
* checking PDF version of manual ... OK
* DONE
Status: 2 NOTEs
See
‘/Users/biocbuild/bbs-3.22-bioc/meat/autonomics.Rcheck/00check.log’
for details.
autonomics.Rcheck/00install.out
############################################################################## ############################################################################## ### ### Running command: ### ### /Library/Frameworks/R.framework/Resources/bin/R CMD INSTALL autonomics ### ############################################################################## ############################################################################## * installing to library ‘/Library/Frameworks/R.framework/Versions/4.5-x86_64/Resources/library’ * installing *source* package ‘autonomics’ ... ** this is package ‘autonomics’ version ‘1.17.16’ ** using staged installation ** R ** inst ** byte-compile and prepare package for lazy loading Note: wrong number of arguments to 'seq_along' Note: wrong number of arguments to 'sqrt' ** help *** installing help indices ** building package indices ** installing vignettes ** testing if installed package can be loaded from temporary location ** testing if installed package can be loaded from final location ** testing if installed package keeps a record of temporary installation path * DONE (autonomics)
autonomics.Rcheck/tests/testthat.Rout
R version 4.5.1 Patched (2025-09-10 r88807) -- "Great Square Root"
Copyright (C) 2025 The R Foundation for Statistical Computing
Platform: x86_64-apple-darwin20
R is free software and comes with ABSOLUTELY NO WARRANTY.
You are welcome to redistribute it under certain conditions.
Type 'license()' or 'licence()' for distribution details.
R is a collaborative project with many contributors.
Type 'contributors()' for more information and
'citation()' on how to cite R or R packages in publications.
Type 'demo()' for some demos, 'help()' for on-line help, or
'help.start()' for an HTML browser interface to help.
Type 'q()' to quit R.
> library(testthat)
> library(autonomics)
Attaching package: 'autonomics'
The following objects are masked from 'package:stats':
biplot, loadings
The following object is masked from 'package:base':
beta
>
> test_check("autonomics")
[ FAIL 0 | WARN 3 | SKIP 0 | PASS 158 ]
[ FAIL 0 | WARN 3 | SKIP 0 | PASS 158 ]
>
> proc.time()
user system elapsed
150.188 10.854 203.719
autonomics.Rcheck/autonomics-Ex.timings
| name | user | system | elapsed | |
| AUTONOMICS_DATASETS | 0.000 | 0.001 | 0.000 | |
| COMPOUNDDISCOVERER_PATTERNS | 0.000 | 0.001 | 0.000 | |
| LINMOD | 26.177 | 0.322 | 26.623 | |
| LINMODENGINES | 0.000 | 0.001 | 0.000 | |
| MAXQUANT_PATTERNS | 0.000 | 0.000 | 0.001 | |
| TAXON_TO_ORGNAME | 0 | 0 | 0 | |
| TESTS | 0.000 | 0.001 | 0.000 | |
| X | 1.335 | 0.045 | 1.387 | |
| abstract_fit | 1.140 | 0.049 | 1.197 | |
| add_adjusted_pvalues | 0.623 | 0.012 | 0.640 | |
| add_assay_means | 0.385 | 0.007 | 0.395 | |
| add_facetvars | 1.649 | 0.088 | 1.764 | |
| add_opentargets_by_uniprot | 0.501 | 0.010 | 0.519 | |
| add_psp | 0.589 | 0.015 | 0.610 | |
| add_smiles | 0.496 | 0.045 | 0.546 | |
| all_non_numeric | 0.617 | 0.003 | 0.622 | |
| analysis | 0.405 | 0.007 | 0.414 | |
| analyze | 14.535 | 0.218 | 14.830 | |
| annotate_maxquant | 1.041 | 0.099 | 1.183 | |
| annotate_uniprot_rest | 0.088 | 0.012 | 2.115 | |
| assert_is_valid_sumexp | 0.742 | 0.048 | 0.798 | |
| awblinmod | 46.590 | 0.295 | 47.197 | |
| biplot | 4.413 | 0.078 | 4.530 | |
| biplot_corrections | 4.053 | 0.063 | 4.146 | |
| biplot_covariates | 8.109 | 0.091 | 8.270 | |
| block2limma | 0.002 | 0.001 | 0.003 | |
| block2lm | 0.004 | 0.000 | 0.004 | |
| block2lme | 0.003 | 0.000 | 0.003 | |
| block2lmer | 0.005 | 0.000 | 0.005 | |
| block_has_two_levels | 0.729 | 0.041 | 0.775 | |
| center | 2.089 | 0.026 | 2.130 | |
| code | 5.357 | 0.082 | 5.514 | |
| collapsed_entrezg_to_symbol | 1.054 | 0.088 | 1.164 | |
| contrast_subgroup_cols | 0.720 | 0.051 | 0.777 | |
| contrastdt | 0.664 | 0.009 | 0.677 | |
| count_in | 0.001 | 0.001 | 0.002 | |
| counts | 0.395 | 0.005 | 0.403 | |
| counts2cpm | 0.406 | 0.005 | 0.415 | |
| counts2tpm | 0.346 | 0.005 | 0.354 | |
| cpm | 0.413 | 0.007 | 0.424 | |
| create_design | 0.801 | 0.052 | 0.875 | |
| default_formula | 19.975 | 0.491 | 20.674 | |
| default_geom | 0.515 | 0.041 | 0.560 | |
| default_sfile | 0.001 | 0.000 | 0.001 | |
| demultiplex | 0.014 | 0.001 | 0.015 | |
| densities | 0.222 | 0.004 | 0.227 | |
| dequantify | 0.002 | 0.000 | 0.002 | |
| dequantify_compounddiscoverer | 0.001 | 0.001 | 0.001 | |
| dot-coxph | 0.434 | 0.046 | 0.483 | |
| dot-merge | 0.022 | 0.001 | 0.022 | |
| dot-read_maxquant_proteingroups | 0.117 | 0.007 | 0.125 | |
| download_data | 0.000 | 0.001 | 0.001 | |
| download_gtf | 0.000 | 0.001 | 0.000 | |
| download_mcclain21 | 0.001 | 0.000 | 0.001 | |
| dt2mat | 0.003 | 0.000 | 0.003 | |
| enrichment | 1.367 | 0.019 | 1.396 | |
| entrezg_to_symbol | 0.185 | 0.005 | 0.191 | |
| explore-transforms | 12.347 | 0.135 | 12.574 | |
| extract_contrast_features | 5.188 | 0.139 | 5.368 | |
| extract_rectangle | 0.147 | 0.040 | 0.190 | |
| factor.vars | 0.205 | 0.002 | 0.210 | |
| factorize | 0.931 | 0.015 | 0.950 | |
| fcluster | 11.512 | 0.088 | 11.664 | |
| fcor | 2.018 | 0.040 | 2.076 | |
| fdata | 0.666 | 0.012 | 0.682 | |
| fdr2p | 1.157 | 0.081 | 1.260 | |
| filter_exprs_replicated_in_some_subgroup | 1.195 | 0.048 | 1.254 | |
| filter_features | 0.731 | 0.069 | 0.814 | |
| filter_medoid | 0.691 | 0.005 | 0.701 | |
| filter_samples | 0.664 | 0.047 | 0.716 | |
| fit_survival | 12.989 | 0.183 | 13.273 | |
| fits | 0.347 | 0.003 | 0.352 | |
| fix_xlgenes | 0.002 | 0.000 | 0.002 | |
| flevels | 0.473 | 0.008 | 0.485 | |
| fnames | 0.571 | 0.009 | 0.583 | |
| formula2str | 0.000 | 0.000 | 0.001 | |
| ftype | 9.873 | 0.297 | 10.259 | |
| fvalues | 0.516 | 0.008 | 0.527 | |
| fvars | 0.486 | 0.009 | 0.499 | |
| genome_to_orgdb | 0.001 | 0.000 | 0.000 | |
| group_by_level | 0.001 | 0.000 | 0.002 | |
| guess_compounddiscoverer_quantity | 0.001 | 0.001 | 0.002 | |
| guess_fitsep | 0.739 | 0.008 | 0.756 | |
| guess_maxquant_quantity | 0.008 | 0.002 | 0.010 | |
| guess_sep | 0.659 | 0.066 | 0.738 | |
| has_multiple_levels | 0.072 | 0.002 | 0.076 | |
| hdlproteins | 0.054 | 0.039 | 0.096 | |
| impute | 4.326 | 0.041 | 4.395 | |
| invert_subgroups | 0.782 | 0.006 | 0.792 | |
| is_character_matrix | 0.179 | 0.001 | 0.181 | |
| is_collapsed_subset | 0.000 | 0.000 | 0.001 | |
| is_compounddiscoverer_output | 0.050 | 0.025 | 0.148 | |
| is_correlation_matrix | 0.001 | 0.000 | 0.001 | |
| is_diann_report | 0.084 | 0.012 | 0.097 | |
| is_fastadt | 0.069 | 0.002 | 0.071 | |
| is_file | 0.000 | 0.001 | 0.001 | |
| is_fraction | 0.002 | 0.001 | 0.002 | |
| is_fragpipe_tsv | 0.056 | 0.007 | 0.062 | |
| is_imputed | 0.881 | 0.008 | 0.891 | |
| is_maxquant_phosphosites | 0.064 | 0.008 | 0.073 | |
| is_maxquant_proteingroups | 0.053 | 0.006 | 0.060 | |
| is_positive_number | 0.002 | 0.001 | 0.002 | |
| is_scalar_subset | 0.365 | 0.006 | 0.375 | |
| is_sig | 1.527 | 0.012 | 1.546 | |
| is_valid_formula | 0.047 | 0.001 | 0.048 | |
| keep_estimable_features | 0.834 | 0.052 | 0.896 | |
| label2index | 0.000 | 0.000 | 0.001 | |
| list2mat | 0.001 | 0.000 | 0.001 | |
| log2counts | 0.411 | 0.004 | 0.415 | |
| log2cpm | 0.348 | 0.003 | 0.351 | |
| log2diffs | 0.335 | 0.005 | 0.342 | |
| log2proteins | 0.339 | 0.005 | 0.345 | |
| log2sites | 0.425 | 0.007 | 0.433 | |
| log2tpm | 0.352 | 0.003 | 0.356 | |
| log2transform | 5.409 | 0.051 | 5.486 | |
| logical2factor | 0.001 | 0.001 | 0.002 | |
| make_alpha_palette | 0.607 | 0.040 | 0.652 | |
| make_colors | 0.009 | 0.002 | 0.011 | |
| make_volcano_dt | 0.880 | 0.011 | 0.895 | |
| map_fvalues | 0.482 | 0.010 | 0.496 | |
| matrix2sumexp | 1.107 | 0.052 | 1.167 | |
| mclust_breaks | 1.722 | 0.142 | 1.877 | |
| merge_sample_file | 0.537 | 0.013 | 0.553 | |
| merge_sdata | 0.647 | 0.072 | 0.727 | |
| message_df | 0.003 | 0.000 | 0.003 | |
| model_coefs | 0.792 | 0.051 | 0.853 | |
| modelvar | 3.534 | 0.065 | 3.621 | |
| object1 | 0.558 | 0.003 | 0.563 | |
| order_on_p | 1.580 | 0.047 | 1.634 | |
| overall_parameters | 0.030 | 0.000 | 0.031 | |
| pca | 3.740 | 0.063 | 3.819 | |
| pg_to_canonical | 0.007 | 0.001 | 0.008 | |
| plot_coef_densities | 1.542 | 0.055 | 1.609 | |
| plot_contrast_venn | 2.444 | 0.072 | 2.532 | |
| plot_contrastogram | 3.005 | 0.115 | 3.146 | |
| plot_data | 1.832 | 0.052 | 1.891 | |
| plot_densities | 11.327 | 0.185 | 11.566 | |
| plot_design | 0.889 | 0.010 | 0.905 | |
| plot_detections | 8.402 | 0.056 | 8.498 | |
| plot_exprs | 23.799 | 0.222 | 24.168 | |
| plot_exprs_per_coef | 21.439 | 0.121 | 21.629 | |
| plot_fit_summary | 2.441 | 0.059 | 2.521 | |
| plot_heatmap | 2.153 | 0.015 | 2.176 | |
| plot_matrix | 0.542 | 0.049 | 0.595 | |
| plot_subgroup_points | 6.263 | 0.074 | 6.360 | |
| plot_summary | 14.109 | 0.098 | 14.265 | |
| plot_venn | 0.015 | 0.002 | 0.016 | |
| plot_venn_heatmap | 0.022 | 0.001 | 0.024 | |
| plot_violins | 5.696 | 0.085 | 5.816 | |
| plot_volcano | 16.230 | 0.157 | 16.490 | |
| plot_xy_density | 8.283 | 0.051 | 8.391 | |
| preprocess_rnaseq_counts | 0.400 | 0.004 | 0.405 | |
| pull_columns | 0.002 | 0.001 | 0.003 | |
| pvalues_estimable | 0.049 | 0.008 | 0.057 | |
| read_affymetrix | 0.000 | 0.001 | 0.001 | |
| read_diann_proteingroups | 117.668 | 1.975 | 120.901 | |
| read_fragpipe | 8.208 | 0.198 | 8.501 | |
| read_maxquant_phosphosites | 1.767 | 0.040 | 1.839 | |
| read_maxquant_proteingroups | 1.412 | 0.026 | 1.461 | |
| read_metabolon | 16.146 | 0.152 | 16.491 | |
| read_msigdt | 0.001 | 0.001 | 0.002 | |
| read_olink | 1.591 | 0.069 | 1.699 | |
| read_rectangles | 0.223 | 0.028 | 0.253 | |
| read_rnaseq_counts | 34.739 | 3.189 | 38.779 | |
| read_salmon | 0.000 | 0.001 | 0.001 | |
| read_somascan | 16.051 | 0.141 | 16.353 | |
| read_uniprotdt | 0.344 | 0.043 | 0.418 | |
| reset_fit | 5.361 | 0.146 | 5.587 | |
| rm_diann_contaminants | 24.609 | 0.477 | 25.389 | |
| rm_missing_in_some_samples | 0.442 | 0.045 | 0.493 | |
| rm_unmatched_samples | 0.630 | 0.031 | 0.671 | |
| sbind | 4.379 | 0.059 | 4.486 | |
| scaledlibsizes | 0.380 | 0.004 | 0.387 | |
| scoremat | 0.877 | 0.056 | 0.944 | |
| slevels | 0.463 | 0.009 | 0.476 | |
| snames | 0.433 | 0.008 | 0.445 | |
| split_extract_fixed | 0.521 | 0.046 | 0.572 | |
| split_samples | 1.222 | 0.050 | 1.285 | |
| stepauc | 0.362 | 0.005 | 0.373 | |
| stri_any_regex | 0.001 | 0.000 | 0.001 | |
| stri_detect_fixed_in_collapsed | 0.516 | 0.092 | 0.617 | |
| subgroup_matrix | 0.560 | 0.050 | 0.625 | |
| subtract_baseline | 5.422 | 0.097 | 5.576 | |
| sumexp_to_longdt | 2.022 | 0.097 | 2.135 | |
| sumexp_to_tsv | 0.477 | 0.007 | 0.487 | |
| sumexplist_to_longdt | 1.704 | 0.027 | 1.748 | |
| summarize_fit | 1.923 | 0.064 | 2.014 | |
| survobj | 0.174 | 0.001 | 0.176 | |
| svalues | 0.470 | 0.008 | 0.481 | |
| svars | 0.406 | 0.006 | 0.415 | |
| systematic_nas | 0.563 | 0.008 | 0.588 | |
| tag_features | 1.098 | 0.038 | 1.148 | |
| tag_hdlproteins | 0.576 | 0.030 | 0.610 | |
| taxon2org | 0.001 | 0.001 | 0.001 | |
| tpm | 0.460 | 0.008 | 0.472 | |
| uncollapse | 0.035 | 0.002 | 0.037 | |
| values | 0.457 | 0.011 | 0.472 | |
| varlevels_dont_clash | 0.026 | 0.001 | 0.027 | |
| venn_detects | 0.578 | 0.014 | 0.596 | |
| weights | 0.443 | 0.004 | 0.450 | |
| write_xl | 173.301 | 8.674 | 231.421 | |
| zero_to_na | 0.003 | 0.006 | 0.055 | |