Back to Multiple platform build/check report for BioC 3.22:   simplified   long
ABCDEFGHIJKLMNOPQRSTUVW[X]YZ

This page was generated on 2025-04-29 12:09 -0400 (Tue, 29 Apr 2025).

HostnameOSArch (*)R versionInstalled pkgs
nebbiolo2Linux (Ubuntu 24.04.1 LTS)x86_644.5.0 (2025-04-11) -- "How About a Twenty-Six" 4722
palomino8Windows Server 2022 Datacenterx644.5.0 (2025-04-11 ucrt) -- "How About a Twenty-Six" 4496
lconwaymacOS 12.7.1 Montereyx86_644.5.0 Patched (2025-04-21 r88169) -- "How About a Twenty-Six" 4523
kjohnson3macOS 13.7.1 Venturaarm644.5.0 Patched (2025-04-21 r88169) -- "How About a Twenty-Six" 4465
taishanLinux (openEuler 24.03 LTS)aarch644.5.0 (2025-04-11) -- "How About a Twenty-Six" 4410
Click on any hostname to see more info about the system (e.g. compilers)      (*) as reported by 'uname -p', except on Windows and Mac OS X

Package 2290/2302HostnameOS / ArchINSTALLBUILDCHECKBUILD BIN
XINA 1.27.0  (landing page)
Lang Ho Lee
Snapshot Date: 2025-04-28 13:00 -0400 (Mon, 28 Apr 2025)
git_url: https://git.bioconductor.org/packages/XINA
git_branch: devel
git_last_commit: f21a8fd
git_last_commit_date: 2025-04-15 11:36:47 -0400 (Tue, 15 Apr 2025)
nebbiolo2Linux (Ubuntu 24.04.1 LTS) / x86_64  OK    OK    OK  UNNEEDED, same version is already published
palomino8Windows Server 2022 Datacenter / x64  OK    OK    OK    OK  UNNEEDED, same version is already published
lconwaymacOS 12.7.1 Monterey / x86_64  OK    OK    OK    OK  UNNEEDED, same version is already published
kjohnson3macOS 13.7.1 Ventura / arm64  OK    TIMEOUT  skippedskipped
taishanLinux (openEuler 24.03 LTS) / aarch64  OK    OK    OK  


BUILD BIN results for XINA on lconway

To the developers/maintainers of the XINA package:
- Allow up to 24 hours (and sometimes 48 hours) for your latest push to git@git.bioconductor.org:packages/XINA.git to reflect on this report. See Troubleshooting Build Report for more information.
- Use the following Renviron settings to reproduce errors and warnings.
- If 'R CMD check' started to fail recently on the Linux builder(s) over a missing dependency, add the missing dependency to 'Suggests:' in your DESCRIPTION file. See Renviron.bioc for more information.

raw results


Summary

Package: XINA
Version: 1.27.0
Command: rm -rf XINA.buildbin-libdir && mkdir XINA.buildbin-libdir && /Users/biocbuild/BBS/utils/build-universal.sh XINA_1.27.0.tar.gz /Library/Frameworks/R.framework/Resources/bin/R XINA.buildbin-libdir
StartedAt: 2025-04-29 00:57:50 -0400 (Tue, 29 Apr 2025)
EndedAt: 2025-04-29 00:58:03 -0400 (Tue, 29 Apr 2025)
EllapsedTime: 12.7 seconds
RetCode: 0
Status:   OK  
PackageFile: XINA_1.27.0.tgz
PackageFileSize: 3.164 MiB

Command output

##############################################################################
##############################################################################
###
### Running command:
###
###   rm -rf XINA.buildbin-libdir && mkdir XINA.buildbin-libdir && /Users/biocbuild/BBS/utils/build-universal.sh XINA_1.27.0.tar.gz /Library/Frameworks/R.framework/Resources/bin/R XINA.buildbin-libdir
###
##############################################################################
##############################################################################


>>>>>>> 
>>>>>>> INSTALLATION WITH 'R CMD INSTALL --preclean --no-multiarch --library=XINA.buildbin-libdir XINA_1.27.0.tar.gz'
>>>>>>> 

* installing *source* package ‘XINA’ ...
** this is package ‘XINA’ version ‘1.27.0’
** using staged installation
** R
** data
** inst
** byte-compile and prepare package for lazy loading
** help
*** installing help indices
** building package indices
** installing vignettes
** testing if installed package can be loaded from temporary location
** testing if installed package can be loaded from final location
** testing if installed package keeps a record of temporary installation path
* DONE (XINA)