| Back to Multiple platform build/check report for BioC 3.22: simplified long |
|
This page was generated on 2025-10-23 12:04 -0400 (Thu, 23 Oct 2025).
| Hostname | OS | Arch (*) | R version | Installed pkgs |
|---|---|---|---|---|
| nebbiolo2 | Linux (Ubuntu 24.04.3 LTS) | x86_64 | 4.5.1 Patched (2025-08-23 r88802) -- "Great Square Root" | 4894 |
| lconway | macOS 12.7.6 Monterey | x86_64 | 4.5.1 Patched (2025-09-10 r88807) -- "Great Square Root" | 4684 |
| kjohnson3 | macOS 13.7.7 Ventura | arm64 | 4.5.1 Patched (2025-09-10 r88807) -- "Great Square Root" | 4629 |
| taishan | Linux (openEuler 24.03 LTS) | aarch64 | 4.5.0 (2025-04-11) -- "How About a Twenty-Six" | 4642 |
| Click on any hostname to see more info about the system (e.g. compilers) (*) as reported by 'uname -p', except on Windows and Mac OS X | ||||
| Package 1935/2355 | Hostname | OS / Arch | INSTALL | BUILD | CHECK | BUILD BIN | ||||||||
| Sconify 1.29.1 (landing page) Tyler J Burns
| nebbiolo2 | Linux (Ubuntu 24.04.3 LTS) / x86_64 | OK | OK | OK | |||||||||
| lconway | macOS 12.7.6 Monterey / x86_64 | OK | OK | OK | OK | |||||||||
| kjohnson3 | macOS 13.7.7 Ventura / arm64 | OK | OK | OK | OK | |||||||||
| taishan | Linux (openEuler 24.03 LTS) / aarch64 | OK | OK | NA | ||||||||||
|
To the developers/maintainers of the Sconify package: - Allow up to 24 hours (and sometimes 48 hours) for your latest push to git@git.bioconductor.org:packages/Sconify.git to reflect on this report. See Troubleshooting Build Report for more information. - Use the following Renviron settings to reproduce errors and warnings. - If 'R CMD check' started to fail recently on the Linux builder(s) over a missing dependency, add the missing dependency to 'Suggests:' in your DESCRIPTION file. See Renviron.bioc for more information. |
| Package: Sconify |
| Version: 1.29.1 |
| Command: /home/biocbuild/bbs-3.22-bioc/R/bin/R CMD check --install=check:Sconify.install-out.txt --library=/home/biocbuild/bbs-3.22-bioc/R/site-library --timings Sconify_1.29.1.tar.gz |
| StartedAt: 2025-10-23 04:29:27 -0400 (Thu, 23 Oct 2025) |
| EndedAt: 2025-10-23 04:31:41 -0400 (Thu, 23 Oct 2025) |
| EllapsedTime: 134.1 seconds |
| RetCode: 0 |
| Status: OK |
| CheckDir: Sconify.Rcheck |
| Warnings: 0 |
##############################################################################
##############################################################################
###
### Running command:
###
### /home/biocbuild/bbs-3.22-bioc/R/bin/R CMD check --install=check:Sconify.install-out.txt --library=/home/biocbuild/bbs-3.22-bioc/R/site-library --timings Sconify_1.29.1.tar.gz
###
##############################################################################
##############################################################################
* using log directory ‘/home/biocbuild/bbs-3.22-bioc/meat/Sconify.Rcheck’
* using R version 4.5.1 Patched (2025-08-23 r88802)
* using platform: x86_64-pc-linux-gnu
* R was compiled by
gcc (Ubuntu 13.3.0-6ubuntu2~24.04) 13.3.0
GNU Fortran (Ubuntu 13.3.0-6ubuntu2~24.04) 13.3.0
* running under: Ubuntu 24.04.3 LTS
* using session charset: UTF-8
* checking for file ‘Sconify/DESCRIPTION’ ... OK
* checking extension type ... Package
* this is package ‘Sconify’ version ‘1.29.1’
* package encoding: UTF-8
* checking package namespace information ... OK
* checking package dependencies ... OK
* checking if this is a source package ... OK
* checking if there is a namespace ... OK
* checking for hidden files and directories ... OK
* checking for portable file names ... OK
* checking for sufficient/correct file permissions ... OK
* checking whether package ‘Sconify’ can be installed ... OK
* checking installed package size ... OK
* checking package directory ... OK
* checking ‘build’ directory ... OK
* checking DESCRIPTION meta-information ... OK
* checking top-level files ... OK
* checking for left-over files ... OK
* checking index information ... OK
* checking package subdirectories ... OK
* checking code files for non-ASCII characters ... OK
* checking R files for syntax errors ... OK
* checking whether the package can be loaded ... OK
* checking whether the package can be loaded with stated dependencies ... OK
* checking whether the package can be unloaded cleanly ... OK
* checking whether the namespace can be loaded with stated dependencies ... OK
* checking whether the namespace can be unloaded cleanly ... OK
* checking loading without being on the library search path ... OK
* checking dependencies in R code ... OK
* checking S3 generic/method consistency ... OK
* checking replacement functions ... OK
* checking foreign function calls ... OK
* checking R code for possible problems ... OK
* checking Rd files ... OK
* checking Rd metadata ... OK
* checking Rd cross-references ... OK
* checking for missing documentation entries ... OK
* checking for code/documentation mismatches ... OK
* checking Rd \usage sections ... OK
* checking Rd contents ... OK
* checking for unstated dependencies in examples ... OK
* checking contents of ‘data’ directory ... OK
* checking data for non-ASCII characters ... OK
* checking LazyData ... OK
* checking data for ASCII and uncompressed saves ... OK
* checking files in ‘vignettes’ ... OK
* checking examples ... OK
Examples with CPU (user + system) or elapsed time > 5s
user system elapsed
SconeValues 12.149 0.114 12.265
* checking for unstated dependencies in ‘tests’ ... OK
* checking tests ...
Running ‘testthat.R’
OK
* checking for unstated dependencies in vignettes ... OK
* checking package vignettes ... OK
* checking re-building of vignette outputs ... OK
* checking PDF version of manual ... OK
* DONE
Status: OK
Sconify.Rcheck/00install.out
############################################################################## ############################################################################## ### ### Running command: ### ### /home/biocbuild/bbs-3.22-bioc/R/bin/R CMD INSTALL Sconify ### ############################################################################## ############################################################################## * installing to library ‘/home/biocbuild/bbs-3.22-bioc/R/site-library’ * installing *source* package ‘Sconify’ ... ** this is package ‘Sconify’ version ‘1.29.1’ ** using staged installation ** R ** data *** moving datasets to lazyload DB ** inst ** byte-compile and prepare package for lazy loading Note: wrong number of arguments to '/' Note: wrong number of arguments to 'asinh' ** help *** installing help indices ** building package indices ** installing vignettes ** testing if installed package can be loaded from temporary location ** testing if installed package can be loaded from final location ** testing if installed package keeps a record of temporary installation path * DONE (Sconify)
Sconify.Rcheck/tests/testthat.Rout
R version 4.5.1 Patched (2025-08-23 r88802) -- "Great Square Root"
Copyright (C) 2025 The R Foundation for Statistical Computing
Platform: x86_64-pc-linux-gnu
R is free software and comes with ABSOLUTELY NO WARRANTY.
You are welcome to redistribute it under certain conditions.
Type 'license()' or 'licence()' for distribution details.
R is a collaborative project with many contributors.
Type 'contributors()' for more information and
'citation()' on how to cite R or R packages in publications.
Type 'demo()' for some demos, 'help()' for on-line help, or
'help.start()' for an HTML browser interface to help.
Type 'q()' to quit R.
> library(testthat)
> library(Sconify)
>
> test_check("Sconify")
Read the 100 x 27 data matrix successfully!
OpenMP is working. 1 threads.
Using no_dims = 2, perplexity = 30.000000, and theta = 0.500000
Computing input similarities...
Building tree...
Done in 0.01 seconds (sparsity = 0.966400)!
Learning embedding...
Iteration 50: error is 50.307778 (50 iterations in 0.01 seconds)
Iteration 100: error is 50.590220 (50 iterations in 0.01 seconds)
Iteration 150: error is 50.960534 (50 iterations in 0.01 seconds)
Iteration 200: error is 51.370181 (50 iterations in 0.01 seconds)
Iteration 250: error is 49.977528 (50 iterations in 0.01 seconds)
Iteration 300: error is 1.398001 (50 iterations in 0.01 seconds)
Iteration 350: error is 0.750811 (50 iterations in 0.01 seconds)
Iteration 400: error is 0.188188 (50 iterations in 0.01 seconds)
Iteration 450: error is 0.165621 (50 iterations in 0.01 seconds)
Iteration 500: error is 0.164936 (50 iterations in 0.01 seconds)
Iteration 550: error is 0.162749 (50 iterations in 0.01 seconds)
Iteration 600: error is 0.161582 (50 iterations in 0.01 seconds)
Iteration 650: error is 0.161440 (50 iterations in 0.01 seconds)
Iteration 700: error is 0.162681 (50 iterations in 0.01 seconds)
Iteration 750: error is 0.159606 (50 iterations in 0.01 seconds)
Iteration 800: error is 0.161623 (50 iterations in 0.01 seconds)
Iteration 850: error is 0.162430 (50 iterations in 0.01 seconds)
Iteration 900: error is 0.163012 (50 iterations in 0.01 seconds)
Iteration 950: error is 0.162682 (50 iterations in 0.01 seconds)
Iteration 1000: error is 0.161946 (50 iterations in 0.01 seconds)
Fitting performed in 0.17 seconds.
Read the 1000 x 27 data matrix successfully!
OpenMP is working. 1 threads.
Using no_dims = 2, perplexity = 30.000000, and theta = 0.500000
Computing input similarities...
Building tree...
Done in 0.12 seconds (sparsity = 0.129120)!
Learning embedding...
Iteration 50: error is 66.971640 (50 iterations in 0.22 seconds)
Iteration 100: error is 60.829767 (50 iterations in 0.18 seconds)
Iteration 150: error is 60.367597 (50 iterations in 0.18 seconds)
Iteration 200: error is 60.226835 (50 iterations in 0.21 seconds)
Iteration 250: error is 60.158413 (50 iterations in 0.20 seconds)
Iteration 300: error is 1.338754 (50 iterations in 0.15 seconds)
Iteration 350: error is 1.227242 (50 iterations in 0.14 seconds)
Iteration 400: error is 1.196866 (50 iterations in 0.14 seconds)
Iteration 450: error is 1.182476 (50 iterations in 0.14 seconds)
Iteration 500: error is 1.175525 (50 iterations in 0.14 seconds)
Iteration 550: error is 1.170630 (50 iterations in 0.14 seconds)
Iteration 600: error is 1.166817 (50 iterations in 0.14 seconds)
Iteration 650: error is 1.163517 (50 iterations in 0.14 seconds)
Iteration 700: error is 1.162522 (50 iterations in 0.14 seconds)
Iteration 750: error is 1.159863 (50 iterations in 0.14 seconds)
Iteration 800: error is 1.157401 (50 iterations in 0.14 seconds)
Iteration 850: error is 1.154676 (50 iterations in 0.14 seconds)
Iteration 900: error is 1.151960 (50 iterations in 0.14 seconds)
Iteration 950: error is 1.148618 (50 iterations in 0.13 seconds)
Iteration 1000: error is 1.148353 (50 iterations in 0.13 seconds)
Fitting performed in 3.05 seconds.
[ FAIL 0 | WARN 2 | SKIP 0 | PASS 72 ]
[ FAIL 0 | WARN 2 | SKIP 0 | PASS 72 ]
>
> proc.time()
user system elapsed
18.325 0.400 18.718
Sconify.Rcheck/Sconify-Ex.timings
| name | user | system | elapsed | |
| FcsToTibble | 0.124 | 0.002 | 0.126 | |
| Fnn | 0.209 | 0.127 | 0.336 | |
| GetKnnDe | 0.075 | 0.005 | 0.080 | |
| GetMarkerNames | 0.027 | 0.006 | 0.033 | |
| ImputeTesting | 3.40 | 0.02 | 3.42 | |
| MakeHist | 0.567 | 0.015 | 0.582 | |
| MakeKnnList | 0.299 | 0.069 | 0.370 | |
| MeaningOfLife | 0 | 0 | 0 | |
| ParseMarkers | 0.196 | 0.020 | 0.216 | |
| PostProcessing | 0.066 | 0.005 | 0.071 | |
| ProcessMultipleFiles | 0.095 | 0.007 | 0.102 | |
| QuantNormalizeElements | 0.166 | 0.002 | 0.169 | |
| SconeValues | 12.149 | 0.114 | 12.265 | |
| SplitFile | 0.124 | 0.004 | 0.129 | |
| StringToNumbers | 0.000 | 0.000 | 0.001 | |
| SubsampleAndTsne | 1.732 | 0.006 | 1.738 | |
| TsneVis | 0.191 | 0.012 | 0.203 | |