| Back to Multiple platform build/check report for BioC 3.22: simplified long |
|
This page was generated on 2025-10-23 12:07 -0400 (Thu, 23 Oct 2025).
| Hostname | OS | Arch (*) | R version | Installed pkgs |
|---|---|---|---|---|
| nebbiolo2 | Linux (Ubuntu 24.04.3 LTS) | x86_64 | 4.5.1 Patched (2025-08-23 r88802) -- "Great Square Root" | 4894 |
| lconway | macOS 12.7.6 Monterey | x86_64 | 4.5.1 Patched (2025-09-10 r88807) -- "Great Square Root" | 4684 |
| kjohnson3 | macOS 13.7.7 Ventura | arm64 | 4.5.1 Patched (2025-09-10 r88807) -- "Great Square Root" | 4629 |
| taishan | Linux (openEuler 24.03 LTS) | aarch64 | 4.5.0 (2025-04-11) -- "How About a Twenty-Six" | 4642 |
| Click on any hostname to see more info about the system (e.g. compilers) (*) as reported by 'uname -p', except on Windows and Mac OS X | ||||
| Package 1935/2355 | Hostname | OS / Arch | INSTALL | BUILD | CHECK | BUILD BIN | ||||||||
| Sconify 1.29.1 (landing page) Tyler J Burns
| nebbiolo2 | Linux (Ubuntu 24.04.3 LTS) / x86_64 | OK | OK | OK | |||||||||
| lconway | macOS 12.7.6 Monterey / x86_64 | OK | OK | OK | OK | |||||||||
| kjohnson3 | macOS 13.7.7 Ventura / arm64 | OK | OK | OK | OK | |||||||||
| taishan | Linux (openEuler 24.03 LTS) / aarch64 | OK | OK | NA | ||||||||||
|
To the developers/maintainers of the Sconify package: - Allow up to 24 hours (and sometimes 48 hours) for your latest push to git@git.bioconductor.org:packages/Sconify.git to reflect on this report. See Troubleshooting Build Report for more information. - Use the following Renviron settings to reproduce errors and warnings. - If 'R CMD check' started to fail recently on the Linux builder(s) over a missing dependency, add the missing dependency to 'Suggests:' in your DESCRIPTION file. See Renviron.bioc for more information. |
| Package: Sconify |
| Version: 1.29.1 |
| Command: /Library/Frameworks/R.framework/Resources/bin/R CMD check --install=check:Sconify.install-out.txt --library=/Library/Frameworks/R.framework/Resources/library --no-vignettes --timings Sconify_1.29.1.tar.gz |
| StartedAt: 2025-10-22 21:55:26 -0400 (Wed, 22 Oct 2025) |
| EndedAt: 2025-10-22 21:56:08 -0400 (Wed, 22 Oct 2025) |
| EllapsedTime: 42.5 seconds |
| RetCode: 0 |
| Status: OK |
| CheckDir: Sconify.Rcheck |
| Warnings: 0 |
##############################################################################
##############################################################################
###
### Running command:
###
### /Library/Frameworks/R.framework/Resources/bin/R CMD check --install=check:Sconify.install-out.txt --library=/Library/Frameworks/R.framework/Resources/library --no-vignettes --timings Sconify_1.29.1.tar.gz
###
##############################################################################
##############################################################################
* using log directory ‘/Users/biocbuild/bbs-3.22-bioc/meat/Sconify.Rcheck’
* using R version 4.5.1 Patched (2025-09-10 r88807)
* using platform: aarch64-apple-darwin20
* R was compiled by
Apple clang version 16.0.0 (clang-1600.0.26.6)
GNU Fortran (GCC) 14.2.0
* running under: macOS Ventura 13.7.7
* using session charset: UTF-8
* using option ‘--no-vignettes’
* checking for file ‘Sconify/DESCRIPTION’ ... OK
* checking extension type ... Package
* this is package ‘Sconify’ version ‘1.29.1’
* package encoding: UTF-8
* checking package namespace information ... OK
* checking package dependencies ... OK
* checking if this is a source package ... OK
* checking if there is a namespace ... OK
* checking for hidden files and directories ... OK
* checking for portable file names ... OK
* checking for sufficient/correct file permissions ... OK
* checking whether package ‘Sconify’ can be installed ... OK
* checking installed package size ... OK
* checking package directory ... OK
* checking ‘build’ directory ... OK
* checking DESCRIPTION meta-information ... OK
* checking top-level files ... OK
* checking for left-over files ... OK
* checking index information ... OK
* checking package subdirectories ... OK
* checking code files for non-ASCII characters ... OK
* checking R files for syntax errors ... OK
* checking whether the package can be loaded ... OK
* checking whether the package can be loaded with stated dependencies ... OK
* checking whether the package can be unloaded cleanly ... OK
* checking whether the namespace can be loaded with stated dependencies ... OK
* checking whether the namespace can be unloaded cleanly ... OK
* checking dependencies in R code ... OK
* checking S3 generic/method consistency ... OK
* checking replacement functions ... OK
* checking foreign function calls ... OK
* checking R code for possible problems ... OK
* checking Rd files ... OK
* checking Rd metadata ... OK
* checking Rd cross-references ... OK
* checking for missing documentation entries ... OK
* checking for code/documentation mismatches ... OK
* checking Rd \usage sections ... OK
* checking Rd contents ... OK
* checking for unstated dependencies in examples ... OK
* checking contents of ‘data’ directory ... OK
* checking data for non-ASCII characters ... OK
* checking LazyData ... OK
* checking data for ASCII and uncompressed saves ... OK
* checking files in ‘vignettes’ ... OK
* checking examples ... OK
* checking for unstated dependencies in ‘tests’ ... OK
* checking tests ...
Running ‘testthat.R’
OK
* checking for unstated dependencies in vignettes ... OK
* checking package vignettes ... OK
* checking running R code from vignettes ... SKIPPED
* checking re-building of vignette outputs ... SKIPPED
* checking PDF version of manual ... OK
* DONE
Status: OK
Sconify.Rcheck/00install.out
############################################################################## ############################################################################## ### ### Running command: ### ### /Library/Frameworks/R.framework/Resources/bin/R CMD INSTALL Sconify ### ############################################################################## ############################################################################## * installing to library ‘/Library/Frameworks/R.framework/Versions/4.5-arm64/Resources/library’ * installing *source* package ‘Sconify’ ... ** this is package ‘Sconify’ version ‘1.29.1’ ** using staged installation ** R ** data *** moving datasets to lazyload DB ** inst ** byte-compile and prepare package for lazy loading Note: wrong number of arguments to '/' Note: wrong number of arguments to 'asinh' ** help *** installing help indices ** building package indices ** installing vignettes ** testing if installed package can be loaded from temporary location ** testing if installed package can be loaded from final location ** testing if installed package keeps a record of temporary installation path * DONE (Sconify)
Sconify.Rcheck/tests/testthat.Rout
R version 4.5.1 Patched (2025-09-10 r88807) -- "Great Square Root"
Copyright (C) 2025 The R Foundation for Statistical Computing
Platform: aarch64-apple-darwin20
R is free software and comes with ABSOLUTELY NO WARRANTY.
You are welcome to redistribute it under certain conditions.
Type 'license()' or 'licence()' for distribution details.
R is a collaborative project with many contributors.
Type 'contributors()' for more information and
'citation()' on how to cite R or R packages in publications.
Type 'demo()' for some demos, 'help()' for on-line help, or
'help.start()' for an HTML browser interface to help.
Type 'q()' to quit R.
> library(testthat)
> library(Sconify)
>
> test_check("Sconify")
Read the 100 x 27 data matrix successfully!
Using no_dims = 2, perplexity = 30.000000, and theta = 0.500000
Computing input similarities...
Building tree...
Done in 0.00 seconds (sparsity = 0.968600)!
Learning embedding...
Iteration 50: error is 55.027374 (50 iterations in 0.00 seconds)
Iteration 100: error is 52.490537 (50 iterations in 0.01 seconds)
Iteration 150: error is 57.149107 (50 iterations in 0.01 seconds)
Iteration 200: error is 57.577091 (50 iterations in 0.01 seconds)
Iteration 250: error is 52.379405 (50 iterations in 0.01 seconds)
Iteration 300: error is 1.171398 (50 iterations in 0.00 seconds)
Iteration 350: error is 0.614723 (50 iterations in 0.00 seconds)
Iteration 400: error is 0.255557 (50 iterations in 0.00 seconds)
Iteration 450: error is 0.247568 (50 iterations in 0.00 seconds)
Iteration 500: error is 0.250492 (50 iterations in 0.00 seconds)
Iteration 550: error is 0.252437 (50 iterations in 0.00 seconds)
Iteration 600: error is 0.255386 (50 iterations in 0.00 seconds)
Iteration 650: error is 0.250626 (50 iterations in 0.00 seconds)
Iteration 700: error is 0.250090 (50 iterations in 0.00 seconds)
Iteration 750: error is 0.247631 (50 iterations in 0.00 seconds)
Iteration 800: error is 0.248098 (50 iterations in 0.00 seconds)
Iteration 850: error is 0.248484 (50 iterations in 0.00 seconds)
Iteration 900: error is 0.241544 (50 iterations in 0.00 seconds)
Iteration 950: error is 0.221295 (50 iterations in 0.00 seconds)
Iteration 1000: error is 0.219298 (50 iterations in 0.00 seconds)
Fitting performed in 0.08 seconds.
Read the 1000 x 27 data matrix successfully!
Using no_dims = 2, perplexity = 30.000000, and theta = 0.500000
Computing input similarities...
Building tree...
Done in 0.05 seconds (sparsity = 0.129120)!
Learning embedding...
Iteration 50: error is 64.766357 (50 iterations in 0.09 seconds)
Iteration 100: error is 60.672270 (50 iterations in 0.07 seconds)
Iteration 150: error is 60.299106 (50 iterations in 0.07 seconds)
Iteration 200: error is 60.173025 (50 iterations in 0.08 seconds)
Iteration 250: error is 60.116494 (50 iterations in 0.08 seconds)
Iteration 300: error is 1.332766 (50 iterations in 0.06 seconds)
Iteration 350: error is 1.230040 (50 iterations in 0.06 seconds)
Iteration 400: error is 1.203327 (50 iterations in 0.06 seconds)
Iteration 450: error is 1.187835 (50 iterations in 0.06 seconds)
Iteration 500: error is 1.176940 (50 iterations in 0.06 seconds)
Iteration 550: error is 1.167937 (50 iterations in 0.06 seconds)
Iteration 600: error is 1.161987 (50 iterations in 0.06 seconds)
Iteration 650: error is 1.158153 (50 iterations in 0.06 seconds)
Iteration 700: error is 1.155727 (50 iterations in 0.06 seconds)
Iteration 750: error is 1.152863 (50 iterations in 0.06 seconds)
Iteration 800: error is 1.150135 (50 iterations in 0.06 seconds)
Iteration 850: error is 1.148488 (50 iterations in 0.06 seconds)
Iteration 900: error is 1.146724 (50 iterations in 0.07 seconds)
Iteration 950: error is 1.145297 (50 iterations in 0.06 seconds)
Iteration 1000: error is 1.143937 (50 iterations in 0.06 seconds)
Fitting performed in 1.32 seconds.
[ FAIL 0 | WARN 2 | SKIP 0 | PASS 72 ]
[ FAIL 0 | WARN 2 | SKIP 0 | PASS 72 ]
>
> proc.time()
user system elapsed
6.614 0.335 7.030
Sconify.Rcheck/Sconify-Ex.timings
| name | user | system | elapsed | |
| FcsToTibble | 0.041 | 0.002 | 0.043 | |
| Fnn | 0.118 | 0.293 | 0.416 | |
| GetKnnDe | 0.040 | 0.003 | 0.042 | |
| GetMarkerNames | 0.009 | 0.001 | 0.010 | |
| ImputeTesting | 1.053 | 0.006 | 1.059 | |
| MakeHist | 0.216 | 0.002 | 0.220 | |
| MakeKnnList | 0.106 | 0.008 | 0.114 | |
| MeaningOfLife | 0 | 0 | 0 | |
| ParseMarkers | 0.084 | 0.012 | 0.097 | |
| PostProcessing | 0.018 | 0.000 | 0.019 | |
| ProcessMultipleFiles | 0.032 | 0.002 | 0.034 | |
| QuantNormalizeElements | 0.054 | 0.002 | 0.056 | |
| SconeValues | 3.711 | 0.105 | 3.859 | |
| SplitFile | 0.022 | 0.001 | 0.023 | |
| StringToNumbers | 0 | 0 | 0 | |
| SubsampleAndTsne | 0.634 | 0.043 | 0.692 | |
| TsneVis | 0.054 | 0.002 | 0.056 | |