Back to Multiple platform build/check report for BioC 3.22:   simplified   long
ABCDEFGHIJKLMNOPQR[S]TUVWXYZ

This page was generated on 2025-10-11 12:05 -0400 (Sat, 11 Oct 2025).

HostnameOSArch (*)R versionInstalled pkgs
nebbiolo2Linux (Ubuntu 24.04.3 LTS)x86_644.5.1 Patched (2025-08-23 r88802) -- "Great Square Root" 4864
lconwaymacOS 12.7.1 Montereyx86_644.5.1 Patched (2025-09-10 r88807) -- "Great Square Root" 4652
kjohnson3macOS 13.7.7 Venturaarm644.5.1 Patched (2025-09-10 r88807) -- "Great Square Root" 4597
taishanLinux (openEuler 24.03 LTS)aarch644.5.0 (2025-04-11) -- "How About a Twenty-Six" 4586
Click on any hostname to see more info about the system (e.g. compilers)      (*) as reported by 'uname -p', except on Windows and Mac OS X

Package 1928/2346HostnameOS / ArchINSTALLBUILDCHECKBUILD BIN
Sconify 1.29.1  (landing page)
Tyler J Burns
Snapshot Date: 2025-10-10 13:45 -0400 (Fri, 10 Oct 2025)
git_url: https://git.bioconductor.org/packages/Sconify
git_branch: devel
git_last_commit: 8983508
git_last_commit_date: 2025-10-05 13:59:52 -0400 (Sun, 05 Oct 2025)
nebbiolo2Linux (Ubuntu 24.04.3 LTS) / x86_64  OK    OK    OK  UNNEEDED, same version is already published
lconwaymacOS 12.7.1 Monterey / x86_64  OK    OK    OK    OK  UNNEEDED, same version is already published
kjohnson3macOS 13.7.7 Ventura / arm64  OK    OK    OK    OK  UNNEEDED, same version is already published
taishanLinux (openEuler 24.03 LTS) / aarch64  OK    OK    OK  


CHECK results for Sconify on lconway

To the developers/maintainers of the Sconify package:
- Allow up to 24 hours (and sometimes 48 hours) for your latest push to git@git.bioconductor.org:packages/Sconify.git to reflect on this report. See Troubleshooting Build Report for more information.
- Use the following Renviron settings to reproduce errors and warnings.
- If 'R CMD check' started to fail recently on the Linux builder(s) over a missing dependency, add the missing dependency to 'Suggests:' in your DESCRIPTION file. See Renviron.bioc for more information.

raw results


Summary

Package: Sconify
Version: 1.29.1
Command: /Library/Frameworks/R.framework/Resources/bin/R CMD check --install=check:Sconify.install-out.txt --library=/Library/Frameworks/R.framework/Resources/library --no-vignettes --timings Sconify_1.29.1.tar.gz
StartedAt: 2025-10-11 00:55:49 -0400 (Sat, 11 Oct 2025)
EndedAt: 2025-10-11 00:58:00 -0400 (Sat, 11 Oct 2025)
EllapsedTime: 130.9 seconds
RetCode: 0
Status:   OK  
CheckDir: Sconify.Rcheck
Warnings: 0

Command output

##############################################################################
##############################################################################
###
### Running command:
###
###   /Library/Frameworks/R.framework/Resources/bin/R CMD check --install=check:Sconify.install-out.txt --library=/Library/Frameworks/R.framework/Resources/library --no-vignettes --timings Sconify_1.29.1.tar.gz
###
##############################################################################
##############################################################################


* using log directory ‘/Users/biocbuild/bbs-3.22-bioc/meat/Sconify.Rcheck’
* using R version 4.5.1 Patched (2025-09-10 r88807)
* using platform: x86_64-apple-darwin20
* R was compiled by
    Apple clang version 14.0.0 (clang-1400.0.29.202)
    GNU Fortran (GCC) 14.2.0
* running under: macOS Monterey 12.7.6
* using session charset: UTF-8
* using option ‘--no-vignettes’
* checking for file ‘Sconify/DESCRIPTION’ ... OK
* checking extension type ... Package
* this is package ‘Sconify’ version ‘1.29.1’
* package encoding: UTF-8
* checking package namespace information ... OK
* checking package dependencies ... OK
* checking if this is a source package ... OK
* checking if there is a namespace ... OK
* checking for hidden files and directories ... OK
* checking for portable file names ... OK
* checking for sufficient/correct file permissions ... OK
* checking whether package ‘Sconify’ can be installed ... OK
* checking installed package size ... OK
* checking package directory ... OK
* checking ‘build’ directory ... OK
* checking DESCRIPTION meta-information ... OK
* checking top-level files ... OK
* checking for left-over files ... OK
* checking index information ... OK
* checking package subdirectories ... OK
* checking code files for non-ASCII characters ... OK
* checking R files for syntax errors ... OK
* checking whether the package can be loaded ... OK
* checking whether the package can be loaded with stated dependencies ... OK
* checking whether the package can be unloaded cleanly ... OK
* checking whether the namespace can be loaded with stated dependencies ... OK
* checking whether the namespace can be unloaded cleanly ... OK
* checking dependencies in R code ... OK
* checking S3 generic/method consistency ... OK
* checking replacement functions ... OK
* checking foreign function calls ... OK
* checking R code for possible problems ... OK
* checking Rd files ... OK
* checking Rd metadata ... OK
* checking Rd cross-references ... OK
* checking for missing documentation entries ... OK
* checking for code/documentation mismatches ... OK
* checking Rd \usage sections ... OK
* checking Rd contents ... OK
* checking for unstated dependencies in examples ... OK
* checking contents of ‘data’ directory ... OK
* checking data for non-ASCII characters ... OK
* checking LazyData ... OK
* checking data for ASCII and uncompressed saves ... OK
* checking files in ‘vignettes’ ... OK
* checking examples ... OK
Examples with CPU (user + system) or elapsed time > 5s
              user system elapsed
SconeValues 12.463  0.162  12.682
* checking for unstated dependencies in ‘tests’ ... OK
* checking tests ...
  Running ‘testthat.R’
 OK
* checking for unstated dependencies in vignettes ... OK
* checking package vignettes ... OK
* checking running R code from vignettes ... SKIPPED
* checking re-building of vignette outputs ... SKIPPED
* checking PDF version of manual ... OK
* DONE

Status: OK


Installation output

Sconify.Rcheck/00install.out

##############################################################################
##############################################################################
###
### Running command:
###
###   /Library/Frameworks/R.framework/Resources/bin/R CMD INSTALL Sconify
###
##############################################################################
##############################################################################


* installing to library ‘/Library/Frameworks/R.framework/Versions/4.5-x86_64/Resources/library’
* installing *source* package ‘Sconify’ ...
** this is package ‘Sconify’ version ‘1.29.1’
** using staged installation
** R
** data
*** moving datasets to lazyload DB
** inst
** byte-compile and prepare package for lazy loading
Note: wrong number of arguments to '/' 
Note: wrong number of arguments to 'asinh' 
** help
*** installing help indices
** building package indices
** installing vignettes
** testing if installed package can be loaded from temporary location
** testing if installed package can be loaded from final location
** testing if installed package keeps a record of temporary installation path
* DONE (Sconify)

Tests output

Sconify.Rcheck/tests/testthat.Rout


R version 4.5.1 Patched (2025-09-10 r88807) -- "Great Square Root"
Copyright (C) 2025 The R Foundation for Statistical Computing
Platform: x86_64-apple-darwin20

R is free software and comes with ABSOLUTELY NO WARRANTY.
You are welcome to redistribute it under certain conditions.
Type 'license()' or 'licence()' for distribution details.

R is a collaborative project with many contributors.
Type 'contributors()' for more information and
'citation()' on how to cite R or R packages in publications.

Type 'demo()' for some demos, 'help()' for on-line help, or
'help.start()' for an HTML browser interface to help.
Type 'q()' to quit R.

> library(testthat)
> library(Sconify)
> 
> test_check("Sconify")
Read the 100 x 27 data matrix successfully!
Using no_dims = 2, perplexity = 30.000000, and theta = 0.500000
Computing input similarities...
Building tree...
Done in 0.01 seconds (sparsity = 0.964800)!
Learning embedding...
Iteration 50: error is 49.085290 (50 iterations in 0.01 seconds)
Iteration 100: error is 49.117619 (50 iterations in 0.01 seconds)
Iteration 150: error is 51.165507 (50 iterations in 0.01 seconds)
Iteration 200: error is 53.444639 (50 iterations in 0.01 seconds)
Iteration 250: error is 52.861755 (50 iterations in 0.01 seconds)
Iteration 300: error is 1.230243 (50 iterations in 0.01 seconds)
Iteration 350: error is 0.631830 (50 iterations in 0.01 seconds)
Iteration 400: error is 0.213551 (50 iterations in 0.01 seconds)
Iteration 450: error is 0.187513 (50 iterations in 0.01 seconds)
Iteration 500: error is 0.173637 (50 iterations in 0.01 seconds)
Iteration 550: error is 0.167951 (50 iterations in 0.01 seconds)
Iteration 600: error is 0.170152 (50 iterations in 0.01 seconds)
Iteration 650: error is 0.168520 (50 iterations in 0.01 seconds)
Iteration 700: error is 0.168390 (50 iterations in 0.01 seconds)
Iteration 750: error is 0.168023 (50 iterations in 0.01 seconds)
Iteration 800: error is 0.167352 (50 iterations in 0.01 seconds)
Iteration 850: error is 0.166375 (50 iterations in 0.01 seconds)
Iteration 900: error is 0.166580 (50 iterations in 0.01 seconds)
Iteration 950: error is 0.166250 (50 iterations in 0.01 seconds)
Iteration 1000: error is 0.170486 (50 iterations in 0.01 seconds)
Fitting performed in 0.16 seconds.
Read the 1000 x 27 data matrix successfully!
Using no_dims = 2, perplexity = 30.000000, and theta = 0.500000
Computing input similarities...
Building tree...
Done in 0.13 seconds (sparsity = 0.129120)!
Learning embedding...
Iteration 50: error is 66.534436 (50 iterations in 0.22 seconds)
Iteration 100: error is 60.688342 (50 iterations in 0.15 seconds)
Iteration 150: error is 60.299834 (50 iterations in 0.15 seconds)
Iteration 200: error is 60.173823 (50 iterations in 0.15 seconds)
Iteration 250: error is 60.119509 (50 iterations in 0.16 seconds)
Iteration 300: error is 1.338645 (50 iterations in 0.12 seconds)
Iteration 350: error is 1.233336 (50 iterations in 0.11 seconds)
Iteration 400: error is 1.202219 (50 iterations in 0.11 seconds)
Iteration 450: error is 1.184509 (50 iterations in 0.12 seconds)
Iteration 500: error is 1.175804 (50 iterations in 0.13 seconds)
Iteration 550: error is 1.168533 (50 iterations in 0.12 seconds)
Iteration 600: error is 1.163758 (50 iterations in 0.13 seconds)
Iteration 650: error is 1.159994 (50 iterations in 0.11 seconds)
Iteration 700: error is 1.156262 (50 iterations in 0.10 seconds)
Iteration 750: error is 1.154513 (50 iterations in 0.12 seconds)
Iteration 800: error is 1.152083 (50 iterations in 0.11 seconds)
Iteration 850: error is 1.150885 (50 iterations in 0.11 seconds)
Iteration 900: error is 1.149243 (50 iterations in 0.12 seconds)
Iteration 950: error is 1.148458 (50 iterations in 0.11 seconds)
Iteration 1000: error is 1.146612 (50 iterations in 0.12 seconds)
Fitting performed in 2.59 seconds.
[ FAIL 0 | WARN 2 | SKIP 0 | PASS 72 ]

[ FAIL 0 | WARN 2 | SKIP 0 | PASS 72 ]
> 
> proc.time()
   user  system elapsed 
 20.865   0.740  21.887 

Example timings

Sconify.Rcheck/Sconify-Ex.timings

nameusersystemelapsed
FcsToTibble0.1570.0070.169
Fnn0.3340.9941.348
GetKnnDe0.0670.0070.075
GetMarkerNames0.0270.0020.029
ImputeTesting3.6820.0303.734
MakeHist0.6430.0150.666
MakeKnnList0.3620.0480.415
MeaningOfLife000
ParseMarkers0.2790.0450.362
PostProcessing0.0730.0030.075
ProcessMultipleFiles0.1230.0070.131
QuantNormalizeElements0.1910.0090.201
SconeValues12.463 0.16212.682
SplitFile0.0760.0050.097
StringToNumbers0.0010.0000.000
SubsampleAndTsne1.5090.0731.625
TsneVis0.1980.0050.205