Back to Build/check report for BioC 3.23:   simplified   long
ABCDEFGHIJKLMNOPQR[S]TUVWXYZ

This page was generated on 2025-11-05 11:32 -0500 (Wed, 05 Nov 2025).

HostnameOSArch (*)R versionInstalled pkgs
nebbiolo1Linux (Ubuntu 24.04.3 LTS)x86_64R Under development (unstable) (2025-10-20 r88955) -- "Unsuffered Consequences" 4818
Click on any hostname to see more info about the system (e.g. compilers)      (*) as reported by 'uname -p', except on Windows and Mac OS X

Package 1910/2323HostnameOS / ArchINSTALLBUILDCHECKBUILD BIN
Sconify 1.31.0  (landing page)
Tyler J Burns
Snapshot Date: 2025-11-04 13:40 -0500 (Tue, 04 Nov 2025)
git_url: https://git.bioconductor.org/packages/Sconify
git_branch: devel
git_last_commit: 5f12fd9
git_last_commit_date: 2025-10-29 10:44:03 -0500 (Wed, 29 Oct 2025)
nebbiolo1Linux (Ubuntu 24.04.3 LTS) / x86_64  OK    OK    OK  UNNEEDED, same version is already published


CHECK results for Sconify on nebbiolo1

To the developers/maintainers of the Sconify package:
- Allow up to 24 hours (and sometimes 48 hours) for your latest push to git@git.bioconductor.org:packages/Sconify.git to reflect on this report. See Troubleshooting Build Report for more information.
- Use the following Renviron settings to reproduce errors and warnings.
- If 'R CMD check' started to fail recently on the Linux builder(s) over a missing dependency, add the missing dependency to 'Suggests:' in your DESCRIPTION file. See Renviron.bioc for more information.

raw results


Summary

Package: Sconify
Version: 1.31.0
Command: /home/biocbuild/bbs-3.23-bioc/R/bin/R CMD check --install=check:Sconify.install-out.txt --library=/home/biocbuild/bbs-3.23-bioc/R/site-library --timings Sconify_1.31.0.tar.gz
StartedAt: 2025-11-05 03:32:20 -0500 (Wed, 05 Nov 2025)
EndedAt: 2025-11-05 03:34:38 -0500 (Wed, 05 Nov 2025)
EllapsedTime: 138.1 seconds
RetCode: 0
Status:   OK  
CheckDir: Sconify.Rcheck
Warnings: 0

Command output

##############################################################################
##############################################################################
###
### Running command:
###
###   /home/biocbuild/bbs-3.23-bioc/R/bin/R CMD check --install=check:Sconify.install-out.txt --library=/home/biocbuild/bbs-3.23-bioc/R/site-library --timings Sconify_1.31.0.tar.gz
###
##############################################################################
##############################################################################


* using log directory ‘/home/biocbuild/bbs-3.23-bioc/meat/Sconify.Rcheck’
* using R Under development (unstable) (2025-10-20 r88955)
* using platform: x86_64-pc-linux-gnu
* R was compiled by
    gcc (Ubuntu 13.3.0-6ubuntu2~24.04) 13.3.0
    GNU Fortran (Ubuntu 13.3.0-6ubuntu2~24.04) 13.3.0
* running under: Ubuntu 24.04.3 LTS
* using session charset: UTF-8
* checking for file ‘Sconify/DESCRIPTION’ ... OK
* checking extension type ... Package
* this is package ‘Sconify’ version ‘1.31.0’
* package encoding: UTF-8
* checking package namespace information ... OK
* checking package dependencies ... OK
* checking if this is a source package ... OK
* checking if there is a namespace ... OK
* checking for hidden files and directories ... OK
* checking for portable file names ... OK
* checking for sufficient/correct file permissions ... OK
* checking whether package ‘Sconify’ can be installed ... OK
* checking installed package size ... OK
* checking package directory ... OK
* checking ‘build’ directory ... OK
* checking DESCRIPTION meta-information ... OK
* checking top-level files ... OK
* checking for left-over files ... OK
* checking index information ... OK
* checking package subdirectories ... OK
* checking code files for non-ASCII characters ... OK
* checking R files for syntax errors ... OK
* checking whether the package can be loaded ... OK
* checking whether the package can be loaded with stated dependencies ... OK
* checking whether the package can be unloaded cleanly ... OK
* checking whether the namespace can be loaded with stated dependencies ... OK
* checking whether the namespace can be unloaded cleanly ... OK
* checking loading without being on the library search path ... OK
* checking dependencies in R code ... OK
* checking S3 generic/method consistency ... OK
* checking replacement functions ... OK
* checking foreign function calls ... OK
* checking R code for possible problems ... OK
* checking Rd files ... OK
* checking Rd metadata ... OK
* checking Rd cross-references ... OK
* checking for missing documentation entries ... OK
* checking for code/documentation mismatches ... OK
* checking Rd \usage sections ... OK
* checking Rd contents ... OK
* checking for unstated dependencies in examples ... OK
* checking contents of ‘data’ directory ... OK
* checking data for non-ASCII characters ... OK
* checking LazyData ... OK
* checking data for ASCII and uncompressed saves ... OK
* checking files in ‘vignettes’ ... OK
* checking examples ... OK
Examples with CPU (user + system) or elapsed time > 5s
             user system elapsed
SconeValues 11.97  0.117  12.088
* checking for unstated dependencies in ‘tests’ ... OK
* checking tests ...
  Running ‘testthat.R’
 OK
* checking for unstated dependencies in vignettes ... OK
* checking package vignettes ... OK
* checking re-building of vignette outputs ... OK
* checking PDF version of manual ... OK
* DONE

Status: OK


Installation output

Sconify.Rcheck/00install.out

##############################################################################
##############################################################################
###
### Running command:
###
###   /home/biocbuild/bbs-3.23-bioc/R/bin/R CMD INSTALL Sconify
###
##############################################################################
##############################################################################


* installing to library ‘/home/biocbuild/bbs-3.23-bioc/R/site-library’
* installing *source* package ‘Sconify’ ...
** this is package ‘Sconify’ version ‘1.31.0’
** using staged installation
** R
** data
*** moving datasets to lazyload DB
** inst
** byte-compile and prepare package for lazy loading
Note: wrong number of arguments to '/' 
Note: wrong number of arguments to 'asinh' 
** help
*** installing help indices
** building package indices
** installing vignettes
** testing if installed package can be loaded from temporary location
** testing if installed package can be loaded from final location
** testing if installed package keeps a record of temporary installation path
* DONE (Sconify)

Tests output

Sconify.Rcheck/tests/testthat.Rout


R Under development (unstable) (2025-10-20 r88955) -- "Unsuffered Consequences"
Copyright (C) 2025 The R Foundation for Statistical Computing
Platform: x86_64-pc-linux-gnu

R is free software and comes with ABSOLUTELY NO WARRANTY.
You are welcome to redistribute it under certain conditions.
Type 'license()' or 'licence()' for distribution details.

R is a collaborative project with many contributors.
Type 'contributors()' for more information and
'citation()' on how to cite R or R packages in publications.

Type 'demo()' for some demos, 'help()' for on-line help, or
'help.start()' for an HTML browser interface to help.
Type 'q()' to quit R.

> library(testthat)
> library(Sconify)
> 
> test_check("Sconify")
Read the 100 x 27 data matrix successfully!
OpenMP is working. 1 threads.
Using no_dims = 2, perplexity = 30.000000, and theta = 0.500000
Computing input similarities...
Building tree...
Done in 0.01 seconds (sparsity = 0.971400)!
Learning embedding...
Iteration 50: error is 50.119270 (50 iterations in 0.01 seconds)
Iteration 100: error is 54.119235 (50 iterations in 0.01 seconds)
Iteration 150: error is 51.791175 (50 iterations in 0.01 seconds)
Iteration 200: error is 54.250003 (50 iterations in 0.01 seconds)
Iteration 250: error is 55.344542 (50 iterations in 0.01 seconds)
Iteration 300: error is 1.392297 (50 iterations in 0.01 seconds)
Iteration 350: error is 0.761715 (50 iterations in 0.01 seconds)
Iteration 400: error is 0.478351 (50 iterations in 0.01 seconds)
Iteration 450: error is 0.259953 (50 iterations in 0.01 seconds)
Iteration 500: error is 0.214411 (50 iterations in 0.01 seconds)
Iteration 550: error is 0.196273 (50 iterations in 0.01 seconds)
Iteration 600: error is 0.177851 (50 iterations in 0.01 seconds)
Iteration 650: error is 0.171811 (50 iterations in 0.01 seconds)
Iteration 700: error is 0.172456 (50 iterations in 0.01 seconds)
Iteration 750: error is 0.167811 (50 iterations in 0.01 seconds)
Iteration 800: error is 0.169238 (50 iterations in 0.01 seconds)
Iteration 850: error is 0.170170 (50 iterations in 0.01 seconds)
Iteration 900: error is 0.167073 (50 iterations in 0.01 seconds)
Iteration 950: error is 0.168026 (50 iterations in 0.01 seconds)
Iteration 1000: error is 0.168874 (50 iterations in 0.01 seconds)
Fitting performed in 0.17 seconds.
Read the 1000 x 27 data matrix successfully!
OpenMP is working. 1 threads.
Using no_dims = 2, perplexity = 30.000000, and theta = 0.500000
Computing input similarities...
Building tree...
Done in 0.12 seconds (sparsity = 0.129120)!
Learning embedding...
Iteration 50: error is 64.921787 (50 iterations in 0.28 seconds)
Iteration 100: error is 60.664612 (50 iterations in 0.16 seconds)
Iteration 150: error is 60.296428 (50 iterations in 0.16 seconds)
Iteration 200: error is 60.175974 (50 iterations in 0.17 seconds)
Iteration 250: error is 60.117342 (50 iterations in 0.18 seconds)
Iteration 300: error is 1.339189 (50 iterations in 0.14 seconds)
Iteration 350: error is 1.230839 (50 iterations in 0.13 seconds)
Iteration 400: error is 1.201087 (50 iterations in 0.13 seconds)
Iteration 450: error is 1.188302 (50 iterations in 0.13 seconds)
Iteration 500: error is 1.179820 (50 iterations in 0.13 seconds)
Iteration 550: error is 1.172912 (50 iterations in 0.14 seconds)
Iteration 600: error is 1.167660 (50 iterations in 0.15 seconds)
Iteration 650: error is 1.163371 (50 iterations in 0.14 seconds)
Iteration 700: error is 1.160236 (50 iterations in 0.14 seconds)
Iteration 750: error is 1.156675 (50 iterations in 0.14 seconds)
Iteration 800: error is 1.154460 (50 iterations in 0.13 seconds)
Iteration 850: error is 1.151972 (50 iterations in 0.13 seconds)
Iteration 900: error is 1.149640 (50 iterations in 0.13 seconds)
Iteration 950: error is 1.148458 (50 iterations in 0.13 seconds)
Iteration 1000: error is 1.147913 (50 iterations in 0.14 seconds)
Fitting performed in 2.99 seconds.
[ FAIL 0 | WARN 2 | SKIP 0 | PASS 72 ]

[ FAIL 0 | WARN 2 | SKIP 0 | PASS 72 ]
> 
> proc.time()
   user  system elapsed 
 19.004   0.480  19.468 

Example timings

Sconify.Rcheck/Sconify-Ex.timings

nameusersystemelapsed
FcsToTibble0.1070.0040.112
Fnn0.2621.0631.326
GetKnnDe0.0720.0120.084
GetMarkerNames0.0240.0070.032
ImputeTesting3.3780.0403.418
MakeHist0.5910.0200.610
MakeKnnList0.2790.0440.322
MeaningOfLife0.0010.0000.000
ParseMarkers0.2090.0110.220
PostProcessing0.0650.0020.067
ProcessMultipleFiles0.0940.0050.100
QuantNormalizeElements0.1530.0090.162
SconeValues11.970 0.11712.088
SplitFile0.0890.0000.089
StringToNumbers000
SubsampleAndTsne1.6800.0091.690
TsneVis0.1500.0070.157