Back to Multiple platform build/check report for BioC 3.22:   simplified   long
ABCDEFGHIJKLMNOPQR[S]TUVWXYZ

This page was generated on 2025-05-21 12:09 -0400 (Wed, 21 May 2025).

HostnameOSArch (*)R versionInstalled pkgs
nebbiolo2Linux (Ubuntu 24.04.1 LTS)x86_644.5.0 (2025-04-11) -- "How About a Twenty-Six" 4749
palomino8Windows Server 2022 Datacenterx644.5.0 (2025-04-11 ucrt) -- "How About a Twenty-Six" 4511
lconwaymacOS 12.7.1 Montereyx86_644.5.0 Patched (2025-04-21 r88169) -- "How About a Twenty-Six" 4548
kjohnson3macOS 13.7.1 Venturaarm644.5.0 Patched (2025-04-21 r88169) -- "How About a Twenty-Six" 4489
taishanLinux (openEuler 24.03 LTS)aarch644.5.0 (2025-04-11) -- "How About a Twenty-Six" 4455
Click on any hostname to see more info about the system (e.g. compilers)      (*) as reported by 'uname -p', except on Windows and Mac OS X

Package 2008/2304HostnameOS / ArchINSTALLBUILDCHECKBUILD BIN
SNPhood 1.39.0  (landing page)
Christian Arnold
Snapshot Date: 2025-05-20 13:25 -0400 (Tue, 20 May 2025)
git_url: https://git.bioconductor.org/packages/SNPhood
git_branch: devel
git_last_commit: 79a2c60
git_last_commit_date: 2025-04-15 10:56:04 -0400 (Tue, 15 Apr 2025)
nebbiolo2Linux (Ubuntu 24.04.1 LTS) / x86_64  OK    OK    OK  UNNEEDED, same version is already published
palomino8Windows Server 2022 Datacenter / x64  OK    OK    OK    OK  UNNEEDED, same version is already published
lconwaymacOS 12.7.1 Monterey / x86_64  OK    OK    OK    OK  UNNEEDED, same version is already published
kjohnson3macOS 13.7.1 Ventura / arm64  OK    OK    OK    OK  UNNEEDED, same version is already published
taishanLinux (openEuler 24.03 LTS) / aarch64  OK    OK    OK  


CHECK results for SNPhood on lconway

To the developers/maintainers of the SNPhood package:
- Allow up to 24 hours (and sometimes 48 hours) for your latest push to git@git.bioconductor.org:packages/SNPhood.git to reflect on this report. See Troubleshooting Build Report for more information.
- Use the following Renviron settings to reproduce errors and warnings.
- If 'R CMD check' started to fail recently on the Linux builder(s) over a missing dependency, add the missing dependency to 'Suggests:' in your DESCRIPTION file. See Renviron.bioc for more information.

raw results


Summary

Package: SNPhood
Version: 1.39.0
Command: /Library/Frameworks/R.framework/Resources/bin/R CMD check --install=check:SNPhood.install-out.txt --library=/Library/Frameworks/R.framework/Resources/library --no-vignettes --timings SNPhood_1.39.0.tar.gz
StartedAt: 2025-05-20 23:26:30 -0400 (Tue, 20 May 2025)
EndedAt: 2025-05-20 23:37:20 -0400 (Tue, 20 May 2025)
EllapsedTime: 650.1 seconds
RetCode: 0
Status:   OK  
CheckDir: SNPhood.Rcheck
Warnings: 0

Command output

##############################################################################
##############################################################################
###
### Running command:
###
###   /Library/Frameworks/R.framework/Resources/bin/R CMD check --install=check:SNPhood.install-out.txt --library=/Library/Frameworks/R.framework/Resources/library --no-vignettes --timings SNPhood_1.39.0.tar.gz
###
##############################################################################
##############################################################################


* using log directory ‘/Users/biocbuild/bbs-3.22-bioc/meat/SNPhood.Rcheck’
* using R version 4.5.0 Patched (2025-04-21 r88169)
* using platform: x86_64-apple-darwin20
* R was compiled by
    Apple clang version 14.0.0 (clang-1400.0.29.202)
    GNU Fortran (GCC) 14.2.0
* running under: macOS Monterey 12.7.6
* using session charset: UTF-8
* using option ‘--no-vignettes’
* checking for file ‘SNPhood/DESCRIPTION’ ... OK
* this is package ‘SNPhood’ version ‘1.39.0’
* checking package namespace information ... OK
* checking package dependencies ... OK
* checking if this is a source package ... OK
* checking if there is a namespace ... OK
* checking for hidden files and directories ... OK
* checking for portable file names ... OK
* checking for sufficient/correct file permissions ... OK
* checking whether package ‘SNPhood’ can be installed ... OK
* checking installed package size ... OK
* checking package directory ... OK
* checking ‘build’ directory ... OK
* checking DESCRIPTION meta-information ... NOTE
BugReports field is not a suitable URL but contains an email address:
   use the Contact field instead
* checking top-level files ... OK
* checking for left-over files ... OK
* checking index information ... OK
* checking package subdirectories ... OK
* checking code files for non-ASCII characters ... OK
* checking R files for syntax errors ... OK
* checking whether the package can be loaded ... OK
* checking whether the package can be loaded with stated dependencies ... OK
* checking whether the package can be unloaded cleanly ... OK
* checking whether the namespace can be loaded with stated dependencies ... OK
* checking whether the namespace can be unloaded cleanly ... OK
* checking whether startup messages can be suppressed ... OK
* checking dependencies in R code ... OK
* checking S3 generic/method consistency ... OK
* checking replacement functions ... OK
* checking foreign function calls ... OK
* checking R code for possible problems ... NOTE
.calcBinomTestVector: no visible binding for global variable ‘pp’
Undefined global functions or variables:
  pp
* checking Rd files ... OK
* checking Rd metadata ... OK
* checking Rd cross-references ... NOTE
Found the following Rd file(s) with Rd \link{} targets missing package
anchors:
  analyzeSNPhood.Rd: BamFile-class, BamFileList-class
  collectFiles.Rd: BamFile-class, BamFileList-class
Please provide package anchors for all Rd \link{} targets not in the
package itself and the base packages.
* checking for missing documentation entries ... OK
* checking for code/documentation mismatches ... OK
* checking Rd \usage sections ... OK
* checking Rd contents ... OK
* checking for unstated dependencies in examples ... OK
* checking contents of ‘data’ directory ... OK
* checking data for non-ASCII characters ... OK
* checking LazyData ... OK
* checking data for ASCII and uncompressed saves ... OK
* checking files in ‘vignettes’ ... OK
* checking examples ... OK
Examples with CPU (user + system) or elapsed time > 5s
                                   user system elapsed
analyzeSNPhood                  113.357  1.815 116.437
plotAllelicBiasResults           31.604  0.289  32.041
plotAndSummarizeAllelicBiasTest  28.773  0.230  29.121
plotFDRResults                   28.736  0.189  29.025
testForAllelicBiases             28.612  0.253  29.000
annotationBins2                  10.646  0.080  10.770
results                           2.352  7.648  10.066
associateGenotypes                6.415  0.073   6.515
* checking for unstated dependencies in vignettes ... OK
* checking package vignettes ... OK
* checking running R code from vignettes ... SKIPPED
* checking re-building of vignette outputs ... SKIPPED
* checking PDF version of manual ... OK
* DONE

Status: 3 NOTEs
See
  ‘/Users/biocbuild/bbs-3.22-bioc/meat/SNPhood.Rcheck/00check.log’
for details.


Installation output

SNPhood.Rcheck/00install.out

##############################################################################
##############################################################################
###
### Running command:
###
###   /Library/Frameworks/R.framework/Resources/bin/R CMD INSTALL SNPhood
###
##############################################################################
##############################################################################


* installing to library ‘/Library/Frameworks/R.framework/Versions/4.5-x86_64/Resources/library’
* installing *source* package ‘SNPhood’ ...
** this is package ‘SNPhood’ version ‘1.39.0’
** using staged installation
** R
** data
*** moving datasets to lazyload DB
** byte-compile and prepare package for lazy loading
** help
*** installing help indices
** building package indices
** installing vignettes
** testing if installed package can be loaded from temporary location
** testing if installed package can be loaded from final location
** testing if installed package keeps a record of temporary installation path
* DONE (SNPhood)

Tests output


Example timings

SNPhood.Rcheck/SNPhood-Ex.timings

nameusersystemelapsed
analyzeSNPhood113.357 1.815116.437
annotation-methods0.2110.0720.284
annotationBins0.1300.0320.162
annotationBins210.646 0.08010.770
annotationDatasets0.1120.0130.125
annotationReadGroups1.0610.0291.093
annotationRegions0.1360.0300.166
associateGenotypes6.4150.0736.515
bins-methods0.1310.0110.143
changeObjectIntegrityChecking0.2040.0610.268
collectFiles0.0330.0020.036
convertToAllelicFractions0.1560.0270.183
counts-method0.2200.0240.245
datasets-methods1.0530.0391.098
deleteDatasets0.1520.0190.171
deleteReadGroups0.1410.0260.167
deleteRegions0.1620.0200.183
enrichment-methods0.1420.0260.169
getDefaultParameterList0.0010.0010.001
mergeReadGroups0.1860.0230.211
parameters-methods0.1280.0290.158
plotAllelicBiasResults31.604 0.28932.041
plotAllelicBiasResultsOverview1.0280.0191.053
plotAndCalculateCorrelationDatasets1.3210.0661.394
plotAndCalculateWeakAndStrongGenotype0.6760.0400.721
plotAndClusterMatrix0.5580.0230.585
plotAndSummarizeAllelicBiasTest28.773 0.23029.121
plotBinCounts1.2930.0201.320
plotClusterAverage1.6030.0801.690
plotFDRResults28.736 0.18929.025
plotGenotypesPerCluster0.4310.0130.447
plotGenotypesPerSNP0.3540.0300.389
plotRegionCounts2.9880.1153.116
readGroups-methods0.1110.0050.117
regions-methods0.1160.0350.151
renameBins0.1220.0060.129
renameDatasets0.1420.0280.171
renameReadGroups0.1420.0160.159
renameRegions2.6800.0742.780
results 2.352 7.64810.066
testForAllelicBiases28.612 0.25329.000