Back to Build/check report for BioC 3.23:   simplified   long
ABCDEFGHIJKLMNOPQR[S]TUVWXYZ

This page was generated on 2025-11-08 11:32 -0500 (Sat, 08 Nov 2025).

HostnameOSArch (*)R versionInstalled pkgs
nebbiolo1Linux (Ubuntu 24.04.3 LTS)x86_64R Under development (unstable) (2025-10-20 r88955) -- "Unsuffered Consequences" 4821
Click on any hostname to see more info about the system (e.g. compilers)      (*) as reported by 'uname -p', except on Windows and Mac OS X

Package 2024/2323HostnameOS / ArchINSTALLBUILDCHECKBUILD BIN
SNPhood 1.41.0  (landing page)
Christian Arnold
Snapshot Date: 2025-11-07 13:40 -0500 (Fri, 07 Nov 2025)
git_url: https://git.bioconductor.org/packages/SNPhood
git_branch: devel
git_last_commit: 4de7497
git_last_commit_date: 2025-10-29 10:28:24 -0500 (Wed, 29 Oct 2025)
nebbiolo1Linux (Ubuntu 24.04.3 LTS) / x86_64  OK    OK    OK  UNNEEDED, same version is already published


CHECK results for SNPhood on nebbiolo1

To the developers/maintainers of the SNPhood package:
- Allow up to 24 hours (and sometimes 48 hours) for your latest push to git@git.bioconductor.org:packages/SNPhood.git to reflect on this report. See Troubleshooting Build Report for more information.
- Use the following Renviron settings to reproduce errors and warnings.
- If 'R CMD check' started to fail recently on the Linux builder(s) over a missing dependency, add the missing dependency to 'Suggests:' in your DESCRIPTION file. See Renviron.bioc for more information.

raw results


Summary

Package: SNPhood
Version: 1.41.0
Command: /home/biocbuild/bbs-3.23-bioc/R/bin/R CMD check --install=check:SNPhood.install-out.txt --library=/home/biocbuild/bbs-3.23-bioc/R/site-library --timings SNPhood_1.41.0.tar.gz
StartedAt: 2025-11-08 04:05:58 -0500 (Sat, 08 Nov 2025)
EndedAt: 2025-11-08 04:19:56 -0500 (Sat, 08 Nov 2025)
EllapsedTime: 837.9 seconds
RetCode: 0
Status:   OK  
CheckDir: SNPhood.Rcheck
Warnings: 0

Command output

##############################################################################
##############################################################################
###
### Running command:
###
###   /home/biocbuild/bbs-3.23-bioc/R/bin/R CMD check --install=check:SNPhood.install-out.txt --library=/home/biocbuild/bbs-3.23-bioc/R/site-library --timings SNPhood_1.41.0.tar.gz
###
##############################################################################
##############################################################################


* using log directory ‘/home/biocbuild/bbs-3.23-bioc/meat/SNPhood.Rcheck’
* using R Under development (unstable) (2025-10-20 r88955)
* using platform: x86_64-pc-linux-gnu
* R was compiled by
    gcc (Ubuntu 13.3.0-6ubuntu2~24.04) 13.3.0
    GNU Fortran (Ubuntu 13.3.0-6ubuntu2~24.04) 13.3.0
* running under: Ubuntu 24.04.3 LTS
* using session charset: UTF-8
* checking for file ‘SNPhood/DESCRIPTION’ ... OK
* this is package ‘SNPhood’ version ‘1.41.0’
* checking package namespace information ... OK
* checking package dependencies ... OK
* checking if this is a source package ... OK
* checking if there is a namespace ... OK
* checking for hidden files and directories ... OK
* checking for portable file names ... OK
* checking for sufficient/correct file permissions ... OK
* checking whether package ‘SNPhood’ can be installed ... OK
* checking installed package size ... OK
* checking package directory ... OK
* checking ‘build’ directory ... OK
* checking DESCRIPTION meta-information ... NOTE
BugReports field is not a suitable URL but contains an email address:
   use the Contact field instead
* checking top-level files ... OK
* checking for left-over files ... OK
* checking index information ... OK
* checking package subdirectories ... OK
* checking code files for non-ASCII characters ... OK
* checking R files for syntax errors ... OK
* checking whether the package can be loaded ... OK
* checking whether the package can be loaded with stated dependencies ... OK
* checking whether the package can be unloaded cleanly ... OK
* checking whether the namespace can be loaded with stated dependencies ... OK
* checking whether the namespace can be unloaded cleanly ... OK
* checking loading without being on the library search path ... OK
* checking whether startup messages can be suppressed ... OK
* checking dependencies in R code ... OK
* checking S3 generic/method consistency ... OK
* checking replacement functions ... OK
* checking foreign function calls ... OK
* checking R code for possible problems ... NOTE
.calcBinomTestVector: no visible binding for global variable ‘pp’
Undefined global functions or variables:
  pp
* checking Rd files ... OK
* checking Rd metadata ... OK
* checking Rd cross-references ... NOTE
Found the following Rd file(s) with Rd \link{} targets missing package
anchors:
  analyzeSNPhood.Rd: BamFile-class, BamFileList-class
  collectFiles.Rd: BamFile-class, BamFileList-class
Please provide package anchors for all Rd \link{} targets not in the
package itself and the base packages.
* checking for missing documentation entries ... OK
* checking for code/documentation mismatches ... OK
* checking Rd \usage sections ... OK
* checking Rd contents ... OK
* checking for unstated dependencies in examples ... OK
* checking contents of ‘data’ directory ... OK
* checking data for non-ASCII characters ... OK
* checking LazyData ... OK
* checking data for ASCII and uncompressed saves ... OK
* checking files in ‘vignettes’ ... OK
* checking examples ... OK
Examples with CPU (user + system) or elapsed time > 5s
                                   user system elapsed
analyzeSNPhood                  111.844  5.030 117.201
plotAllelicBiasResults           35.670  0.391  33.539
plotAndSummarizeAllelicBiasTest  32.948  0.187  30.493
plotFDRResults                   31.693  0.146  29.064
testForAllelicBiases             29.742  0.132  27.422
annotationBins2                  11.048  0.003  11.051
results                           1.847  8.763  10.609
associateGenotypes                6.165  0.026   6.191
* checking for unstated dependencies in vignettes ... OK
* checking package vignettes ... OK
* checking re-building of vignette outputs ... OK
* checking PDF version of manual ... OK
* DONE

Status: 3 NOTEs
See
  ‘/home/biocbuild/bbs-3.23-bioc/meat/SNPhood.Rcheck/00check.log’
for details.


Installation output

SNPhood.Rcheck/00install.out

##############################################################################
##############################################################################
###
### Running command:
###
###   /home/biocbuild/bbs-3.23-bioc/R/bin/R CMD INSTALL SNPhood
###
##############################################################################
##############################################################################


* installing to library ‘/home/biocbuild/bbs-3.23-bioc/R/site-library’
* installing *source* package ‘SNPhood’ ...
** this is package ‘SNPhood’ version ‘1.41.0’
** using staged installation
** R
** data
*** moving datasets to lazyload DB
** byte-compile and prepare package for lazy loading
** help
*** installing help indices
** building package indices
** installing vignettes
** testing if installed package can be loaded from temporary location
** testing if installed package can be loaded from final location
** testing if installed package keeps a record of temporary installation path
* DONE (SNPhood)

Tests output


Example timings

SNPhood.Rcheck/SNPhood-Ex.timings

nameusersystemelapsed
analyzeSNPhood111.844 5.030117.201
annotation-methods0.1960.0570.253
annotationBins0.1190.0120.132
annotationBins211.048 0.00311.051
annotationDatasets0.1190.0030.122
annotationReadGroups0.1290.0000.128
annotationRegions0.1350.0010.137
associateGenotypes6.1650.0266.191
bins-methods0.1230.0340.156
changeObjectIntegrityChecking0.1490.0270.176
collectFiles0.030.000.03
convertToAllelicFractions0.2040.0020.206
counts-method0.2130.0030.217
datasets-methods0.1320.0280.159
deleteDatasets1.2370.0631.300
deleteReadGroups0.1510.0090.161
deleteRegions1.4260.0091.435
enrichment-methods0.1520.0150.166
getDefaultParameterList0.0010.0000.001
mergeReadGroups0.1990.0240.224
parameters-methods0.1410.0270.168
plotAllelicBiasResults35.670 0.39133.539
plotAllelicBiasResultsOverview1.2360.0721.308
plotAndCalculateCorrelationDatasets1.4610.0291.490
plotAndCalculateWeakAndStrongGenotype0.6940.0320.726
plotAndClusterMatrix0.6300.0130.644
plotAndSummarizeAllelicBiasTest32.948 0.18730.493
plotBinCounts1.770.081.85
plotClusterAverage0.7790.0220.802
plotFDRResults31.693 0.14629.064
plotGenotypesPerCluster0.5410.0180.559
plotGenotypesPerSNP0.4130.0170.430
plotRegionCounts2.030.042.07
readGroups-methods0.1170.0000.116
regions-methods0.1190.0140.133
renameBins0.1410.0070.147
renameDatasets0.1900.0040.194
renameReadGroups0.1330.0220.155
renameRegions3.2090.0063.214
results 1.847 8.76310.609
testForAllelicBiases29.742 0.13227.422