| Back to Multiple platform build/check report for BioC 3.23: simplified long |
|
This page was generated on 2025-11-22 11:39 -0500 (Sat, 22 Nov 2025).
| Hostname | OS | Arch (*) | R version | Installed pkgs |
|---|---|---|---|---|
| nebbiolo1 | Linux (Ubuntu 24.04.3 LTS) | x86_64 | R Under development (unstable) (2025-10-20 r88955) -- "Unsuffered Consequences" | 4829 |
| lconway | macOS 12.7.6 Monterey | x86_64 | R Under development (unstable) (2025-10-21 r88958) -- "Unsuffered Consequences" | 4603 |
| kjohnson3 | macOS 13.7.7 Ventura | arm64 | R Under development (unstable) (2025-11-04 r88984) -- "Unsuffered Consequences" | 4567 |
| Click on any hostname to see more info about the system (e.g. compilers) (*) as reported by 'uname -p', except on Windows and Mac OS X | ||||
| Package 2028/2327 | Hostname | OS / Arch | INSTALL | BUILD | CHECK | BUILD BIN | ||||||||
| SNPhood 1.41.0 (landing page) Christian Arnold
| nebbiolo1 | Linux (Ubuntu 24.04.3 LTS) / x86_64 | OK | OK | OK | |||||||||
| lconway | macOS 12.7.6 Monterey / x86_64 | OK | OK | OK | OK | |||||||||
| kjohnson3 | macOS 13.7.7 Ventura / arm64 | OK | OK | OK | OK | |||||||||
|
To the developers/maintainers of the SNPhood package: - Allow up to 24 hours (and sometimes 48 hours) for your latest push to git@git.bioconductor.org:packages/SNPhood.git to reflect on this report. See Troubleshooting Build Report for more information. - Use the following Renviron settings to reproduce errors and warnings. - If 'R CMD check' started to fail recently on the Linux builder(s) over a missing dependency, add the missing dependency to 'Suggests:' in your DESCRIPTION file. See Renviron.bioc for more information. |
| Package: SNPhood |
| Version: 1.41.0 |
| Command: /Library/Frameworks/R.framework/Resources/bin/R CMD check --install=check:SNPhood.install-out.txt --library=/Library/Frameworks/R.framework/Resources/library --no-vignettes --timings SNPhood_1.41.0.tar.gz |
| StartedAt: 2025-11-21 22:35:31 -0500 (Fri, 21 Nov 2025) |
| EndedAt: 2025-11-21 22:40:11 -0500 (Fri, 21 Nov 2025) |
| EllapsedTime: 279.3 seconds |
| RetCode: 0 |
| Status: OK |
| CheckDir: SNPhood.Rcheck |
| Warnings: 0 |
##############################################################################
##############################################################################
###
### Running command:
###
### /Library/Frameworks/R.framework/Resources/bin/R CMD check --install=check:SNPhood.install-out.txt --library=/Library/Frameworks/R.framework/Resources/library --no-vignettes --timings SNPhood_1.41.0.tar.gz
###
##############################################################################
##############################################################################
* using log directory ‘/Users/biocbuild/bbs-3.23-bioc/meat/SNPhood.Rcheck’
* using R Under development (unstable) (2025-11-04 r88984)
* using platform: aarch64-apple-darwin20
* R was compiled by
Apple clang version 16.0.0 (clang-1600.0.26.6)
GNU Fortran (GCC) 14.2.0
* running under: macOS Ventura 13.7.8
* using session charset: UTF-8
* using option ‘--no-vignettes’
* checking for file ‘SNPhood/DESCRIPTION’ ... OK
* this is package ‘SNPhood’ version ‘1.41.0’
* checking package namespace information ... OK
* checking package dependencies ... OK
* checking if this is a source package ... OK
* checking if there is a namespace ... OK
* checking for hidden files and directories ... OK
* checking for portable file names ... OK
* checking for sufficient/correct file permissions ... OK
* checking whether package ‘SNPhood’ can be installed ... OK
* checking installed package size ... OK
* checking package directory ... OK
* checking ‘build’ directory ... OK
* checking DESCRIPTION meta-information ... NOTE
BugReports field is not a suitable URL but contains an email address:
use the Contact field instead
* checking top-level files ... OK
* checking for left-over files ... OK
* checking index information ... OK
* checking package subdirectories ... OK
* checking code files for non-ASCII characters ... OK
* checking R files for syntax errors ... OK
* checking whether the package can be loaded ... OK
* checking whether the package can be loaded with stated dependencies ... OK
* checking whether the package can be unloaded cleanly ... OK
* checking whether the namespace can be loaded with stated dependencies ... OK
* checking whether the namespace can be unloaded cleanly ... OK
* checking whether startup messages can be suppressed ... OK
* checking dependencies in R code ... OK
* checking S3 generic/method consistency ... OK
* checking replacement functions ... OK
* checking foreign function calls ... OK
* checking R code for possible problems ... NOTE
.calcBinomTestVector: no visible binding for global variable ‘pp’
Undefined global functions or variables:
pp
* checking Rd files ... OK
* checking Rd metadata ... OK
* checking Rd cross-references ... NOTE
Found the following Rd file(s) with Rd \link{} targets missing package
anchors:
analyzeSNPhood.Rd: BamFile-class, BamFileList-class
collectFiles.Rd: BamFile-class, BamFileList-class
Please provide package anchors for all Rd \link{} targets not in the
package itself and the base packages.
* checking for missing documentation entries ... OK
* checking for code/documentation mismatches ... OK
* checking Rd \usage sections ... OK
* checking Rd contents ... OK
* checking for unstated dependencies in examples ... OK
* checking contents of ‘data’ directory ... OK
* checking data for non-ASCII characters ... OK
* checking LazyData ... OK
* checking data for ASCII and uncompressed saves ... OK
* checking files in ‘vignettes’ ... OK
* checking examples ... OK
Examples with CPU (user + system) or elapsed time > 5s
user system elapsed
analyzeSNPhood 43.435 0.845 47.421
plotAllelicBiasResults 12.774 0.241 14.121
plotAndSummarizeAllelicBiasTest 12.542 0.139 13.904
plotFDRResults 11.884 0.143 13.500
testForAllelicBiases 11.589 0.174 12.763
annotationBins2 5.007 0.016 5.382
* checking for unstated dependencies in vignettes ... OK
* checking package vignettes ... OK
* checking running R code from vignettes ... SKIPPED
* checking re-building of vignette outputs ... SKIPPED
* checking PDF version of manual ... OK
* DONE
Status: 3 NOTEs
See
‘/Users/biocbuild/bbs-3.23-bioc/meat/SNPhood.Rcheck/00check.log’
for details.
SNPhood.Rcheck/00install.out
############################################################################## ############################################################################## ### ### Running command: ### ### /Library/Frameworks/R.framework/Resources/bin/R CMD INSTALL SNPhood ### ############################################################################## ############################################################################## * installing to library ‘/Library/Frameworks/R.framework/Versions/4.6-arm64/Resources/library’ * installing *source* package ‘SNPhood’ ... ** this is package ‘SNPhood’ version ‘1.41.0’ ** using staged installation ** R ** data *** moving datasets to lazyload DB ** byte-compile and prepare package for lazy loading ** help *** installing help indices ** building package indices ** installing vignettes ** testing if installed package can be loaded from temporary location ** testing if installed package can be loaded from final location ** testing if installed package keeps a record of temporary installation path * DONE (SNPhood)
SNPhood.Rcheck/SNPhood-Ex.timings
| name | user | system | elapsed | |
| analyzeSNPhood | 43.435 | 0.845 | 47.421 | |
| annotation-methods | 0.076 | 0.024 | 0.105 | |
| annotationBins | 0.048 | 0.014 | 0.068 | |
| annotationBins2 | 5.007 | 0.016 | 5.382 | |
| annotationDatasets | 0.047 | 0.011 | 0.058 | |
| annotationReadGroups | 0.056 | 0.008 | 0.065 | |
| annotationRegions | 0.054 | 0.009 | 0.076 | |
| associateGenotypes | 2.007 | 0.084 | 2.251 | |
| bins-methods | 0.047 | 0.011 | 0.060 | |
| changeObjectIntegrityChecking | 0.059 | 0.018 | 0.080 | |
| collectFiles | 0.012 | 0.001 | 0.013 | |
| convertToAllelicFractions | 0.084 | 0.026 | 0.129 | |
| counts-method | 0.085 | 0.013 | 0.105 | |
| datasets-methods | 0.053 | 0.009 | 0.063 | |
| deleteDatasets | 0.548 | 0.018 | 0.581 | |
| deleteReadGroups | 0.064 | 0.015 | 0.081 | |
| deleteRegions | 0.546 | 0.011 | 0.573 | |
| enrichment-methods | 0.059 | 0.006 | 0.066 | |
| getDefaultParameterList | 0 | 0 | 0 | |
| mergeReadGroups | 0.072 | 0.012 | 0.084 | |
| parameters-methods | 0.053 | 0.011 | 0.066 | |
| plotAllelicBiasResults | 12.774 | 0.241 | 14.121 | |
| plotAllelicBiasResultsOverview | 0.393 | 0.014 | 0.420 | |
| plotAndCalculateCorrelationDatasets | 0.621 | 0.013 | 0.663 | |
| plotAndCalculateWeakAndStrongGenotype | 0.260 | 0.021 | 0.289 | |
| plotAndClusterMatrix | 0.213 | 0.018 | 0.270 | |
| plotAndSummarizeAllelicBiasTest | 12.542 | 0.139 | 13.904 | |
| plotBinCounts | 0.562 | 0.019 | 0.674 | |
| plotClusterAverage | 0.264 | 0.010 | 0.301 | |
| plotFDRResults | 11.884 | 0.143 | 13.500 | |
| plotGenotypesPerCluster | 0.180 | 0.016 | 0.208 | |
| plotGenotypesPerSNP | 0.150 | 0.015 | 0.175 | |
| plotRegionCounts | 0.653 | 0.016 | 0.713 | |
| readGroups-methods | 0.053 | 0.018 | 0.071 | |
| regions-methods | 0.091 | 0.025 | 0.122 | |
| renameBins | 0.059 | 0.011 | 0.084 | |
| renameDatasets | 0.062 | 0.019 | 0.087 | |
| renameReadGroups | 0.059 | 0.016 | 0.090 | |
| renameRegions | 1.263 | 0.047 | 1.362 | |
| results | 0.915 | 3.373 | 4.365 | |
| testForAllelicBiases | 11.589 | 0.174 | 12.763 | |