Back to Multiple platform build/check report for BioC 3.23:   simplified   long
ABCDEFGHIJKLMNO[P]QRSTUVWXYZ

This page was generated on 2025-11-24 11:38 -0500 (Mon, 24 Nov 2025).

HostnameOSArch (*)R versionInstalled pkgs
nebbiolo1Linux (Ubuntu 24.04.3 LTS)x86_64R Under development (unstable) (2025-10-20 r88955) -- "Unsuffered Consequences" 4829
lconwaymacOS 12.7.6 Montereyx86_64R Under development (unstable) (2025-10-21 r88958) -- "Unsuffered Consequences" 4605
kjohnson3macOS 13.7.7 Venturaarm64R Under development (unstable) (2025-11-04 r88984) -- "Unsuffered Consequences" 4568
Click on any hostname to see more info about the system (e.g. compilers)      (*) as reported by 'uname -p', except on Windows and Mac OS X

Package 1576/2327HostnameOS / ArchINSTALLBUILDCHECKBUILD BIN
PhyloProfile 2.3.2  (landing page)
Vinh Tran
Snapshot Date: 2025-11-23 13:40 -0500 (Sun, 23 Nov 2025)
git_url: https://git.bioconductor.org/packages/PhyloProfile
git_branch: devel
git_last_commit: 139f3a1
git_last_commit_date: 2025-11-18 05:18:17 -0500 (Tue, 18 Nov 2025)
nebbiolo1Linux (Ubuntu 24.04.3 LTS) / x86_64  OK    OK    OK  UNNEEDED, same version is already published
lconwaymacOS 12.7.6 Monterey / x86_64  OK    OK    OK    OK  UNNEEDED, same version is already published
kjohnson3macOS 13.7.7 Ventura / arm64  OK    OK    OK    OK  UNNEEDED, same version is already published


CHECK results for PhyloProfile on nebbiolo1

To the developers/maintainers of the PhyloProfile package:
- Allow up to 24 hours (and sometimes 48 hours) for your latest push to git@git.bioconductor.org:packages/PhyloProfile.git to reflect on this report. See Troubleshooting Build Report for more information.
- Use the following Renviron settings to reproduce errors and warnings.
- If 'R CMD check' started to fail recently on the Linux builder(s) over a missing dependency, add the missing dependency to 'Suggests:' in your DESCRIPTION file. See Renviron.bioc for more information.

raw results


Summary

Package: PhyloProfile
Version: 2.3.2
Command: /home/biocbuild/bbs-3.23-bioc/R/bin/R CMD check --install=check:PhyloProfile.install-out.txt --library=/home/biocbuild/bbs-3.23-bioc/R/site-library --timings PhyloProfile_2.3.2.tar.gz
StartedAt: 2025-11-24 02:34:27 -0500 (Mon, 24 Nov 2025)
EndedAt: 2025-11-24 02:37:37 -0500 (Mon, 24 Nov 2025)
EllapsedTime: 189.3 seconds
RetCode: 0
Status:   OK  
CheckDir: PhyloProfile.Rcheck
Warnings: 0

Command output

##############################################################################
##############################################################################
###
### Running command:
###
###   /home/biocbuild/bbs-3.23-bioc/R/bin/R CMD check --install=check:PhyloProfile.install-out.txt --library=/home/biocbuild/bbs-3.23-bioc/R/site-library --timings PhyloProfile_2.3.2.tar.gz
###
##############################################################################
##############################################################################


* using log directory ‘/home/biocbuild/bbs-3.23-bioc/meat/PhyloProfile.Rcheck’
* using R Under development (unstable) (2025-10-20 r88955)
* using platform: x86_64-pc-linux-gnu
* R was compiled by
    gcc (Ubuntu 13.3.0-6ubuntu2~24.04) 13.3.0
    GNU Fortran (Ubuntu 13.3.0-6ubuntu2~24.04) 13.3.0
* running under: Ubuntu 24.04.3 LTS
* using session charset: UTF-8
* checking for file ‘PhyloProfile/DESCRIPTION’ ... OK
* this is package ‘PhyloProfile’ version ‘2.3.2’
* package encoding: UTF-8
* checking package namespace information ... OK
* checking package dependencies ... INFO
Imports includes 31 non-default packages.
Importing from so many packages makes the package vulnerable to any of
them becoming unavailable.  Move as many as possible to Suggests and
use conditionally.
* checking if this is a source package ... OK
* checking if there is a namespace ... OK
* checking for hidden files and directories ... OK
* checking for portable file names ... OK
* checking for sufficient/correct file permissions ... OK
* checking whether package ‘PhyloProfile’ can be installed ... OK
* checking installed package size ... OK
* checking package directory ... OK
* checking ‘build’ directory ... OK
* checking DESCRIPTION meta-information ... OK
* checking top-level files ... OK
* checking for left-over files ... OK
* checking index information ... OK
* checking package subdirectories ... OK
* checking code files for non-ASCII characters ... OK
* checking R files for syntax errors ... OK
* checking whether the package can be loaded ... OK
* checking whether the package can be loaded with stated dependencies ... OK
* checking whether the package can be unloaded cleanly ... OK
* checking whether the namespace can be loaded with stated dependencies ... OK
* checking whether the namespace can be unloaded cleanly ... OK
* checking loading without being on the library search path ... OK
* checking dependencies in R code ... OK
* checking S3 generic/method consistency ... OK
* checking replacement functions ... OK
* checking foreign function calls ... OK
* checking R code for possible problems ... OK
* checking Rd files ... OK
* checking Rd metadata ... OK
* checking Rd cross-references ... OK
* checking for missing documentation entries ... OK
* checking for code/documentation mismatches ... OK
* checking Rd \usage sections ... OK
* checking Rd contents ... OK
* checking for unstated dependencies in examples ... OK
* checking contents of ‘data’ directory ... OK
* checking data for non-ASCII characters ... OK
* checking data for ASCII and uncompressed saves ... OK
* checking files in ‘vignettes’ ... OK
* checking examples ... OK
* checking for unstated dependencies in ‘tests’ ... OK
* checking tests ...
  Running ‘testthat.R’
 OK
* checking for unstated dependencies in vignettes ... OK
* checking package vignettes ... OK
* checking re-building of vignette outputs ... OK
* checking PDF version of manual ... OK
* DONE

Status: OK


Installation output

PhyloProfile.Rcheck/00install.out

##############################################################################
##############################################################################
###
### Running command:
###
###   /home/biocbuild/bbs-3.23-bioc/R/bin/R CMD INSTALL PhyloProfile
###
##############################################################################
##############################################################################


* installing to library ‘/home/biocbuild/bbs-3.23-bioc/R/site-library’
* installing *source* package ‘PhyloProfile’ ...
** this is package ‘PhyloProfile’ version ‘2.3.2’
** using staged installation
** R
** data
** inst
** byte-compile and prepare package for lazy loading
** help
*** installing help indices
** building package indices
** installing vignettes
** testing if installed package can be loaded from temporary location
** testing if installed package can be loaded from final location
** testing if installed package keeps a record of temporary installation path
* DONE (PhyloProfile)

Tests output

PhyloProfile.Rcheck/tests/testthat.Rout


R Under development (unstable) (2025-10-20 r88955) -- "Unsuffered Consequences"
Copyright (C) 2025 The R Foundation for Statistical Computing
Platform: x86_64-pc-linux-gnu

R is free software and comes with ABSOLUTELY NO WARRANTY.
You are welcome to redistribute it under certain conditions.
Type 'license()' or 'licence()' for distribution details.

R is a collaborative project with many contributors.
Type 'contributors()' for more information and
'citation()' on how to cite R or R packages in publications.

Type 'demo()' for some demos, 'help()' for on-line help, or
'help.start()' for an HTML browser interface to help.
Type 'q()' to quit R.

> library(testthat)
> library(PhyloProfile)
> 
> test_check("PhyloProfile")
[ FAIL 0 | WARN 0 | SKIP 1 | PASS 22 ]

══ Skipped tests (1) ═══════════════════════════════════════════════════════════
• empty test (1):

[ FAIL 0 | WARN 0 | SKIP 1 | PASS 22 ]
> 
> proc.time()
   user  system elapsed 
  7.301   0.460   7.748 

Example timings

PhyloProfile.Rcheck/PhyloProfile-Ex.timings

nameusersystemelapsed
addDimRedTaxaColors0.7270.0210.748
addFeatureColors0.0280.0010.029
addRankDivisionPlot0.9660.0411.007
calcPresSpec0.0310.0010.032
checkColorPalette0.0000.0010.000
checkInputValidity0.0030.0000.004
checkNewick0.0020.0000.002
checkOmaID000
checkOverlapDomains0.0130.0010.014
clusterDataDend0.0170.0000.017
compareMedianTaxonGroups0.0230.0010.023
compareTaxonGroups0.4740.0900.564
createArchiPlot2.0830.0202.104
createDimRedPlotData0.5720.0170.589
createGeneAgePlot0.3030.0020.305
createLongMatrix0.0150.0030.018
createPercentageDistributionData0.0640.0040.068
createProfileFromOma000
createUnrootedTree0.0120.0000.012
createVarDistPlot0.2460.0010.247
createVariableDistributionData0.0060.0020.009
createVariableDistributionDataSubset0.0070.0000.007
dataCustomizedPlot0.0330.0000.033
dataFeatureTaxGroup0.0130.0000.014
dataMainPlot0.0370.0080.045
dataVarDistTaxGroup0.0050.0010.006
dimReduction0.5770.0080.585
estimateGeneAge0.1130.0030.117
fastaParser0.030.000.03
featureDistTaxPlot0.3130.0010.314
filterProfileData0.1010.0250.125
fromInputToProfile0.1580.0030.160
geneAgePlotDf0.0080.0000.007
generateSinglePlot0.4660.0030.470
getAllDomainsOma000
getAllFastaOma0.0010.0000.000
getCommonAncestor0.0260.0040.031
getCoreGene0.0860.0040.089
getDataClustering0.0130.0010.015
getDataForOneOma000
getDendrogram0.0430.0010.044
getDistanceMatrix0.0190.0000.018
getDomainFolder0.0000.0000.001
getFastaFromFasInput0.0140.0010.015
getFastaFromFile0.0090.0000.010
getFastaFromFolder0.0070.0000.007
getIDsRank0.0170.0020.019
getInputTaxaID0.0020.0000.002
getInputTaxaName0.0090.0010.010
getNameList0.0140.0230.037
getOmaDataForOneOrtholog0.0000.0010.001
getOmaDomainFromURL000
getOmaMembers000
getQualColForVector0.0000.0010.000
getSelectedFastaOma0.0000.0000.001
getSelectedTaxonNames0.0160.0000.016
getTaxHierarchy0.0120.0020.014
getTaxonomyInfo0.0110.0020.013
getTaxonomyMatrix0.0740.0870.160
getTaxonomyRanks000
gridArrangeSharedLegend000
groupLabelDimRedData0.0590.0040.062
heatmapPlotting0.3920.0010.394
heatmapPlottingFast4.5490.3994.595
highlightProfilePlot0.4590.0020.462
id2name0.0040.0000.004
joinPlotMergeLegends0.6900.0010.692
linearizeArchitecture0.0080.0000.008
mainTaxonomyRank0.0000.0010.000
modifyFeatureName0.0100.0170.027
pairDomainPlotting0.5470.0020.549
parseDomainInput0.0120.0140.026
parseInfoProfile0.1110.0150.126
plotDimRed0.9720.0260.997
plotDimRed3D0.8350.0140.849
prepareDimRedData0.0480.0020.050
processNcbiTaxonomy000
processOrthoID0.1210.0280.169
qualitativeColours0.0000.0000.001
rankIndexing0.0390.0010.041
reduceProfile0.0450.0000.046
resolveOverlapFeatures0.0160.0000.017
runPhyloProfile0.0860.0090.096
singleDomainPlotting0.2710.0000.271
sortDomains0.0050.0020.007
sortDomainsByList0.0080.0000.009
sortInputTaxa0.0260.0000.026
sortTaxaFromTree0.010.000.01
taxonomyTableCreator0.0750.0030.077
varDistTaxPlot1.1130.0281.141
wideToLong0.0110.0050.015
xmlParser0.0140.0030.017