Back to Multiple platform build/check report for BioC 3.23:   simplified   long
ABCDEFGHIJKLMNO[P]QRSTUVWXYZ

This page was generated on 2025-11-21 11:38 -0500 (Fri, 21 Nov 2025).

HostnameOSArch (*)R versionInstalled pkgs
nebbiolo1Linux (Ubuntu 24.04.3 LTS)x86_64R Under development (unstable) (2025-10-20 r88955) -- "Unsuffered Consequences" 4829
lconwaymacOS 12.7.6 Montereyx86_64R Under development (unstable) (2025-10-21 r88958) -- "Unsuffered Consequences" 4602
kjohnson3macOS 13.7.7 Venturaarm64R Under development (unstable) (2025-11-04 r88984) -- "Unsuffered Consequences" 4566
Click on any hostname to see more info about the system (e.g. compilers)      (*) as reported by 'uname -p', except on Windows and Mac OS X

Package 1576/2327HostnameOS / ArchINSTALLBUILDCHECKBUILD BIN
PhyloProfile 2.3.2  (landing page)
Vinh Tran
Snapshot Date: 2025-11-20 13:40 -0500 (Thu, 20 Nov 2025)
git_url: https://git.bioconductor.org/packages/PhyloProfile
git_branch: devel
git_last_commit: 139f3a1
git_last_commit_date: 2025-11-18 05:18:17 -0500 (Tue, 18 Nov 2025)
nebbiolo1Linux (Ubuntu 24.04.3 LTS) / x86_64  OK    OK    OK  UNNEEDED, same version is already published
lconwaymacOS 12.7.6 Monterey / x86_64  OK    OK    OK    OK  UNNEEDED, same version is already published
kjohnson3macOS 13.7.7 Ventura / arm64  OK    OK    OK    OK  UNNEEDED, same version is already published


CHECK results for PhyloProfile on lconway

To the developers/maintainers of the PhyloProfile package:
- Allow up to 24 hours (and sometimes 48 hours) for your latest push to git@git.bioconductor.org:packages/PhyloProfile.git to reflect on this report. See Troubleshooting Build Report for more information.
- Use the following Renviron settings to reproduce errors and warnings.
- If 'R CMD check' started to fail recently on the Linux builder(s) over a missing dependency, add the missing dependency to 'Suggests:' in your DESCRIPTION file. See Renviron.bioc for more information.

raw results


Summary

Package: PhyloProfile
Version: 2.3.2
Command: /Library/Frameworks/R.framework/Resources/bin/R CMD check --install=check:PhyloProfile.install-out.txt --library=/Library/Frameworks/R.framework/Resources/library --no-vignettes --timings PhyloProfile_2.3.2.tar.gz
StartedAt: 2025-11-20 23:13:09 -0500 (Thu, 20 Nov 2025)
EndedAt: 2025-11-20 23:16:38 -0500 (Thu, 20 Nov 2025)
EllapsedTime: 209.4 seconds
RetCode: 0
Status:   OK  
CheckDir: PhyloProfile.Rcheck
Warnings: 0

Command output

##############################################################################
##############################################################################
###
### Running command:
###
###   /Library/Frameworks/R.framework/Resources/bin/R CMD check --install=check:PhyloProfile.install-out.txt --library=/Library/Frameworks/R.framework/Resources/library --no-vignettes --timings PhyloProfile_2.3.2.tar.gz
###
##############################################################################
##############################################################################


* using log directory ‘/Users/biocbuild/bbs-3.23-bioc/meat/PhyloProfile.Rcheck’
* using R Under development (unstable) (2025-10-21 r88958)
* using platform: x86_64-apple-darwin20
* R was compiled by
    Apple clang version 14.0.0 (clang-1400.0.29.202)
    GNU Fortran (GCC) 14.2.0
* running under: macOS Ventura 13.7.8
* using session charset: UTF-8
* using option ‘--no-vignettes’
* checking for file ‘PhyloProfile/DESCRIPTION’ ... OK
* this is package ‘PhyloProfile’ version ‘2.3.2’
* package encoding: UTF-8
* checking package namespace information ... OK
* checking package dependencies ... INFO
Imports includes 31 non-default packages.
Importing from so many packages makes the package vulnerable to any of
them becoming unavailable.  Move as many as possible to Suggests and
use conditionally.
* checking if this is a source package ... OK
* checking if there is a namespace ... OK
* checking for hidden files and directories ... OK
* checking for portable file names ... OK
* checking for sufficient/correct file permissions ... OK
* checking whether package ‘PhyloProfile’ can be installed ... OK
* checking installed package size ... OK
* checking package directory ... OK
* checking ‘build’ directory ... OK
* checking DESCRIPTION meta-information ... OK
* checking top-level files ... OK
* checking for left-over files ... OK
* checking index information ... OK
* checking package subdirectories ... OK
* checking code files for non-ASCII characters ... OK
* checking R files for syntax errors ... OK
* checking whether the package can be loaded ... OK
* checking whether the package can be loaded with stated dependencies ... OK
* checking whether the package can be unloaded cleanly ... OK
* checking whether the namespace can be loaded with stated dependencies ... OK
* checking whether the namespace can be unloaded cleanly ... OK
* checking dependencies in R code ... OK
* checking S3 generic/method consistency ... OK
* checking replacement functions ... OK
* checking foreign function calls ... OK
* checking R code for possible problems ... OK
* checking Rd files ... OK
* checking Rd metadata ... OK
* checking Rd cross-references ... OK
* checking for missing documentation entries ... OK
* checking for code/documentation mismatches ... OK
* checking Rd \usage sections ... OK
* checking Rd contents ... OK
* checking for unstated dependencies in examples ... OK
* checking contents of ‘data’ directory ... OK
* checking data for non-ASCII characters ... OK
* checking data for ASCII and uncompressed saves ... OK
* checking files in ‘vignettes’ ... OK
* checking examples ... OK
Examples with CPU (user + system) or elapsed time > 5s
                    user system elapsed
heatmapPlottingFast 4.93   0.23   4.919
* checking for unstated dependencies in ‘tests’ ... OK
* checking tests ...
  Running ‘testthat.R’
 OK
* checking for unstated dependencies in vignettes ... OK
* checking package vignettes ... OK
* checking running R code from vignettes ... SKIPPED
* checking re-building of vignette outputs ... SKIPPED
* checking PDF version of manual ... OK
* DONE

Status: OK


Installation output

PhyloProfile.Rcheck/00install.out

##############################################################################
##############################################################################
###
### Running command:
###
###   /Library/Frameworks/R.framework/Resources/bin/R CMD INSTALL PhyloProfile
###
##############################################################################
##############################################################################


* installing to library ‘/Library/Frameworks/R.framework/Versions/4.6-x86_64/Resources/library’
* installing *source* package ‘PhyloProfile’ ...
** this is package ‘PhyloProfile’ version ‘2.3.2’
** using staged installation
** R
** data
** inst
** byte-compile and prepare package for lazy loading
** help
*** installing help indices
** building package indices
** installing vignettes
** testing if installed package can be loaded from temporary location
** testing if installed package can be loaded from final location
** testing if installed package keeps a record of temporary installation path
* DONE (PhyloProfile)

Tests output

PhyloProfile.Rcheck/tests/testthat.Rout


R Under development (unstable) (2025-10-21 r88958) -- "Unsuffered Consequences"
Copyright (C) 2025 The R Foundation for Statistical Computing
Platform: x86_64-apple-darwin20

R is free software and comes with ABSOLUTELY NO WARRANTY.
You are welcome to redistribute it under certain conditions.
Type 'license()' or 'licence()' for distribution details.

R is a collaborative project with many contributors.
Type 'contributors()' for more information and
'citation()' on how to cite R or R packages in publications.

Type 'demo()' for some demos, 'help()' for on-line help, or
'help.start()' for an HTML browser interface to help.
Type 'q()' to quit R.

> library(testthat)
> library(PhyloProfile)
> 
> test_check("PhyloProfile")
[ FAIL 0 | WARN 0 | SKIP 1 | PASS 22 ]

══ Skipped tests (1) ═══════════════════════════════════════════════════════════
• empty test (1):

[ FAIL 0 | WARN 0 | SKIP 1 | PASS 22 ]
> 
> proc.time()
   user  system elapsed 
  8.646   0.685   9.410 

Example timings

PhyloProfile.Rcheck/PhyloProfile-Ex.timings

nameusersystemelapsed
addDimRedTaxaColors0.9480.0441.016
addFeatureColors0.0420.0060.050
addRankDivisionPlot1.3210.0451.381
calcPresSpec0.0470.0040.052
checkColorPalette0.0000.0000.001
checkInputValidity0.0040.0010.006
checkNewick0.0020.0010.004
checkOmaID0.0000.0010.000
checkOverlapDomains0.0170.0020.019
clusterDataDend0.0190.0030.022
compareMedianTaxonGroups0.0250.0060.032
compareTaxonGroups0.5570.0080.568
createArchiPlot2.4320.0422.489
createDimRedPlotData0.7080.0240.736
createGeneAgePlot0.3620.0040.369
createLongMatrix0.0130.0070.020
createPercentageDistributionData0.0750.0160.093
createProfileFromOma0.0000.0000.001
createUnrootedTree0.0130.0010.014
createVarDistPlot0.3090.0040.314
createVariableDistributionData0.0070.0030.011
createVariableDistributionDataSubset0.0090.0020.011
dataCustomizedPlot0.0320.0020.034
dataFeatureTaxGroup0.0160.0030.019
dataMainPlot0.0540.0090.062
dataVarDistTaxGroup0.0050.0020.007
dimReduction0.7270.0160.747
estimateGeneAge0.1400.0190.161
fastaParser0.0310.0020.032
featureDistTaxPlot0.4120.0050.418
filterProfileData0.1280.0370.168
fromInputToProfile0.2010.0150.218
geneAgePlotDf0.0090.0010.010
generateSinglePlot0.5420.0070.553
getAllDomainsOma000
getAllFastaOma000
getCommonAncestor0.0300.0050.035
getCoreGene0.0990.0160.116
getDataClustering0.0180.0030.020
getDataForOneOma000
getDendrogram0.0480.0030.051
getDistanceMatrix0.0170.0020.019
getDomainFolder0.0010.0010.000
getFastaFromFasInput0.0160.0020.018
getFastaFromFile0.0100.0020.012
getFastaFromFolder0.0100.0020.012
getIDsRank0.0230.0030.026
getInputTaxaID0.0030.0020.005
getInputTaxaName0.0120.0050.016
getNameList0.0190.0260.046
getOmaDataForOneOrtholog000
getOmaDomainFromURL000
getOmaMembers0.0000.0000.001
getQualColForVector000
getSelectedFastaOma0.0010.0000.001
getSelectedTaxonNames0.0180.0070.024
getTaxHierarchy0.0170.0020.019
getTaxonomyInfo0.0140.0020.017
getTaxonomyMatrix0.1190.1180.238
getTaxonomyRanks0.0010.0000.001
gridArrangeSharedLegend0.0010.0000.001
groupLabelDimRedData0.0630.0090.072
heatmapPlotting0.4510.0050.459
heatmapPlottingFast4.9300.2304.919
highlightProfilePlot0.5100.0330.545
id2name0.0040.0010.005
joinPlotMergeLegends0.8750.0090.890
linearizeArchitecture0.0100.0010.011
mainTaxonomyRank0.0000.0010.001
modifyFeatureName0.0160.0140.032
pairDomainPlotting0.6200.0050.629
parseDomainInput0.0150.0100.026
parseInfoProfile0.1310.0110.143
plotDimRed1.1350.0151.154
plotDimRed3D1.0230.0381.065
prepareDimRedData0.0620.0090.071
processNcbiTaxonomy000
processOrthoID0.1390.0910.288
qualitativeColours0.0000.0010.000
rankIndexing0.0490.0020.051
reduceProfile0.0510.0020.053
resolveOverlapFeatures0.0170.0010.019
runPhyloProfile0.0910.0560.169
singleDomainPlotting0.3040.0040.309
sortDomains0.0080.0010.009
sortDomainsByList0.0120.0010.014
sortInputTaxa0.0270.0080.035
sortTaxaFromTree0.0100.0020.011
taxonomyTableCreator0.0840.0030.088
varDistTaxPlot1.3160.0161.338
wideToLong0.0110.0060.017
xmlParser0.0180.0030.021