Back to Multiple platform build/check report for BioC 3.23:   simplified   long
ABCDEFGHIJKLMNO[P]QRSTUVWXYZ

This page was generated on 2025-11-21 11:39 -0500 (Fri, 21 Nov 2025).

HostnameOSArch (*)R versionInstalled pkgs
nebbiolo1Linux (Ubuntu 24.04.3 LTS)x86_64R Under development (unstable) (2025-10-20 r88955) -- "Unsuffered Consequences" 4829
lconwaymacOS 12.7.6 Montereyx86_64R Under development (unstable) (2025-10-21 r88958) -- "Unsuffered Consequences" 4602
kjohnson3macOS 13.7.7 Venturaarm64R Under development (unstable) (2025-11-04 r88984) -- "Unsuffered Consequences" 4566
Click on any hostname to see more info about the system (e.g. compilers)      (*) as reported by 'uname -p', except on Windows and Mac OS X

Package 1576/2327HostnameOS / ArchINSTALLBUILDCHECKBUILD BIN
PhyloProfile 2.3.2  (landing page)
Vinh Tran
Snapshot Date: 2025-11-20 13:40 -0500 (Thu, 20 Nov 2025)
git_url: https://git.bioconductor.org/packages/PhyloProfile
git_branch: devel
git_last_commit: 139f3a1
git_last_commit_date: 2025-11-18 05:18:17 -0500 (Tue, 18 Nov 2025)
nebbiolo1Linux (Ubuntu 24.04.3 LTS) / x86_64  OK    OK    OK  UNNEEDED, same version is already published
lconwaymacOS 12.7.6 Monterey / x86_64  OK    OK    OK    OK  UNNEEDED, same version is already published
kjohnson3macOS 13.7.7 Ventura / arm64  OK    OK    OK    OK  UNNEEDED, same version is already published


CHECK results for PhyloProfile on kjohnson3

To the developers/maintainers of the PhyloProfile package:
- Allow up to 24 hours (and sometimes 48 hours) for your latest push to git@git.bioconductor.org:packages/PhyloProfile.git to reflect on this report. See Troubleshooting Build Report for more information.
- Use the following Renviron settings to reproduce errors and warnings.
- If 'R CMD check' started to fail recently on the Linux builder(s) over a missing dependency, add the missing dependency to 'Suggests:' in your DESCRIPTION file. See Renviron.bioc for more information.

raw results


Summary

Package: PhyloProfile
Version: 2.3.2
Command: /Library/Frameworks/R.framework/Resources/bin/R CMD check --install=check:PhyloProfile.install-out.txt --library=/Library/Frameworks/R.framework/Resources/library --no-vignettes --timings PhyloProfile_2.3.2.tar.gz
StartedAt: 2025-11-20 21:41:21 -0500 (Thu, 20 Nov 2025)
EndedAt: 2025-11-20 21:42:37 -0500 (Thu, 20 Nov 2025)
EllapsedTime: 76.1 seconds
RetCode: 0
Status:   OK  
CheckDir: PhyloProfile.Rcheck
Warnings: 0

Command output

##############################################################################
##############################################################################
###
### Running command:
###
###   /Library/Frameworks/R.framework/Resources/bin/R CMD check --install=check:PhyloProfile.install-out.txt --library=/Library/Frameworks/R.framework/Resources/library --no-vignettes --timings PhyloProfile_2.3.2.tar.gz
###
##############################################################################
##############################################################################


* using log directory ‘/Users/biocbuild/bbs-3.23-bioc/meat/PhyloProfile.Rcheck’
* using R Under development (unstable) (2025-11-04 r88984)
* using platform: aarch64-apple-darwin20
* R was compiled by
    Apple clang version 16.0.0 (clang-1600.0.26.6)
    GNU Fortran (GCC) 14.2.0
* running under: macOS Ventura 13.7.8
* using session charset: UTF-8
* using option ‘--no-vignettes’
* checking for file ‘PhyloProfile/DESCRIPTION’ ... OK
* this is package ‘PhyloProfile’ version ‘2.3.2’
* package encoding: UTF-8
* checking package namespace information ... OK
* checking package dependencies ... INFO
Imports includes 31 non-default packages.
Importing from so many packages makes the package vulnerable to any of
them becoming unavailable.  Move as many as possible to Suggests and
use conditionally.
* checking if this is a source package ... OK
* checking if there is a namespace ... OK
* checking for hidden files and directories ... OK
* checking for portable file names ... OK
* checking for sufficient/correct file permissions ... OK
* checking whether package ‘PhyloProfile’ can be installed ... OK
* checking installed package size ... OK
* checking package directory ... OK
* checking ‘build’ directory ... OK
* checking DESCRIPTION meta-information ... OK
* checking top-level files ... OK
* checking for left-over files ... OK
* checking index information ... OK
* checking package subdirectories ... OK
* checking code files for non-ASCII characters ... OK
* checking R files for syntax errors ... OK
* checking whether the package can be loaded ... OK
* checking whether the package can be loaded with stated dependencies ... OK
* checking whether the package can be unloaded cleanly ... OK
* checking whether the namespace can be loaded with stated dependencies ... OK
* checking whether the namespace can be unloaded cleanly ... OK
* checking dependencies in R code ... OK
* checking S3 generic/method consistency ... OK
* checking replacement functions ... OK
* checking foreign function calls ... OK
* checking R code for possible problems ... OK
* checking Rd files ... OK
* checking Rd metadata ... OK
* checking Rd cross-references ... OK
* checking for missing documentation entries ... OK
* checking for code/documentation mismatches ... OK
* checking Rd \usage sections ... OK
* checking Rd contents ... OK
* checking for unstated dependencies in examples ... OK
* checking contents of ‘data’ directory ... OK
* checking data for non-ASCII characters ... OK
* checking data for ASCII and uncompressed saves ... OK
* checking files in ‘vignettes’ ... OK
* checking examples ... OK
* checking for unstated dependencies in ‘tests’ ... OK
* checking tests ...
  Running ‘testthat.R’
 OK
* checking for unstated dependencies in vignettes ... OK
* checking package vignettes ... OK
* checking running R code from vignettes ... SKIPPED
* checking re-building of vignette outputs ... SKIPPED
* checking PDF version of manual ... OK
* DONE

Status: OK


Installation output

PhyloProfile.Rcheck/00install.out

##############################################################################
##############################################################################
###
### Running command:
###
###   /Library/Frameworks/R.framework/Resources/bin/R CMD INSTALL PhyloProfile
###
##############################################################################
##############################################################################


* installing to library ‘/Library/Frameworks/R.framework/Versions/4.6-arm64/Resources/library’
* installing *source* package ‘PhyloProfile’ ...
** this is package ‘PhyloProfile’ version ‘2.3.2’
** using staged installation
** R
** data
** inst
** byte-compile and prepare package for lazy loading
** help
*** installing help indices
** building package indices
** installing vignettes
** testing if installed package can be loaded from temporary location
** testing if installed package can be loaded from final location
** testing if installed package keeps a record of temporary installation path
* DONE (PhyloProfile)

Tests output

PhyloProfile.Rcheck/tests/testthat.Rout


R Under development (unstable) (2025-11-04 r88984) -- "Unsuffered Consequences"
Copyright (C) 2025 The R Foundation for Statistical Computing
Platform: aarch64-apple-darwin20

R is free software and comes with ABSOLUTELY NO WARRANTY.
You are welcome to redistribute it under certain conditions.
Type 'license()' or 'licence()' for distribution details.

R is a collaborative project with many contributors.
Type 'contributors()' for more information and
'citation()' on how to cite R or R packages in publications.

Type 'demo()' for some demos, 'help()' for on-line help, or
'help.start()' for an HTML browser interface to help.
Type 'q()' to quit R.

> library(testthat)
> library(PhyloProfile)
> 
> test_check("PhyloProfile")
[ FAIL 0 | WARN 0 | SKIP 1 | PASS 22 ]

══ Skipped tests (1) ═══════════════════════════════════════════════════════════
• empty test (1):

[ FAIL 0 | WARN 0 | SKIP 1 | PASS 22 ]
> 
> proc.time()
   user  system elapsed 
  3.140   0.185   3.409 

Example timings

PhyloProfile.Rcheck/PhyloProfile-Ex.timings

nameusersystemelapsed
addDimRedTaxaColors0.3540.0080.364
addFeatureColors0.0120.0010.014
addRankDivisionPlot0.3520.0100.364
calcPresSpec0.0150.0010.016
checkColorPalette0.0000.0000.001
checkInputValidity0.0020.0010.002
checkNewick0.0010.0000.001
checkOmaID000
checkOverlapDomains0.0060.0010.007
clusterDataDend0.0070.0010.007
compareMedianTaxonGroups0.0080.0010.010
compareTaxonGroups0.2820.0080.293
createArchiPlot0.6650.0100.686
createDimRedPlotData0.2830.0050.288
createGeneAgePlot0.1050.0010.106
createLongMatrix0.0050.0020.008
createPercentageDistributionData0.0240.0050.029
createProfileFromOma000
createUnrootedTree0.0040.0000.005
createVarDistPlot0.0900.0010.092
createVariableDistributionData0.0030.0020.004
createVariableDistributionDataSubset0.0030.0000.003
dataCustomizedPlot0.010.000.01
dataFeatureTaxGroup0.0040.0000.005
dataMainPlot0.0120.0040.016
dataVarDistTaxGroup0.0020.0010.003
dimReduction0.2870.0040.293
estimateGeneAge0.0480.0050.054
fastaParser0.0130.0000.014
featureDistTaxPlot0.1410.0020.143
filterProfileData0.0380.0120.051
fromInputToProfile0.0570.0050.062
geneAgePlotDf0.0030.0000.003
generateSinglePlot0.1580.0010.175
getAllDomainsOma000
getAllFastaOma000
getCommonAncestor0.0100.0020.013
getCoreGene0.0330.0050.038
getDataClustering0.0050.0000.005
getDataForOneOma000
getDendrogram0.0150.0010.015
getDistanceMatrix0.0050.0000.005
getDomainFolder0.0000.0010.001
getFastaFromFasInput0.0050.0000.004
getFastaFromFile0.0030.0000.003
getFastaFromFolder0.0020.0000.002
getIDsRank0.0060.0010.007
getInputTaxaID0.0010.0000.001
getInputTaxaName0.0040.0010.004
getNameList0.0060.0070.013
getOmaDataForOneOrtholog000
getOmaDomainFromURL000
getOmaMembers000
getQualColForVector000
getSelectedFastaOma000
getSelectedTaxonNames0.0060.0010.008
getTaxHierarchy0.0040.0000.009
getTaxonomyInfo0.0040.0010.005
getTaxonomyMatrix0.0390.0290.068
getTaxonomyRanks0.0010.0000.000
gridArrangeSharedLegend000
groupLabelDimRedData0.0190.0020.025
heatmapPlotting0.1300.0010.134
heatmapPlottingFast2.2720.0432.194
highlightProfilePlot0.1690.0080.189
id2name0.0020.0010.002
joinPlotMergeLegends0.2400.0020.246
linearizeArchitecture0.0030.0000.003
mainTaxonomyRank000
modifyFeatureName0.0060.0070.013
pairDomainPlotting0.1840.0010.192
parseDomainInput0.0060.0050.015
parseInfoProfile0.0430.0030.049
plotDimRed0.4220.0060.429
plotDimRed3D0.3950.0150.410
prepareDimRedData0.0240.0020.027
processNcbiTaxonomy0.0000.0010.000
processOrthoID0.0480.0260.092
qualitativeColours000
rankIndexing0.0150.0010.016
reduceProfile0.0140.0010.014
resolveOverlapFeatures0.0050.0000.007
runPhyloProfile0.0310.0190.052
singleDomainPlotting0.0930.0010.094
sortDomains0.0030.0010.005
sortDomainsByList0.0030.0010.004
sortInputTaxa0.0100.0020.012
sortTaxaFromTree0.0030.0000.004
taxonomyTableCreator0.0310.0010.032
varDistTaxPlot0.3770.0050.386
wideToLong0.0040.0030.007
xmlParser0.0070.0010.008