| Back to Multiple platform build/check report for BioC 3.23: simplified long |
|
This page was generated on 2025-11-26 11:38 -0500 (Wed, 26 Nov 2025).
| Hostname | OS | Arch (*) | R version | Installed pkgs |
|---|---|---|---|---|
| nebbiolo1 | Linux (Ubuntu 24.04.3 LTS) | x86_64 | R Under development (unstable) (2025-10-20 r88955) -- "Unsuffered Consequences" | 4830 |
| lconway | macOS 12.7.6 Monterey | x86_64 | R Under development (unstable) (2025-10-21 r88958) -- "Unsuffered Consequences" | 4609 |
| kjohnson3 | macOS 13.7.7 Ventura | arm64 | R Under development (unstable) (2025-11-04 r88984) -- "Unsuffered Consequences" | 4569 |
| Click on any hostname to see more info about the system (e.g. compilers) (*) as reported by 'uname -p', except on Windows and Mac OS X | ||||
| Package 1634/2328 | Hostname | OS / Arch | INSTALL | BUILD | CHECK | BUILD BIN | ||||||||
| PRONE 1.5.0 (landing page) Lis Arend
| nebbiolo1 | Linux (Ubuntu 24.04.3 LTS) / x86_64 | OK | OK | OK | |||||||||
| lconway | macOS 12.7.6 Monterey / x86_64 | OK | OK | OK | OK | |||||||||
| kjohnson3 | macOS 13.7.7 Ventura / arm64 | OK | OK | OK | OK | |||||||||
|
To the developers/maintainers of the PRONE package: - Allow up to 24 hours (and sometimes 48 hours) for your latest push to git@git.bioconductor.org:packages/PRONE.git to reflect on this report. See Troubleshooting Build Report for more information. - Use the following Renviron settings to reproduce errors and warnings. - If 'R CMD check' started to fail recently on the Linux builder(s) over a missing dependency, add the missing dependency to 'Suggests:' in your DESCRIPTION file. See Renviron.bioc for more information. |
| Package: PRONE |
| Version: 1.5.0 |
| Command: /home/biocbuild/bbs-3.23-bioc/R/bin/R CMD check --install=check:PRONE.install-out.txt --library=/home/biocbuild/bbs-3.23-bioc/R/site-library --timings PRONE_1.5.0.tar.gz |
| StartedAt: 2025-11-26 02:55:11 -0500 (Wed, 26 Nov 2025) |
| EndedAt: 2025-11-26 03:03:19 -0500 (Wed, 26 Nov 2025) |
| EllapsedTime: 487.6 seconds |
| RetCode: 0 |
| Status: OK |
| CheckDir: PRONE.Rcheck |
| Warnings: 0 |
##############################################################################
##############################################################################
###
### Running command:
###
### /home/biocbuild/bbs-3.23-bioc/R/bin/R CMD check --install=check:PRONE.install-out.txt --library=/home/biocbuild/bbs-3.23-bioc/R/site-library --timings PRONE_1.5.0.tar.gz
###
##############################################################################
##############################################################################
* using log directory ‘/home/biocbuild/bbs-3.23-bioc/meat/PRONE.Rcheck’
* using R Under development (unstable) (2025-10-20 r88955)
* using platform: x86_64-pc-linux-gnu
* R was compiled by
gcc (Ubuntu 13.3.0-6ubuntu2~24.04) 13.3.0
GNU Fortran (Ubuntu 13.3.0-6ubuntu2~24.04) 13.3.0
* running under: Ubuntu 24.04.3 LTS
* using session charset: UTF-8
* checking for file ‘PRONE/DESCRIPTION’ ... OK
* checking extension type ... Package
* this is package ‘PRONE’ version ‘1.5.0’
* package encoding: UTF-8
* checking package namespace information ... OK
* checking package dependencies ... INFO
Imports includes 34 non-default packages.
Importing from so many packages makes the package vulnerable to any of
them becoming unavailable. Move as many as possible to Suggests and
use conditionally.
* checking if this is a source package ... OK
* checking if there is a namespace ... OK
* checking for hidden files and directories ... OK
* checking for portable file names ... OK
* checking for sufficient/correct file permissions ... OK
* checking whether package ‘PRONE’ can be installed ... OK
* checking installed package size ... OK
* checking package directory ... OK
* checking ‘build’ directory ... OK
* checking DESCRIPTION meta-information ... OK
* checking top-level files ... OK
* checking for left-over files ... OK
* checking index information ... OK
* checking package subdirectories ... OK
* checking code files for non-ASCII characters ... OK
* checking R files for syntax errors ... OK
* checking whether the package can be loaded ... OK
* checking whether the package can be loaded with stated dependencies ... OK
* checking whether the package can be unloaded cleanly ... OK
* checking whether the namespace can be loaded with stated dependencies ... OK
* checking whether the namespace can be unloaded cleanly ... OK
* checking loading without being on the library search path ... OK
* checking dependencies in R code ... NOTE
Unexported objects imported by ':::' calls:
‘NormalyzerDE:::calculateAvgMadMem’
‘NormalyzerDE:::calculateAvgReplicateVariation’
‘NormalyzerDE:::calculatePercentageAvgDiffInMat’
‘NormalyzerDE:::calculateReplicateCV’
‘NormalyzerDE:::calculateSummarizedCorrelationVector’
See the note in ?`:::` about the use of this operator.
* checking S3 generic/method consistency ... OK
* checking replacement functions ... OK
* checking foreign function calls ... OK
* checking R code for possible problems ... NOTE
plot_upset_DE: no visible global function definition for
‘packageVersion’
Undefined global functions or variables:
packageVersion
Consider adding
importFrom("utils", "packageVersion")
to your NAMESPACE file.
* checking Rd files ... OK
* checking Rd metadata ... OK
* checking Rd cross-references ... OK
* checking for missing documentation entries ... OK
* checking for code/documentation mismatches ... OK
* checking Rd \usage sections ... OK
* checking Rd contents ... OK
* checking for unstated dependencies in examples ... OK
* checking contents of ‘data’ directory ... OK
* checking data for non-ASCII characters ... OK
* checking data for ASCII and uncompressed saves ... OK
* checking files in ‘vignettes’ ... OK
* checking examples ... OK
Examples with CPU (user + system) or elapsed time > 5s
user system elapsed
plot_boxplots 5.357 0.028 5.336
* checking for unstated dependencies in vignettes ... OK
* checking package vignettes ... OK
* checking re-building of vignette outputs ... OK
* checking PDF version of manual ... OK
* DONE
Status: 2 NOTEs
See
‘/home/biocbuild/bbs-3.23-bioc/meat/PRONE.Rcheck/00check.log’
for details.
PRONE.Rcheck/00install.out
############################################################################## ############################################################################## ### ### Running command: ### ### /home/biocbuild/bbs-3.23-bioc/R/bin/R CMD INSTALL PRONE ### ############################################################################## ############################################################################## * installing to library ‘/home/biocbuild/bbs-3.23-bioc/R/site-library’ * installing *source* package ‘PRONE’ ... ** this is package ‘PRONE’ version ‘1.5.0’ ** using staged installation ** R ** data ** inst ** byte-compile and prepare package for lazy loading ** help *** installing help indices *** copying figures ** building package indices ** installing vignettes ** testing if installed package can be loaded from temporary location ** testing if installed package can be loaded from final location ** testing if installed package keeps a record of temporary installation path * DONE (PRONE)
PRONE.Rcheck/PRONE-Ex.timings
| name | user | system | elapsed | |
| apply_thresholds | 0.031 | 0.001 | 0.032 | |
| detect_outliers_POMA | 1.868 | 0.110 | 1.977 | |
| eigenMSNorm | 0.624 | 0.051 | 0.675 | |
| export_data | 0.028 | 0.000 | 0.029 | |
| extract_consensus_DE_candidates | 0.083 | 0.001 | 0.083 | |
| filter_out_NA_proteins_by_threshold | 0.218 | 0.006 | 0.217 | |
| filter_out_complete_NA_proteins | 0.053 | 0.001 | 0.055 | |
| filter_out_proteins_by_ID | 0.154 | 0.001 | 0.155 | |
| filter_out_proteins_by_value | 0.157 | 0.000 | 0.157 | |
| get_NA_overview | 0.034 | 0.002 | 0.037 | |
| get_normalization_methods | 0.000 | 0.001 | 0.001 | |
| get_overview_DE | 0.041 | 0.001 | 0.043 | |
| get_proteins_by_value | 0.144 | 0.004 | 0.149 | |
| get_spiked_stats_DE | 0.110 | 0.001 | 0.111 | |
| globalIntNorm | 0.129 | 0.002 | 0.131 | |
| globalMeanNorm | 0.131 | 0.000 | 0.132 | |
| globalMedianNorm | 0.135 | 0.001 | 0.136 | |
| impute_se | 0.766 | 0.015 | 0.725 | |
| irsNorm | 0.058 | 0.003 | 0.060 | |
| limmaNorm | 0.099 | 0.007 | 0.106 | |
| load_data | 0.056 | 0.000 | 0.059 | |
| load_spike_data | 0.038 | 0.004 | 0.043 | |
| loessCycNorm | 0.103 | 0.004 | 0.107 | |
| loessFNorm | 0.087 | 0.002 | 0.088 | |
| meanNorm | 0.043 | 0.003 | 0.046 | |
| medianAbsDevNorm | 0.114 | 0.004 | 0.118 | |
| medianNorm | 0.060 | 0.002 | 0.062 | |
| normalize_se | 3.373 | 0.095 | 3.468 | |
| normalize_se_combination | 3.373 | 0.069 | 3.442 | |
| normalize_se_single | 3.288 | 0.043 | 3.332 | |
| normicsNorm | 3.239 | 0.030 | 3.270 | |
| plot_NA_density | 0.402 | 0.011 | 0.405 | |
| plot_NA_frequency | 0.235 | 0.002 | 0.229 | |
| plot_NA_heatmap | 2.387 | 0.114 | 2.501 | |
| plot_PCA | 1.313 | 0.002 | 1.316 | |
| plot_ROC_AUC_spiked | 1.160 | 0.004 | 1.155 | |
| plot_TP_FP_spiked_bar | 0.325 | 0.003 | 0.328 | |
| plot_TP_FP_spiked_box | 0.401 | 0.003 | 0.405 | |
| plot_TP_FP_spiked_scatter | 0.421 | 0.000 | 0.421 | |
| plot_boxplots | 5.357 | 0.028 | 5.336 | |
| plot_condition_overview | 0.246 | 0.002 | 0.248 | |
| plot_densities | 2.665 | 0.032 | 2.641 | |
| plot_fold_changes_spiked | 0.577 | 0.046 | 0.615 | |
| plot_heatmap | 3.639 | 0.015 | 3.653 | |
| plot_heatmap_DE | 1.193 | 0.023 | 1.216 | |
| plot_histogram_spiked | 0.402 | 0.015 | 0.401 | |
| plot_identified_spiked_proteins | 0.486 | 0.003 | 0.489 | |
| plot_intersection_enrichment | 0.809 | 0.018 | 1.935 | |
| plot_intragroup_PCV | 0.577 | 0.026 | 0.603 | |
| plot_intragroup_PEV | 0.434 | 0.019 | 0.454 | |
| plot_intragroup_PMAD | 0.426 | 0.050 | 0.476 | |
| plot_intragroup_correlation | 0.429 | 0.016 | 0.445 | |
| plot_jaccard_heatmap | 0.313 | 0.031 | 0.324 | |
| plot_logFC_thresholds_spiked | 0.705 | 0.072 | 0.776 | |
| plot_markers_boxplots | 0.791 | 0.064 | 0.849 | |
| plot_nr_prot_samples | 0.272 | 0.031 | 0.303 | |
| plot_overview_DE_bar | 0.414 | 0.033 | 0.446 | |
| plot_overview_DE_tile | 0.246 | 0.018 | 0.265 | |
| plot_profiles_spiked | 0.841 | 0.068 | 0.887 | |
| plot_pvalues_spiked | 0.504 | 0.023 | 0.528 | |
| plot_stats_spiked_heatmap | 0.412 | 0.029 | 0.441 | |
| plot_tot_int_samples | 0.258 | 0.005 | 0.263 | |
| plot_upset | 0.828 | 0.098 | 0.926 | |
| plot_upset_DE | 0.030 | 0.002 | 0.032 | |
| plot_volcano_DE | 4.148 | 0.189 | 4.340 | |
| quantileNorm | 0.047 | 0.004 | 0.050 | |
| readPRONE_example | 0.001 | 0.000 | 0.001 | |
| remove_POMA_outliers | 0.644 | 0.016 | 0.659 | |
| remove_assays_from_SE | 0.047 | 0.001 | 0.047 | |
| remove_reference_samples | 0.046 | 0.002 | 0.048 | |
| remove_samples_manually | 0.038 | 0.002 | 0.041 | |
| rlrMACycNorm | 0.571 | 0.021 | 0.593 | |
| rlrMANorm | 0.097 | 0.002 | 0.100 | |
| rlrNorm | 0.085 | 0.005 | 0.090 | |
| robnormNorm | 0.073 | 0.006 | 0.079 | |
| run_DE | 2.400 | 0.127 | 2.496 | |
| specify_comparisons | 0.034 | 0.001 | 0.032 | |
| subset_SE_by_norm | 0.078 | 0.002 | 0.080 | |
| tmmNorm | 0.132 | 0.007 | 0.138 | |
| vsnNorm | 0.069 | 0.005 | 0.075 | |