| Back to Multiple platform build/check report for BioC 3.23: simplified long |
|
This page was generated on 2025-11-27 11:39 -0500 (Thu, 27 Nov 2025).
| Hostname | OS | Arch (*) | R version | Installed pkgs |
|---|---|---|---|---|
| nebbiolo1 | Linux (Ubuntu 24.04.3 LTS) | x86_64 | R Under development (unstable) (2025-10-20 r88955) -- "Unsuffered Consequences" | 4865 |
| lconway | macOS 12.7.6 Monterey | x86_64 | R Under development (unstable) (2025-10-21 r88958) -- "Unsuffered Consequences" | 4614 |
| kjohnson3 | macOS 13.7.7 Ventura | arm64 | R Under development (unstable) (2025-11-04 r88984) -- "Unsuffered Consequences" | 4571 |
| Click on any hostname to see more info about the system (e.g. compilers) (*) as reported by 'uname -p', except on Windows and Mac OS X | ||||
| Package 1634/2328 | Hostname | OS / Arch | INSTALL | BUILD | CHECK | BUILD BIN | ||||||||
| PRONE 1.5.0 (landing page) Lis Arend
| nebbiolo1 | Linux (Ubuntu 24.04.3 LTS) / x86_64 | OK | OK | OK | |||||||||
| lconway | macOS 12.7.6 Monterey / x86_64 | OK | OK | OK | OK | |||||||||
| kjohnson3 | macOS 13.7.7 Ventura / arm64 | OK | OK | OK | OK | |||||||||
|
To the developers/maintainers of the PRONE package: - Allow up to 24 hours (and sometimes 48 hours) for your latest push to git@git.bioconductor.org:packages/PRONE.git to reflect on this report. See Troubleshooting Build Report for more information. - Use the following Renviron settings to reproduce errors and warnings. - If 'R CMD check' started to fail recently on the Linux builder(s) over a missing dependency, add the missing dependency to 'Suggests:' in your DESCRIPTION file. See Renviron.bioc for more information. |
| Package: PRONE |
| Version: 1.5.0 |
| Command: /Library/Frameworks/R.framework/Resources/bin/R CMD check --install=check:PRONE.install-out.txt --library=/Library/Frameworks/R.framework/Resources/library --no-vignettes --timings PRONE_1.5.0.tar.gz |
| StartedAt: 2025-11-26 23:20:33 -0500 (Wed, 26 Nov 2025) |
| EndedAt: 2025-11-26 23:26:39 -0500 (Wed, 26 Nov 2025) |
| EllapsedTime: 365.9 seconds |
| RetCode: 0 |
| Status: OK |
| CheckDir: PRONE.Rcheck |
| Warnings: 0 |
##############################################################################
##############################################################################
###
### Running command:
###
### /Library/Frameworks/R.framework/Resources/bin/R CMD check --install=check:PRONE.install-out.txt --library=/Library/Frameworks/R.framework/Resources/library --no-vignettes --timings PRONE_1.5.0.tar.gz
###
##############################################################################
##############################################################################
* using log directory ‘/Users/biocbuild/bbs-3.23-bioc/meat/PRONE.Rcheck’
* using R Under development (unstable) (2025-10-21 r88958)
* using platform: x86_64-apple-darwin20
* R was compiled by
Apple clang version 14.0.0 (clang-1400.0.29.202)
GNU Fortran (GCC) 14.2.0
* running under: macOS Ventura 13.7.8
* using session charset: UTF-8
* using option ‘--no-vignettes’
* checking for file ‘PRONE/DESCRIPTION’ ... OK
* checking extension type ... Package
* this is package ‘PRONE’ version ‘1.5.0’
* package encoding: UTF-8
* checking package namespace information ... OK
* checking package dependencies ... INFO
Imports includes 34 non-default packages.
Importing from so many packages makes the package vulnerable to any of
them becoming unavailable. Move as many as possible to Suggests and
use conditionally.
* checking if this is a source package ... OK
* checking if there is a namespace ... OK
* checking for hidden files and directories ... OK
* checking for portable file names ... OK
* checking for sufficient/correct file permissions ... OK
* checking whether package ‘PRONE’ can be installed ... OK
* checking installed package size ... OK
* checking package directory ... OK
* checking ‘build’ directory ... OK
* checking DESCRIPTION meta-information ... OK
* checking top-level files ... OK
* checking for left-over files ... OK
* checking index information ... OK
* checking package subdirectories ... OK
* checking code files for non-ASCII characters ... OK
* checking R files for syntax errors ... OK
* checking whether the package can be loaded ... OK
* checking whether the package can be loaded with stated dependencies ... OK
* checking whether the package can be unloaded cleanly ... OK
* checking whether the namespace can be loaded with stated dependencies ... OK
* checking whether the namespace can be unloaded cleanly ... OK
* checking dependencies in R code ... NOTE
Unexported objects imported by ':::' calls:
‘NormalyzerDE:::calculateAvgMadMem’
‘NormalyzerDE:::calculateAvgReplicateVariation’
‘NormalyzerDE:::calculatePercentageAvgDiffInMat’
‘NormalyzerDE:::calculateReplicateCV’
‘NormalyzerDE:::calculateSummarizedCorrelationVector’
See the note in ?`:::` about the use of this operator.
* checking S3 generic/method consistency ... OK
* checking replacement functions ... OK
* checking foreign function calls ... OK
* checking R code for possible problems ... NOTE
plot_upset_DE: no visible global function definition for
‘packageVersion’
Undefined global functions or variables:
packageVersion
Consider adding
importFrom("utils", "packageVersion")
to your NAMESPACE file.
* checking Rd files ... OK
* checking Rd metadata ... OK
* checking Rd cross-references ... OK
* checking for missing documentation entries ... OK
* checking for code/documentation mismatches ... OK
* checking Rd \usage sections ... OK
* checking Rd contents ... OK
* checking for unstated dependencies in examples ... OK
* checking contents of ‘data’ directory ... OK
* checking data for non-ASCII characters ... OK
* checking data for ASCII and uncompressed saves ... OK
* checking files in ‘vignettes’ ... OK
* checking examples ... OK
Examples with CPU (user + system) or elapsed time > 5s
user system elapsed
plot_boxplots 5.36 0.098 5.498
* checking for unstated dependencies in vignettes ... OK
* checking package vignettes ... OK
* checking running R code from vignettes ... SKIPPED
* checking re-building of vignette outputs ... SKIPPED
* checking PDF version of manual ... OK
* DONE
Status: 2 NOTEs
See
‘/Users/biocbuild/bbs-3.23-bioc/meat/PRONE.Rcheck/00check.log’
for details.
PRONE.Rcheck/00install.out
############################################################################## ############################################################################## ### ### Running command: ### ### /Library/Frameworks/R.framework/Resources/bin/R CMD INSTALL PRONE ### ############################################################################## ############################################################################## * installing to library ‘/Library/Frameworks/R.framework/Versions/4.6-x86_64/Resources/library’ * installing *source* package ‘PRONE’ ... ** this is package ‘PRONE’ version ‘1.5.0’ ** using staged installation ** R ** data ** inst ** byte-compile and prepare package for lazy loading ** help *** installing help indices *** copying figures ** building package indices ** installing vignettes ** testing if installed package can be loaded from temporary location ** testing if installed package can be loaded from final location ** testing if installed package keeps a record of temporary installation path * DONE (PRONE)
PRONE.Rcheck/PRONE-Ex.timings
| name | user | system | elapsed | |
| apply_thresholds | 0.023 | 0.005 | 0.028 | |
| detect_outliers_POMA | 1.970 | 0.092 | 2.079 | |
| eigenMSNorm | 0.653 | 0.057 | 0.712 | |
| export_data | 0.019 | 0.004 | 0.023 | |
| extract_consensus_DE_candidates | 0.086 | 0.007 | 0.093 | |
| filter_out_NA_proteins_by_threshold | 0.223 | 0.005 | 0.228 | |
| filter_out_complete_NA_proteins | 0.051 | 0.005 | 0.056 | |
| filter_out_proteins_by_ID | 0.172 | 0.005 | 0.178 | |
| filter_out_proteins_by_value | 0.171 | 0.005 | 0.178 | |
| get_NA_overview | 0.030 | 0.004 | 0.035 | |
| get_normalization_methods | 0 | 0 | 0 | |
| get_overview_DE | 0.038 | 0.005 | 0.044 | |
| get_proteins_by_value | 0.181 | 0.007 | 0.188 | |
| get_spiked_stats_DE | 0.074 | 0.008 | 0.083 | |
| globalIntNorm | 0.130 | 0.005 | 0.136 | |
| globalMeanNorm | 0.137 | 0.006 | 0.143 | |
| globalMedianNorm | 0.146 | 0.006 | 0.152 | |
| impute_se | 0.866 | 0.020 | 0.894 | |
| irsNorm | 0.053 | 0.004 | 0.059 | |
| limmaNorm | 0.063 | 0.005 | 0.068 | |
| load_data | 0.063 | 0.005 | 0.069 | |
| load_spike_data | 0.047 | 0.003 | 0.052 | |
| loessCycNorm | 0.130 | 0.011 | 0.142 | |
| loessFNorm | 0.082 | 0.005 | 0.089 | |
| meanNorm | 0.036 | 0.003 | 0.039 | |
| medianAbsDevNorm | 0.107 | 0.006 | 0.114 | |
| medianNorm | 0.062 | 0.004 | 0.067 | |
| normalize_se | 3.888 | 0.102 | 4.018 | |
| normalize_se_combination | 4.491 | 0.085 | 4.605 | |
| normalize_se_single | 3.404 | 0.080 | 3.510 | |
| normicsNorm | 3.515 | 0.048 | 3.591 | |
| plot_NA_density | 0.437 | 0.009 | 0.449 | |
| plot_NA_frequency | 0.233 | 0.006 | 0.241 | |
| plot_NA_heatmap | 1.577 | 0.108 | 1.700 | |
| plot_PCA | 1.472 | 0.013 | 1.490 | |
| plot_ROC_AUC_spiked | 1.350 | 0.026 | 1.387 | |
| plot_TP_FP_spiked_bar | 0.349 | 0.010 | 0.362 | |
| plot_TP_FP_spiked_box | 0.439 | 0.011 | 0.454 | |
| plot_TP_FP_spiked_scatter | 0.503 | 0.013 | 0.520 | |
| plot_boxplots | 5.360 | 0.098 | 5.498 | |
| plot_condition_overview | 0.294 | 0.005 | 0.299 | |
| plot_densities | 2.892 | 0.035 | 2.941 | |
| plot_fold_changes_spiked | 0.601 | 0.012 | 0.615 | |
| plot_heatmap | 4.414 | 0.041 | 4.478 | |
| plot_heatmap_DE | 1.410 | 0.026 | 1.447 | |
| plot_histogram_spiked | 0.553 | 0.023 | 0.578 | |
| plot_identified_spiked_proteins | 0.509 | 0.010 | 0.521 | |
| plot_intersection_enrichment | 0.942 | 0.058 | 2.151 | |
| plot_intragroup_PCV | 0.667 | 0.008 | 0.677 | |
| plot_intragroup_PEV | 0.472 | 0.008 | 0.483 | |
| plot_intragroup_PMAD | 0.513 | 0.008 | 0.524 | |
| plot_intragroup_correlation | 0.435 | 0.008 | 0.444 | |
| plot_jaccard_heatmap | 0.320 | 0.005 | 0.326 | |
| plot_logFC_thresholds_spiked | 0.797 | 0.013 | 0.815 | |
| plot_markers_boxplots | 0.962 | 0.010 | 0.992 | |
| plot_nr_prot_samples | 0.315 | 0.005 | 0.325 | |
| plot_overview_DE_bar | 0.483 | 0.007 | 0.494 | |
| plot_overview_DE_tile | 0.248 | 0.004 | 0.253 | |
| plot_profiles_spiked | 0.858 | 0.013 | 0.876 | |
| plot_pvalues_spiked | 0.541 | 0.010 | 0.553 | |
| plot_stats_spiked_heatmap | 0.456 | 0.010 | 0.468 | |
| plot_tot_int_samples | 0.294 | 0.006 | 0.301 | |
| plot_upset | 0.950 | 0.017 | 0.972 | |
| plot_upset_DE | 0.021 | 0.003 | 0.024 | |
| plot_volcano_DE | 4.705 | 0.045 | 4.776 | |
| quantileNorm | 0.039 | 0.004 | 0.044 | |
| readPRONE_example | 0.001 | 0.001 | 0.002 | |
| remove_POMA_outliers | 0.738 | 0.008 | 0.747 | |
| remove_assays_from_SE | 0.047 | 0.003 | 0.050 | |
| remove_reference_samples | 0.042 | 0.003 | 0.045 | |
| remove_samples_manually | 0.033 | 0.003 | 0.037 | |
| rlrMACycNorm | 0.644 | 0.006 | 0.653 | |
| rlrMANorm | 0.111 | 0.003 | 0.114 | |
| rlrNorm | 0.118 | 0.004 | 0.123 | |
| robnormNorm | 0.086 | 0.005 | 0.091 | |
| run_DE | 2.550 | 0.036 | 2.599 | |
| specify_comparisons | 0.023 | 0.003 | 0.026 | |
| subset_SE_by_norm | 0.086 | 0.003 | 0.090 | |
| tmmNorm | 0.137 | 0.011 | 0.150 | |
| vsnNorm | 0.071 | 0.003 | 0.074 | |