| Back to Multiple platform build/check report for BioC 3.22: simplified long |
|
This page was generated on 2025-10-23 12:06 -0400 (Thu, 23 Oct 2025).
| Hostname | OS | Arch (*) | R version | Installed pkgs |
|---|---|---|---|---|
| nebbiolo2 | Linux (Ubuntu 24.04.3 LTS) | x86_64 | 4.5.1 Patched (2025-08-23 r88802) -- "Great Square Root" | 4894 |
| lconway | macOS 12.7.6 Monterey | x86_64 | 4.5.1 Patched (2025-09-10 r88807) -- "Great Square Root" | 4684 |
| kjohnson3 | macOS 13.7.7 Ventura | arm64 | 4.5.1 Patched (2025-09-10 r88807) -- "Great Square Root" | 4629 |
| taishan | Linux (openEuler 24.03 LTS) | aarch64 | 4.5.0 (2025-04-11) -- "How About a Twenty-Six" | 4642 |
| Click on any hostname to see more info about the system (e.g. compilers) (*) as reported by 'uname -p', except on Windows and Mac OS X | ||||
| Package 1647/2355 | Hostname | OS / Arch | INSTALL | BUILD | CHECK | BUILD BIN | ||||||||
| PRONE 1.3.2 (landing page) Lis Arend
| nebbiolo2 | Linux (Ubuntu 24.04.3 LTS) / x86_64 | OK | OK | OK | |||||||||
| lconway | macOS 12.7.6 Monterey / x86_64 | OK | OK | OK | OK | |||||||||
| kjohnson3 | macOS 13.7.7 Ventura / arm64 | OK | OK | OK | OK | |||||||||
| taishan | Linux (openEuler 24.03 LTS) / aarch64 | OK | OK | NA | ||||||||||
|
To the developers/maintainers of the PRONE package: - Allow up to 24 hours (and sometimes 48 hours) for your latest push to git@git.bioconductor.org:packages/PRONE.git to reflect on this report. See Troubleshooting Build Report for more information. - Use the following Renviron settings to reproduce errors and warnings. - If 'R CMD check' started to fail recently on the Linux builder(s) over a missing dependency, add the missing dependency to 'Suggests:' in your DESCRIPTION file. See Renviron.bioc for more information. |
| Package: PRONE |
| Version: 1.3.2 |
| Command: /Library/Frameworks/R.framework/Resources/bin/R CMD check --install=check:PRONE.install-out.txt --library=/Library/Frameworks/R.framework/Resources/library --no-vignettes --timings PRONE_1.3.2.tar.gz |
| StartedAt: 2025-10-22 21:25:17 -0400 (Wed, 22 Oct 2025) |
| EndedAt: 2025-10-22 21:27:25 -0400 (Wed, 22 Oct 2025) |
| EllapsedTime: 127.5 seconds |
| RetCode: 0 |
| Status: OK |
| CheckDir: PRONE.Rcheck |
| Warnings: 0 |
##############################################################################
##############################################################################
###
### Running command:
###
### /Library/Frameworks/R.framework/Resources/bin/R CMD check --install=check:PRONE.install-out.txt --library=/Library/Frameworks/R.framework/Resources/library --no-vignettes --timings PRONE_1.3.2.tar.gz
###
##############################################################################
##############################################################################
* using log directory ‘/Users/biocbuild/bbs-3.22-bioc/meat/PRONE.Rcheck’
* using R version 4.5.1 Patched (2025-09-10 r88807)
* using platform: aarch64-apple-darwin20
* R was compiled by
Apple clang version 16.0.0 (clang-1600.0.26.6)
GNU Fortran (GCC) 14.2.0
* running under: macOS Ventura 13.7.7
* using session charset: UTF-8
* using option ‘--no-vignettes’
* checking for file ‘PRONE/DESCRIPTION’ ... OK
* checking extension type ... Package
* this is package ‘PRONE’ version ‘1.3.2’
* package encoding: UTF-8
* checking package namespace information ... OK
* checking package dependencies ... INFO
Imports includes 34 non-default packages.
Importing from so many packages makes the package vulnerable to any of
them becoming unavailable. Move as many as possible to Suggests and
use conditionally.
* checking if this is a source package ... OK
* checking if there is a namespace ... OK
* checking for hidden files and directories ... OK
* checking for portable file names ... OK
* checking for sufficient/correct file permissions ... OK
* checking whether package ‘PRONE’ can be installed ... OK
* checking installed package size ... OK
* checking package directory ... OK
* checking ‘build’ directory ... OK
* checking DESCRIPTION meta-information ... OK
* checking top-level files ... OK
* checking for left-over files ... OK
* checking index information ... OK
* checking package subdirectories ... OK
* checking code files for non-ASCII characters ... OK
* checking R files for syntax errors ... OK
* checking whether the package can be loaded ... OK
* checking whether the package can be loaded with stated dependencies ... OK
* checking whether the package can be unloaded cleanly ... OK
* checking whether the namespace can be loaded with stated dependencies ... OK
* checking whether the namespace can be unloaded cleanly ... OK
* checking dependencies in R code ... NOTE
Unexported objects imported by ':::' calls:
‘NormalyzerDE:::calculateAvgMadMem’
‘NormalyzerDE:::calculateAvgReplicateVariation’
‘NormalyzerDE:::calculatePercentageAvgDiffInMat’
‘NormalyzerDE:::calculateReplicateCV’
‘NormalyzerDE:::calculateSummarizedCorrelationVector’
See the note in ?`:::` about the use of this operator.
* checking S3 generic/method consistency ... OK
* checking replacement functions ... OK
* checking foreign function calls ... OK
* checking R code for possible problems ... NOTE
plot_upset_DE: no visible global function definition for
‘packageVersion’
Undefined global functions or variables:
packageVersion
Consider adding
importFrom("utils", "packageVersion")
to your NAMESPACE file.
* checking Rd files ... OK
* checking Rd metadata ... OK
* checking Rd cross-references ... OK
* checking for missing documentation entries ... OK
* checking for code/documentation mismatches ... OK
* checking Rd \usage sections ... OK
* checking Rd contents ... OK
* checking for unstated dependencies in examples ... OK
* checking contents of ‘data’ directory ... OK
* checking data for non-ASCII characters ... OK
* checking data for ASCII and uncompressed saves ... OK
* checking files in ‘vignettes’ ... OK
* checking examples ... OK
* checking for unstated dependencies in vignettes ... OK
* checking package vignettes ... OK
* checking running R code from vignettes ... SKIPPED
* checking re-building of vignette outputs ... SKIPPED
* checking PDF version of manual ... OK
* DONE
Status: 2 NOTEs
See
‘/Users/biocbuild/bbs-3.22-bioc/meat/PRONE.Rcheck/00check.log’
for details.
PRONE.Rcheck/00install.out
############################################################################## ############################################################################## ### ### Running command: ### ### /Library/Frameworks/R.framework/Resources/bin/R CMD INSTALL PRONE ### ############################################################################## ############################################################################## * installing to library ‘/Library/Frameworks/R.framework/Versions/4.5-arm64/Resources/library’ * installing *source* package ‘PRONE’ ... ** this is package ‘PRONE’ version ‘1.3.2’ ** using staged installation ** R ** data ** inst ** byte-compile and prepare package for lazy loading ** help *** installing help indices *** copying figures ** building package indices ** installing vignettes ** testing if installed package can be loaded from temporary location ** testing if installed package can be loaded from final location ** testing if installed package keeps a record of temporary installation path * DONE (PRONE)
PRONE.Rcheck/PRONE-Ex.timings
| name | user | system | elapsed | |
| apply_thresholds | 0.013 | 0.002 | 0.015 | |
| detect_outliers_POMA | 0.749 | 0.017 | 0.780 | |
| eigenMSNorm | 0.194 | 0.015 | 0.218 | |
| export_data | 0.013 | 0.001 | 0.014 | |
| extract_consensus_DE_candidates | 0.030 | 0.002 | 0.033 | |
| filter_out_NA_proteins_by_threshold | 0.068 | 0.002 | 0.105 | |
| filter_out_complete_NA_proteins | 0.022 | 0.002 | 0.024 | |
| filter_out_proteins_by_ID | 0.048 | 0.002 | 0.050 | |
| filter_out_proteins_by_value | 0.049 | 0.001 | 0.051 | |
| get_NA_overview | 0.016 | 0.001 | 0.017 | |
| get_normalization_methods | 0 | 0 | 0 | |
| get_overview_DE | 0.017 | 0.002 | 0.018 | |
| get_proteins_by_value | 0.046 | 0.001 | 0.047 | |
| get_spiked_stats_DE | 0.037 | 0.002 | 0.040 | |
| globalIntNorm | 0.056 | 0.002 | 0.058 | |
| globalMeanNorm | 0.049 | 0.001 | 0.050 | |
| globalMedianNorm | 0.049 | 0.001 | 0.050 | |
| impute_se | 0.244 | 0.007 | 0.346 | |
| irsNorm | 0.023 | 0.001 | 0.024 | |
| limmaNorm | 0.027 | 0.002 | 0.029 | |
| load_data | 0.020 | 0.001 | 0.025 | |
| load_spike_data | 0.017 | 0.001 | 0.021 | |
| loessCycNorm | 0.049 | 0.004 | 0.056 | |
| loessFNorm | 0.036 | 0.001 | 0.037 | |
| meanNorm | 0.018 | 0.001 | 0.020 | |
| medianAbsDevNorm | 0.038 | 0.001 | 0.043 | |
| medianNorm | 0.025 | 0.001 | 0.026 | |
| normalize_se | 1.161 | 0.036 | 1.205 | |
| normalize_se_combination | 1.865 | 0.108 | 2.042 | |
| normalize_se_single | 1.056 | 0.031 | 1.097 | |
| normicsNorm | 1.026 | 0.022 | 1.078 | |
| plot_NA_density | 0.134 | 0.003 | 0.157 | |
| plot_NA_frequency | 0.071 | 0.002 | 0.073 | |
| plot_NA_heatmap | 0.489 | 0.024 | 0.518 | |
| plot_PCA | 0.438 | 0.004 | 0.453 | |
| plot_ROC_AUC_spiked | 0.396 | 0.009 | 0.414 | |
| plot_TP_FP_spiked_bar | 0.118 | 0.004 | 0.122 | |
| plot_TP_FP_spiked_box | 0.138 | 0.003 | 0.141 | |
| plot_TP_FP_spiked_scatter | 0.146 | 0.003 | 0.149 | |
| plot_boxplots | 1.349 | 0.031 | 1.387 | |
| plot_condition_overview | 0.082 | 0.001 | 0.084 | |
| plot_densities | 0.829 | 0.017 | 0.848 | |
| plot_fold_changes_spiked | 0.183 | 0.004 | 0.188 | |
| plot_heatmap | 1.319 | 0.013 | 1.334 | |
| plot_heatmap_DE | 0.399 | 0.008 | 0.407 | |
| plot_histogram_spiked | 0.135 | 0.002 | 0.138 | |
| plot_identified_spiked_proteins | 0.144 | 0.002 | 0.147 | |
| plot_intersection_enrichment | 0.307 | 0.014 | 1.999 | |
| plot_intragroup_PCV | 0.191 | 0.002 | 0.198 | |
| plot_intragroup_PEV | 0.144 | 0.002 | 0.146 | |
| plot_intragroup_PMAD | 0.132 | 0.001 | 0.133 | |
| plot_intragroup_correlation | 0.131 | 0.002 | 0.132 | |
| plot_jaccard_heatmap | 0.108 | 0.002 | 0.110 | |
| plot_logFC_thresholds_spiked | 0.219 | 0.003 | 0.223 | |
| plot_markers_boxplots | 0.252 | 0.002 | 0.253 | |
| plot_nr_prot_samples | 0.088 | 0.001 | 0.090 | |
| plot_overview_DE_bar | 0.135 | 0.002 | 0.137 | |
| plot_overview_DE_tile | 0.089 | 0.002 | 0.091 | |
| plot_profiles_spiked | 0.253 | 0.004 | 0.256 | |
| plot_pvalues_spiked | 0.190 | 0.005 | 0.195 | |
| plot_stats_spiked_heatmap | 0.131 | 0.002 | 0.134 | |
| plot_tot_int_samples | 0.087 | 0.002 | 0.089 | |
| plot_upset | 0.267 | 0.004 | 0.272 | |
| plot_upset_DE | 0.013 | 0.001 | 0.015 | |
| plot_volcano_DE | 1.289 | 0.010 | 1.301 | |
| quantileNorm | 0.019 | 0.001 | 0.022 | |
| readPRONE_example | 0.000 | 0.001 | 0.001 | |
| remove_POMA_outliers | 0.217 | 0.001 | 0.219 | |
| remove_assays_from_SE | 0.020 | 0.001 | 0.021 | |
| remove_reference_samples | 0.021 | 0.001 | 0.023 | |
| remove_samples_manually | 0.018 | 0.001 | 0.019 | |
| rlrMACycNorm | 0.187 | 0.002 | 0.190 | |
| rlrMANorm | 0.036 | 0.001 | 0.037 | |
| rlrNorm | 0.031 | 0.002 | 0.033 | |
| robnormNorm | 0.028 | 0.003 | 0.037 | |
| run_DE | 0.700 | 0.009 | 0.740 | |
| specify_comparisons | 0.015 | 0.001 | 0.016 | |
| subset_SE_by_norm | 0.030 | 0.001 | 0.031 | |
| tmmNorm | 0.053 | 0.004 | 0.056 | |
| vsnNorm | 0.027 | 0.001 | 0.028 | |