Back to Multiple platform build/check report for BioC 3.22: simplified long |
|
This page was generated on 2025-10-15 12:03 -0400 (Wed, 15 Oct 2025).
Hostname | OS | Arch (*) | R version | Installed pkgs |
---|---|---|---|---|
nebbiolo2 | Linux (Ubuntu 24.04.3 LTS) | x86_64 | 4.5.1 Patched (2025-08-23 r88802) -- "Great Square Root" | 4866 |
lconway | macOS 12.7.6 Monterey | x86_64 | 4.5.1 Patched (2025-09-10 r88807) -- "Great Square Root" | 4653 |
kjohnson3 | macOS 13.7.7 Ventura | arm64 | 4.5.1 Patched (2025-09-10 r88807) -- "Great Square Root" | 4598 |
taishan | Linux (openEuler 24.03 LTS) | aarch64 | 4.5.0 (2025-04-11) -- "How About a Twenty-Six" | 4610 |
Click on any hostname to see more info about the system (e.g. compilers) (*) as reported by 'uname -p', except on Windows and Mac OS X |
Package 1369/2346 | Hostname | OS / Arch | INSTALL | BUILD | CHECK | BUILD BIN | ||||||||
MsBackendRawFileReader 1.15.1 (landing page) Christian Panse
| nebbiolo2 | Linux (Ubuntu 24.04.3 LTS) / x86_64 | OK | OK | OK | ![]() | ||||||||
lconway | macOS 12.7.6 Monterey / x86_64 | OK | OK | OK | OK | ![]() | ||||||||
kjohnson3 | macOS 13.7.7 Ventura / arm64 | OK | OK | OK | OK | ![]() | ||||||||
taishan | Linux (openEuler 24.03 LTS) / aarch64 | OK | ERROR | skipped | ||||||||||
To the developers/maintainers of the MsBackendRawFileReader package: - Allow up to 24 hours (and sometimes 48 hours) for your latest push to git@git.bioconductor.org:packages/MsBackendRawFileReader.git to reflect on this report. See Troubleshooting Build Report for more information. - Use the following Renviron settings to reproduce errors and warnings. - If 'R CMD check' started to fail recently on the Linux builder(s) over a missing dependency, add the missing dependency to 'Suggests:' in your DESCRIPTION file. See Renviron.bioc for more information. |
Package: MsBackendRawFileReader |
Version: 1.15.1 |
Command: /home/biocbuild/bbs-3.22-bioc/R/bin/R CMD check --install=check:MsBackendRawFileReader.install-out.txt --library=/home/biocbuild/bbs-3.22-bioc/R/site-library --timings MsBackendRawFileReader_1.15.1.tar.gz |
StartedAt: 2025-10-15 02:06:42 -0400 (Wed, 15 Oct 2025) |
EndedAt: 2025-10-15 02:12:16 -0400 (Wed, 15 Oct 2025) |
EllapsedTime: 334.4 seconds |
RetCode: 0 |
Status: OK |
CheckDir: MsBackendRawFileReader.Rcheck |
Warnings: 0 |
############################################################################## ############################################################################## ### ### Running command: ### ### /home/biocbuild/bbs-3.22-bioc/R/bin/R CMD check --install=check:MsBackendRawFileReader.install-out.txt --library=/home/biocbuild/bbs-3.22-bioc/R/site-library --timings MsBackendRawFileReader_1.15.1.tar.gz ### ############################################################################## ############################################################################## * using log directory ‘/home/biocbuild/bbs-3.22-bioc/meat/MsBackendRawFileReader.Rcheck’ * using R version 4.5.1 Patched (2025-08-23 r88802) * using platform: x86_64-pc-linux-gnu * R was compiled by gcc (Ubuntu 13.3.0-6ubuntu2~24.04) 13.3.0 GNU Fortran (Ubuntu 13.3.0-6ubuntu2~24.04) 13.3.0 * running under: Ubuntu 24.04.3 LTS * using session charset: UTF-8 * checking for file ‘MsBackendRawFileReader/DESCRIPTION’ ... OK * checking extension type ... Package * this is package ‘MsBackendRawFileReader’ version ‘1.15.1’ * package encoding: UTF-8 * checking package namespace information ... OK * checking package dependencies ... OK * checking if this is a source package ... OK * checking if there is a namespace ... OK * checking for hidden files and directories ... OK * checking for portable file names ... OK * checking for sufficient/correct file permissions ... OK * checking whether package ‘MsBackendRawFileReader’ can be installed ... OK * checking installed package size ... OK * checking package directory ... OK * checking ‘build’ directory ... OK * checking DESCRIPTION meta-information ... OK * checking top-level files ... OK * checking for left-over files ... OK * checking index information ... OK * checking package subdirectories ... OK * checking code files for non-ASCII characters ... OK * checking R files for syntax errors ... OK * checking whether the package can be loaded ... OK * checking whether the package can be loaded with stated dependencies ... OK * checking whether the package can be unloaded cleanly ... OK * checking whether the namespace can be loaded with stated dependencies ... OK * checking whether the namespace can be unloaded cleanly ... OK * checking loading without being on the library search path ... OK * checking whether startup messages can be suppressed ... OK * checking dependencies in R code ... OK * checking S3 generic/method consistency ... OK * checking replacement functions ... OK * checking foreign function calls ... OK * checking R code for possible problems ... OK * checking Rd files ... OK * checking Rd metadata ... OK * checking Rd cross-references ... OK * checking for missing documentation entries ... OK * checking for code/documentation mismatches ... OK * checking Rd \usage sections ... OK * checking Rd contents ... OK * checking for unstated dependencies in examples ... OK * checking files in ‘vignettes’ ... OK * checking examples ... OK Examples with CPU (user + system) or elapsed time > 5s user system elapsed ioBenchmark 31.908 5.926 11.861 MsBackendRawFileReader 6.598 2.237 9.529 * checking for unstated dependencies in ‘tests’ ... OK * checking tests ... Running ‘testthat.R’ OK * checking for unstated dependencies in vignettes ... OK * checking package vignettes ... OK * checking re-building of vignette outputs ... OK * checking PDF version of manual ... OK * DONE Status: OK
MsBackendRawFileReader.Rcheck/00install.out
############################################################################## ############################################################################## ### ### Running command: ### ### /home/biocbuild/bbs-3.22-bioc/R/bin/R CMD INSTALL MsBackendRawFileReader ### ############################################################################## ############################################################################## * installing to library ‘/home/biocbuild/bbs-3.22-bioc/R/site-library’ * installing *source* package ‘MsBackendRawFileReader’ ... ** this is package ‘MsBackendRawFileReader’ version ‘1.15.1’ ** using staged installation ** R ** inst ** byte-compile and prepare package for lazy loading ** help *** installing help indices ** building package indices ** installing vignettes ** testing if installed package can be loaded from temporary location ** testing if installed package can be loaded from final location ** testing if installed package keeps a record of temporary installation path * DONE (MsBackendRawFileReader)
MsBackendRawFileReader.Rcheck/tests/testthat.Rout
R version 4.5.1 Patched (2025-08-23 r88802) -- "Great Square Root" Copyright (C) 2025 The R Foundation for Statistical Computing Platform: x86_64-pc-linux-gnu R is free software and comes with ABSOLUTELY NO WARRANTY. You are welcome to redistribute it under certain conditions. Type 'license()' or 'licence()' for distribution details. R is a collaborative project with many contributors. Type 'contributors()' for more information and 'citation()' on how to cite R or R packages in publications. Type 'demo()' for some demos, 'help()' for on-line help, or 'help.start()' for an HTML browser interface to help. Type 'q()' to quit R. > library("testthat") > library("MsBackendRawFileReader") Loading required package: Spectra Loading required package: S4Vectors Loading required package: stats4 Loading required package: BiocGenerics Loading required package: generics Attaching package: 'generics' The following objects are masked from 'package:base': as.difftime, as.factor, as.ordered, intersect, is.element, setdiff, setequal, union Attaching package: 'BiocGenerics' The following objects are masked from 'package:stats': IQR, mad, sd, var, xtabs The following objects are masked from 'package:base': Filter, Find, Map, Position, Reduce, anyDuplicated, aperm, append, as.data.frame, basename, cbind, colnames, dirname, do.call, duplicated, eval, evalq, get, grep, grepl, is.unsorted, lapply, mapply, match, mget, order, paste, pmax, pmax.int, pmin, pmin.int, rank, rbind, rownames, sapply, saveRDS, table, tapply, unique, unsplit, which.max, which.min Attaching package: 'S4Vectors' The following object is masked from 'package:utils': findMatches The following objects are masked from 'package:base': I, expand.grid, unname Loading required package: BiocParallel > library("Spectra") > > > sample_raw_file <- file.path(system.file(package = "rawrr"), + 'extdata', 'sample.raw') > > sample_mzXML_file <- file.path(path.package(package = 'MsBackendRawFileReader'), + 'extdata', 'sample.mzXML') > > > sample_raw <- backendInitialize(MsBackendRawFileReader::MsBackendRawFileReader(), files = sample_raw_file) > > > #sample_mzr <- backendInitialize(MsBackendMzR(), files = sample_mzXML_file) > > > mgf_file <- file.path(system.file(package = "MsBackendRawFileReader"), + 'extdata', '3159619b11ed_4590_9594.mgf') > > > rv <- lapply(1:2, function(x){ + file.copy(from = sample_raw_file, to = tempfile(fileext='.raw'))}) > > > register(SnowParam(workers = 1, type = "SOCK") , default = TRUE); > sample_raw_2 <- backendInitialize(MsBackendRawFileReader(), + files = file.path(tempdir(), + list.files(path = tempdir(), pattern = 'raw$'))) > > > test_check("MsBackendRawFileReader") [ FAIL 0 | WARN 1 | SKIP 2 | PASS 21 ] ══ Skipped tests (2) ═══════════════════════════════════════════════════════════ • isFALSE(file.exists(sample_mzXML_file)) is TRUE (1): 'test_MsBackendMzR_MsBackendRawFileReader.R:1:1' • isFALSE(require(MsBackendRawMgf)) is TRUE (1): 'test_top_n_mgf.R:1:1' [ FAIL 0 | WARN 1 | SKIP 2 | PASS 21 ] > > > be <- Spectra::backendInitialize(MsBackendRawFileReader::MsBackendRawFileReader(), + files = c(sample_raw_file)) > > ## Run the MsBackend spectra variable test suite > > test_suite <- system.file("test_backends", "test_MsBackend", + package = "Spectra") > > #res <- test_file(paste0(test_suite, "/test_spectra_variables.R"), > # reporter = check_reporter(), stop_on_failure = TRUE) > > > ## Run the whole suite. > res <- test_dir(test_suite, stop_on_failure = TRUE) ✔ | F W S OK | Context ⠏ | 0 | peaks_variables ⠙ | 2 | peaks_variables ⠸ | 4 | peaks_variables ✔ | 4 | peaks_variables [4.0s] ⠏ | 0 | spectra_subsetting ⠋ | 1 | spectra_subsetting ⠴ | 16 | spectra_subsetting ⠇ | 29 | spectra_subsetting ⠹ | 43 | spectra_subsetting ⠧ | 58 | spectra_subsetting ⠏ | 70 | spectra_subsetting ⠼ | 85 | spectra_subsetting ⠏ | 100 | spectra_subsetting ⠼ | 115 | spectra_subsetting ⠏ | 130 | spectra_subsetting ⠙ | 142 | spectra_subsetting ⠧ | 158 | spectra_subsetting ⠙ | 172 | spectra_subsetting ⠦ | 187 | spectra_subsetting ⠙ | 202 | spectra_subsetting ⠦ | 217 | spectra_subsetting ⠙ | 232 | spectra_subsetting ⠦ | 247 | spectra_subsetting ⠙ | 262 | spectra_subsetting ⠦ | 277 | spectra_subsetting ⠇ | 289 | spectra_subsetting ⠸ | 304 | spectra_subsetting ⠇ | 319 | spectra_subsetting ⠸ | 334 | spectra_subsetting ⠇ | 349 | spectra_subsetting ⠋ | 361 | spectra_subsetting ⠴ | 376 | spectra_subsetting ⠋ | 391 | spectra_subsetting ⠴ | 406 | spectra_subsetting ⠋ | 421 | spectra_subsetting ⠸ | 434 | spectra_subsetting ⠧ | 448 | spectra_subsetting ⠏ | 460 | spectra_subsetting ⠏ | 470 | spectra_subsetting ⠸ | 484 | spectra_subsetting ⠇ | 499 | spectra_subsetting ⠙ | 512 | spectra_subsetting ⠦ | 527 | spectra_subsetting ⠋ | 541 | spectra_subsetting ⠸ | 554 | spectra_subsetting ⠇ | 569 | spectra_subsetting ⠙ | 582 | spectra_subsetting ⠼ | 595 | spectra_subsetting ⠧ | 608 | spectra_subsetting ⠏ | 620 | spectra_subsetting ⠼ | 635 | spectra_subsetting ⠇ | 649 | spectra_subsetting ⠸ | 664 | spectra_subsetting ⠇ | 679 | spectra_subsetting ⠹ | 693 | spectra_subsetting ⠦ | 707 | spectra_subsetting ⠋ | 721 | spectra_subsetting ⠹ | 733 | spectra_subsetting ⠧ | 748 | spectra_subsetting ⠋ | 761 | spectra_subsetting ⠼ | 775 | spectra_subsetting ⠏ | 790 | spectra_subsetting ⠙ | 802 | spectra_subsetting ⠦ | 817 | spectra_subsetting ⠇ | 829 | spectra_subsetting ⠧ | 838 | spectra_subsetting ⠙ | 852 | spectra_subsetting ⠼ | 865 | spectra_subsetting ⠦ | 877 | spectra_subsetting ⠙ | 892 | spectra_subsetting ⠦ | 907 | spectra_subsetting ⠙ | 922 | spectra_subsetting ⠦ | 937 | spectra_subsetting ⠇ | 949 | spectra_subsetting ⠸ | 964 | spectra_subsetting ⠇ | 979 | spectra_subsetting ⠋ | 991 | spectra_subsetting ⠴ | 1006 | spectra_subsetting ⠏ | 1020 | spectra_subsetting ⠸ | 1034 | spectra_subsetting ⠧ | 1048 | spectra_subsetting ⠏ | 1060 | spectra_subsetting ⠼ | 1075 | spectra_subsetting ⠇ | 1089 | spectra_subsetting ⠏ | 1100 | spectra_subsetting ⠸ | 1114 | spectra_subsetting ⠦ | 1127 | spectra_subsetting ⠋ | 1141 | spectra_subsetting ⠸ | 1154 | spectra_subsetting ⠼ | 1165 | spectra_subsetting ⠏ | 1180 | spectra_subsetting ⠼ | 1195 | spectra_subsetting ⠦ | 1207 | spectra_subsetting ⠋ | 1221 | spectra_subsetting ⠸ | 1234 | spectra_subsetting ⠧ | 1248 | spectra_subsetting ⠙ | 1262 | spectra_subsetting ⠹ | 1273 | spectra_subsetting ⠴ | 1286 | spectra_subsetting ⠏ | 1300 | spectra_subsetting ⠹ | 1313 | spectra_subsetting ⠦ | 1327 | spectra_subsetting ⠙ | 1342 | spectra_subsetting ⠦ | 1357 | spectra_subsetting ⠙ | 1372 | spectra_subsetting ⠦ | 1387 | spectra_subsetting ⠹ | 1403 | spectra_subsetting ⠦ | 1417 | spectra_subsetting ⠙ | 1432 | spectra_subsetting ⠦ | 1447 | spectra_subsetting ⠇ | 1459 | spectra_subsetting ⠸ | 1474 | spectra_subsetting ⠇ | 1489 | spectra_subsetting ⠸ | 1504 | spectra_subsetting ⠇ | 1519 | spectra_subsetting ⠙ | 1532 | spectra_subsetting ⠧ | 1548 | spectra_subsetting ⠋ | 1561 | spectra_subsetting ⠴ | 1576 | spectra_subsetting ⠋ | 1591 | spectra_subsetting ⠹ | 1603 | spectra_subsetting ⠧ | 1618 | spectra_subsetting ⠹ | 1633 | spectra_subsetting ⠦ | 1647 | spectra_subsetting ⠋ | 1661 | spectra_subsetting ⠼ | 1675 | spectra_subsetting ⠏ | 1690 | spectra_subsetting ⠼ | 1705 | spectra_subsetting ⠦ | 1717 | spectra_subsetting ⠦ | 1727 | spectra_subsetting ⠇ | 1729 | spectra_subsetting ⠙ | 1732 | spectra_subsetting ⠸ | 1734 | spectra_subsetting ⠴ | 1736 | spectra_subsetting ⠧ | 1738 | spectra_subsetting ⠏ | 1740 | spectra_subsetting ⠙ | 1742 | spectra_subsetting ⠼ | 1745 | spectra_subsetting ⠦ | 1747 | spectra_subsetting ⠇ | 1749 | spectra_subsetting ⠋ | 1751 | spectra_subsetting ⠸ | 1754 | spectra_subsetting ⠴ | 1756 | spectra_subsetting ⠇ | 1759 | spectra_subsetting ⠙ | 1762 | spectra_subsetting ⠸ | 1764 | spectra_subsetting ⠦ | 1767 | spectra_subsetting ⠇ | 1769 | spectra_subsetting ⠙ | 1772 | spectra_subsetting ⠼ | 1775 | spectra_subsetting ⠦ | 1777 | spectra_subsetting ⠇ | 1779 | spectra_subsetting ⠋ | 1781 | spectra_subsetting ⠸ | 1784 | spectra_subsetting ⠴ | 1786 | spectra_subsetting ⠇ | 1789 | spectra_subsetting ⠋ | 1791 | spectra_subsetting ⠸ | 1794 | spectra_subsetting ⠦ | 1797 | spectra_subsetting ⠏ | 1800 | spectra_subsetting ⠹ | 1803 | spectra_subsetting ⠴ | 1806 | spectra_subsetting ⠧ | 1808 | spectra_subsetting ⠋ | 1811 | spectra_subsetting ⠹ | 1813 | spectra_subsetting ⠴ | 1816 | spectra_subsetting ⠧ | 1818 | spectra_subsetting ⠋ | 1821 | spectra_subsetting ⠸ | 1824 | spectra_subsetting ⠴ | 1826 | spectra_subsetting ⠇ | 1829 | spectra_subsetting ⠋ | 1831 | spectra_subsetting ⠸ | 1834 | spectra_subsetting ⠦ | 1837 | spectra_subsetting ⠇ | 1839 | spectra_subsetting ⠙ | 1842 | spectra_subsetting ⠸ | 1844 | spectra_subsetting ⠦ | 1847 | spectra_subsetting ⠇ | 1849 | spectra_subsetting ⠋ | 1851 | spectra_subsetting ⠹ | 1853 | spectra_subsetting ⠼ | 1855 | spectra_subsetting ⠦ | 1857 | spectra_subsetting ⠇ | 1859 | spectra_subsetting ⠋ | 1861 | spectra_subsetting ⠹ | 1863 | spectra_subsetting ⠴ | 1866 | spectra_subsetting ⠇ | 1869 | spectra_subsetting ⠋ | 1871 | spectra_subsetting ⠸ | 1874 | spectra_subsetting ⠦ | 1877 | spectra_subsetting ⠇ | 1879 | spectra_subsetting ⠙ | 1882 | spectra_subsetting ⠸ | 1884 | spectra_subsetting ⠦ | 1887 | spectra_subsetting ⠇ | 1889 | spectra_subsetting ⠙ | 1892 | spectra_subsetting ⠼ | 1895 | spectra_subsetting ⠴ | 1896 | spectra_subsetting ⠇ | 1899 | spectra_subsetting ⠙ | 1902 | spectra_subsetting ⠼ | 1905 | spectra_subsetting ⠧ | 1908 | spectra_subsetting ⠋ | 1911 | spectra_subsetting ⠸ | 1914 | spectra_subsetting ⠦ | 1917 | spectra_subsetting ⠇ | 1919 | spectra_subsetting ⠙ | 1922 | spectra_subsetting ⠼ | 1925 | spectra_subsetting ⠧ | 1928 | spectra_subsetting ⠋ | 1931 | spectra_subsetting ⠹ | 1933 | spectra_subsetting ⠴ | 1936 | spectra_subsetting ⠇ | 1939 | spectra_subsetting ⠙ | 1942 | spectra_subsetting ⠼ | 1945 | spectra_subsetting ⠧ | 1948 | spectra_subsetting ⠋ | 1951 | spectra_subsetting ⠹ | 1953 | spectra_subsetting ⠼ | 1955 | spectra_subsetting ⠦ | 1957 | spectra_subsetting ⠇ | 1959 | spectra_subsetting ⠋ | 1961 | spectra_subsetting ⠸ | 1964 | spectra_subsetting ⠦ | 1967 | spectra_subsetting ⠇ | 1969 | spectra_subsetting ⠙ | 1972 | spectra_subsetting ⠼ | 1975 | spectra_subsetting ⠧ | 1978 | spectra_subsetting ⠋ | 1981 | spectra_subsetting ⠸ | 1984 | spectra_subsetting ⠦ | 1987 | spectra_subsetting ⠏ | 1990 | spectra_subsetting ⠹ | 1993 | spectra_subsetting ⠴ | 1996 | spectra_subsetting ⠇ | 1999 | spectra_subsetting ⠙ | 2002 | spectra_subsetting ⠼ | 2005 | spectra_subsetting ⠦ | 2007 | spectra_subsetting ⠇ | 2009 | spectra_subsetting ⠙ | 2012 | spectra_subsetting ⠼ | 2015 | spectra_subsetting ⠧ | 2018 | spectra_subsetting ⠋ | 2021 | spectra_subsetting ⠸ | 2024 | spectra_subsetting ⠦ | 2027 | spectra_subsetting ⠏ | 2030 | spectra_subsetting ⠹ | 2033 | spectra_subsetting ⠴ | 2036 | spectra_subsetting ⠇ | 2039 | spectra_subsetting ⠙ | 2042 | spectra_subsetting ⠼ | 2045 | spectra_subsetting ⠧ | 2048 | spectra_subsetting ⠋ | 2051 | spectra_subsetting ⠸ | 2054 | spectra_subsetting ⠦ | 2057 | spectra_subsetting ⠇ | 2059 | spectra_subsetting ⠋ | 2061 | spectra_subsetting ⠹ | 2063 | spectra_subsetting ⠼ | 2065 | spectra_subsetting ⠧ | 2068 | spectra_subsetting ⠋ | 2071 | spectra_subsetting ⠸ | 2074 | spectra_subsetting ⠦ | 2077 | spectra_subsetting ⠏ | 2080 | spectra_subsetting ⠙ | 2082 | spectra_subsetting ⠼ | 2085 | spectra_subsetting ⠦ | 2087 | spectra_subsetting ⠏ | 2090 | spectra_subsetting ⠹ | 2093 | spectra_subsetting ⠴ | 2096 | spectra_subsetting ⠇ | 2099 | spectra_subsetting ⠙ | 2102 | spectra_subsetting ⠼ | 2105 | spectra_subsetting ⠧ | 2108 | spectra_subsetting ⠏ | 2110 | spectra_subsetting ⠹ | 2113 | spectra_subsetting ⠴ | 2116 | spectra_subsetting ⠇ | 2119 | spectra_subsetting ⠙ | 2122 | spectra_subsetting ⠼ | 2125 | spectra_subsetting ⠧ | 2128 | spectra_subsetting ⠋ | 2131 | spectra_subsetting ⠸ | 2134 | spectra_subsetting ⠦ | 2137 | spectra_subsetting ⠏ | 2140 | spectra_subsetting ⠹ | 2143 | spectra_subsetting ⠴ | 2146 | spectra_subsetting ⠇ | 2149 | spectra_subsetting ⠙ | 2152 | spectra_subsetting ⠼ | 2155 | spectra_subsetting ⠧ | 2158 | spectra_subsetting ⠏ | 2160 | spectra_subsetting ⠹ | 2163 | spectra_subsetting ⠴ | 2166 | spectra_subsetting ⠇ | 2169 | spectra_subsetting ⠙ | 2172 | spectra_subsetting ⠼ | 2175 | spectra_subsetting ⠧ | 2178 | spectra_subsetting ⠋ | 2181 | spectra_subsetting ⠸ | 2184 | spectra_subsetting ⠦ | 2187 | spectra_subsetting ⠏ | 2190 | spectra_subsetting ⠹ | 2193 | spectra_subsetting ⠴ | 2196 | spectra_subsetting ⠇ | 2199 | spectra_subsetting ⠙ | 2202 | spectra_subsetting ⠼ | 2205 | spectra_subsetting ⠧ | 2208 | spectra_subsetting ⠋ | 2211 | spectra_subsetting ⠹ | 2213 | spectra_subsetting ⠴ | 2216 | spectra_subsetting ⠇ | 2219 | spectra_subsetting ⠙ | 2222 | spectra_subsetting ⠼ | 2225 | spectra_subsetting ⠧ | 2228 | spectra_subsetting ⠋ | 2231 | spectra_subsetting ⠸ | 2234 | spectra_subsetting ⠦ | 2237 | spectra_subsetting ⠏ | 2240 | spectra_subsetting ⠹ | 2243 | spectra_subsetting ⠴ | 2246 | spectra_subsetting ⠇ | 2249 | spectra_subsetting ⠙ | 2252 | spectra_subsetting ⠼ | 2255 | spectra_subsetting ⠧ | 2258 | spectra_subsetting ⠋ | 2261 | spectra_subsetting ⠸ | 2264 | spectra_subsetting ⠦ | 2267 | spectra_subsetting ⠏ | 2270 | spectra_subsetting ⠹ | 2273 | spectra_subsetting ⠴ | 2276 | spectra_subsetting ⠇ | 2279 | spectra_subsetting ⠙ | 2282 | spectra_subsetting ⠼ | 2285 | spectra_subsetting ⠧ | 2288 | spectra_subsetting ⠋ | 2291 | spectra_subsetting ⠸ | 2294 | spectra_subsetting ⠦ | 2297 | spectra_subsetting ⠏ | 2300 | spectra_subsetting ⠼ | 2305 | spectra_subsetting ⠹ | 2313 | spectra_subsetting ⠙ | 2322 | spectra_subsetting ⠋ | 2331 | spectra_subsetting ⠸ | 2334 | spectra_subsetting ✔ | 2342 | spectra_subsetting [42.4s] ⠏ | 0 | spectra_variables ⠙ | 12 | spectra_variables ⠸ | 14 | spectra_variables ⠴ | 16 | spectra_variables ⠦ | 27 | spectra_variables ⠇ | 29 | spectra_variables ⠋ | 31 | spectra_variables ⠹ | 43 | spectra_variables ⠋ | 1 60 | spectra_variables ✔ | 1 62 | spectra_variables [14.3s] ══ Results ═════════════════════════════════════════════════════════════════════ Duration: 60.7 s ── Skipped tests (1) ─────────────────────────────────────────────────────────── • empty test (1): 'test_spectra_variables.R:262:1' [ FAIL 0 | WARN 0 | SKIP 1 | PASS 2408 ] > > proc.time() user system elapsed 82.579 8.260 93.340
MsBackendRawFileReader.Rcheck/MsBackendRawFileReader-Ex.timings
name | user | system | elapsed | |
MsBackendRawFileReader-class | 3.046 | 0.806 | 4.238 | |
MsBackendRawFileReader | 6.598 | 2.237 | 9.529 | |
hidden_aliases | 2.178 | 0.714 | 3.049 | |
ioBenchmark | 31.908 | 5.926 | 11.861 | |