Back to Multiple platform build/check report for BioC 3.22: simplified long |
|
This page was generated on 2025-07-15 12:08 -0400 (Tue, 15 Jul 2025).
Hostname | OS | Arch (*) | R version | Installed pkgs |
---|---|---|---|---|
nebbiolo2 | Linux (Ubuntu 24.04.2 LTS) | x86_64 | 4.5.1 (2025-06-13) -- "Great Square Root" | 4785 |
palomino8 | Windows Server 2022 Datacenter | x64 | 4.5.1 (2025-06-13 ucrt) -- "Great Square Root" | 4524 |
lconway | macOS 12.7.1 Monterey | x86_64 | 4.5.1 (2025-06-13) -- "Great Square Root" | 4565 |
kjohnson3 | macOS 13.7.1 Ventura | arm64 | 4.5.1 Patched (2025-06-14 r88325) -- "Great Square Root" | 4508 |
taishan | Linux (openEuler 24.03 LTS) | aarch64 | 4.5.0 (2025-04-11) -- "How About a Twenty-Six" | 4509 |
Click on any hostname to see more info about the system (e.g. compilers) (*) as reported by 'uname -p', except on Windows and Mac OS X |
Package 1349/2311 | Hostname | OS / Arch | INSTALL | BUILD | CHECK | BUILD BIN | ||||||||
MsBackendRawFileReader 1.15.1 (landing page) Christian Panse
| nebbiolo2 | Linux (Ubuntu 24.04.2 LTS) / x86_64 | OK | OK | OK | ![]() | ||||||||
palomino8 | Windows Server 2022 Datacenter / x64 | OK | OK | OK | OK | ![]() | ||||||||
lconway | macOS 12.7.1 Monterey / x86_64 | OK | OK | OK | OK | ![]() | ||||||||
kjohnson3 | macOS 13.7.1 Ventura / arm64 | OK | OK | OK | OK | ![]() | ||||||||
taishan | Linux (openEuler 24.03 LTS) / aarch64 | OK | ERROR | skipped | ||||||||||
To the developers/maintainers of the MsBackendRawFileReader package: - Allow up to 24 hours (and sometimes 48 hours) for your latest push to git@git.bioconductor.org:packages/MsBackendRawFileReader.git to reflect on this report. See Troubleshooting Build Report for more information. - Use the following Renviron settings to reproduce errors and warnings. - If 'R CMD check' started to fail recently on the Linux builder(s) over a missing dependency, add the missing dependency to 'Suggests:' in your DESCRIPTION file. See Renviron.bioc for more information. |
Package: MsBackendRawFileReader |
Version: 1.15.1 |
Command: /Library/Frameworks/R.framework/Resources/bin/R CMD check --install=check:MsBackendRawFileReader.install-out.txt --library=/Library/Frameworks/R.framework/Resources/library --no-vignettes --timings MsBackendRawFileReader_1.15.1.tar.gz |
StartedAt: 2025-07-14 22:09:37 -0400 (Mon, 14 Jul 2025) |
EndedAt: 2025-07-14 22:13:17 -0400 (Mon, 14 Jul 2025) |
EllapsedTime: 220.0 seconds |
RetCode: 0 |
Status: OK |
CheckDir: MsBackendRawFileReader.Rcheck |
Warnings: 0 |
############################################################################## ############################################################################## ### ### Running command: ### ### /Library/Frameworks/R.framework/Resources/bin/R CMD check --install=check:MsBackendRawFileReader.install-out.txt --library=/Library/Frameworks/R.framework/Resources/library --no-vignettes --timings MsBackendRawFileReader_1.15.1.tar.gz ### ############################################################################## ############################################################################## * using log directory ‘/Users/biocbuild/bbs-3.22-bioc/meat/MsBackendRawFileReader.Rcheck’ * using R version 4.5.1 (2025-06-13) * using platform: x86_64-apple-darwin20 * R was compiled by Apple clang version 14.0.0 (clang-1400.0.29.202) GNU Fortran (GCC) 14.2.0 * running under: macOS Monterey 12.7.6 * using session charset: UTF-8 * using option ‘--no-vignettes’ * checking for file ‘MsBackendRawFileReader/DESCRIPTION’ ... OK * checking extension type ... Package * this is package ‘MsBackendRawFileReader’ version ‘1.15.1’ * package encoding: UTF-8 * checking package namespace information ... OK * checking package dependencies ... OK * checking if this is a source package ... OK * checking if there is a namespace ... OK * checking for hidden files and directories ... OK * checking for portable file names ... OK * checking for sufficient/correct file permissions ... OK * checking whether package ‘MsBackendRawFileReader’ can be installed ... OK * checking installed package size ... OK * checking package directory ... OK * checking ‘build’ directory ... OK * checking DESCRIPTION meta-information ... OK * checking top-level files ... OK * checking for left-over files ... OK * checking index information ... OK * checking package subdirectories ... OK * checking code files for non-ASCII characters ... OK * checking R files for syntax errors ... OK * checking whether the package can be loaded ... OK * checking whether the package can be loaded with stated dependencies ... OK * checking whether the package can be unloaded cleanly ... OK * checking whether the namespace can be loaded with stated dependencies ... OK * checking whether the namespace can be unloaded cleanly ... OK * checking whether startup messages can be suppressed ... OK * checking dependencies in R code ... OK * checking S3 generic/method consistency ... OK * checking replacement functions ... OK * checking foreign function calls ... OK * checking R code for possible problems ... OK * checking Rd files ... OK * checking Rd metadata ... OK * checking Rd cross-references ... OK * checking for missing documentation entries ... OK * checking for code/documentation mismatches ... OK * checking Rd \usage sections ... OK * checking Rd contents ... OK * checking for unstated dependencies in examples ... OK * checking files in ‘vignettes’ ... OK * checking examples ... OK Examples with CPU (user + system) or elapsed time > 5s user system elapsed ioBenchmark 29.253 11.054 15.450 MsBackendRawFileReader 7.659 2.860 10.882 MsBackendRawFileReader-class 3.528 1.028 5.013 * checking for unstated dependencies in ‘tests’ ... OK * checking tests ... Running ‘testthat.R’ OK * checking for unstated dependencies in vignettes ... OK * checking package vignettes ... OK * checking running R code from vignettes ... SKIPPED * checking re-building of vignette outputs ... SKIPPED * checking PDF version of manual ... OK * DONE Status: OK
MsBackendRawFileReader.Rcheck/00install.out
############################################################################## ############################################################################## ### ### Running command: ### ### /Library/Frameworks/R.framework/Resources/bin/R CMD INSTALL MsBackendRawFileReader ### ############################################################################## ############################################################################## * installing to library ‘/Library/Frameworks/R.framework/Versions/4.5-x86_64/Resources/library’ * installing *source* package ‘MsBackendRawFileReader’ ... ** this is package ‘MsBackendRawFileReader’ version ‘1.15.1’ ** using staged installation ** R ** inst ** byte-compile and prepare package for lazy loading ** help *** installing help indices ** building package indices ** installing vignettes ** testing if installed package can be loaded from temporary location ** testing if installed package can be loaded from final location ** testing if installed package keeps a record of temporary installation path * DONE (MsBackendRawFileReader)
MsBackendRawFileReader.Rcheck/tests/testthat.Rout
R version 4.5.1 (2025-06-13) -- "Great Square Root" Copyright (C) 2025 The R Foundation for Statistical Computing Platform: x86_64-apple-darwin20 R is free software and comes with ABSOLUTELY NO WARRANTY. You are welcome to redistribute it under certain conditions. Type 'license()' or 'licence()' for distribution details. R is a collaborative project with many contributors. Type 'contributors()' for more information and 'citation()' on how to cite R or R packages in publications. Type 'demo()' for some demos, 'help()' for on-line help, or 'help.start()' for an HTML browser interface to help. Type 'q()' to quit R. > library("testthat") > library("MsBackendRawFileReader") Loading required package: Spectra Loading required package: S4Vectors Loading required package: stats4 Loading required package: BiocGenerics Loading required package: generics Attaching package: 'generics' The following objects are masked from 'package:base': as.difftime, as.factor, as.ordered, intersect, is.element, setdiff, setequal, union Attaching package: 'BiocGenerics' The following objects are masked from 'package:stats': IQR, mad, sd, var, xtabs The following objects are masked from 'package:base': Filter, Find, Map, Position, Reduce, anyDuplicated, aperm, append, as.data.frame, basename, cbind, colnames, dirname, do.call, duplicated, eval, evalq, get, grep, grepl, is.unsorted, lapply, mapply, match, mget, order, paste, pmax, pmax.int, pmin, pmin.int, rank, rbind, rownames, sapply, saveRDS, table, tapply, unique, unsplit, which.max, which.min Attaching package: 'S4Vectors' The following object is masked from 'package:utils': findMatches The following objects are masked from 'package:base': I, expand.grid, unname Loading required package: BiocParallel > library("Spectra") > > > sample_raw_file <- file.path(system.file(package = "rawrr"), + 'extdata', 'sample.raw') > > sample_mzXML_file <- file.path(path.package(package = 'MsBackendRawFileReader'), + 'extdata', 'sample.mzXML') > > > sample_raw <- backendInitialize(MsBackendRawFileReader::MsBackendRawFileReader(), files = sample_raw_file) > > > #sample_mzr <- backendInitialize(MsBackendMzR(), files = sample_mzXML_file) > > > mgf_file <- file.path(system.file(package = "MsBackendRawFileReader"), + 'extdata', '3159619b11ed_4590_9594.mgf') > > > rv <- lapply(1:2, function(x){ + file.copy(from = sample_raw_file, to = tempfile(fileext='.raw'))}) > > > register(SnowParam(workers = 1, type = "SOCK") , default = TRUE); > sample_raw_2 <- backendInitialize(MsBackendRawFileReader(), + files = file.path(tempdir(), + list.files(path = tempdir(), pattern = 'raw$'))) > > > test_check("MsBackendRawFileReader") [ FAIL 0 | WARN 1 | SKIP 2 | PASS 21 ] ══ Skipped tests (2) ═══════════════════════════════════════════════════════════ • isFALSE(file.exists(sample_mzXML_file)) is TRUE (1): 'test_MsBackendMzR_MsBackendRawFileReader.R:1:1' • isFALSE(require(MsBackendRawMgf)) is TRUE (1): 'test_top_n_mgf.R:1:1' [ FAIL 0 | WARN 1 | SKIP 2 | PASS 21 ] > > > be <- Spectra::backendInitialize(MsBackendRawFileReader::MsBackendRawFileReader(), + files = c(sample_raw_file)) > > ## Run the MsBackend spectra variable test suite > > test_suite <- system.file("test_backends", "test_MsBackend", + package = "Spectra") > > #res <- test_file(paste0(test_suite, "/test_spectra_variables.R"), > # reporter = check_reporter(), stop_on_failure = TRUE) > > > ## Run the whole suite. > res <- test_dir(test_suite, stop_on_failure = TRUE) ✔ | F W S OK | Context ⠏ | 0 | peaks_variables ⠙ | 2 | peaks_variables ⠸ | 4 | peaks_variables ✔ | 4 | peaks_variables [4.4s] ⠏ | 0 | spectra_subsetting ⠋ | 1 | spectra_subsetting ⠹ | 13 | spectra_subsetting ⠼ | 25 | spectra_subsetting ⠦ | 37 | spectra_subsetting ⠇ | 49 | spectra_subsetting ⠇ | 59 | spectra_subsetting ⠏ | 70 | spectra_subsetting ⠹ | 83 | spectra_subsetting ⠸ | 94 | spectra_subsetting ⠼ | 105 | spectra_subsetting ⠴ | 116 | spectra_subsetting ⠦ | 127 | spectra_subsetting ⠇ | 139 | spectra_subsetting ⠋ | 151 | spectra_subsetting ⠹ | 163 | spectra_subsetting ⠼ | 175 | spectra_subsetting ⠦ | 187 | spectra_subsetting ⠇ | 199 | spectra_subsetting ⠏ | 210 | spectra_subsetting ⠏ | 220 | spectra_subsetting ⠙ | 232 | spectra_subsetting ⠸ | 244 | spectra_subsetting ⠴ | 256 | spectra_subsetting ⠧ | 268 | spectra_subsetting ⠏ | 280 | spectra_subsetting ⠏ | 290 | spectra_subsetting ⠋ | 301 | spectra_subsetting ⠹ | 313 | spectra_subsetting ⠙ | 322 | spectra_subsetting ⠸ | 334 | spectra_subsetting ⠴ | 346 | spectra_subsetting ⠦ | 357 | spectra_subsetting ⠦ | 367 | spectra_subsetting ⠇ | 379 | spectra_subsetting ⠋ | 391 | spectra_subsetting ⠹ | 403 | spectra_subsetting ⠼ | 415 | spectra_subsetting ⠦ | 427 | spectra_subsetting ⠇ | 439 | spectra_subsetting ⠙ | 452 | spectra_subsetting ⠹ | 463 | spectra_subsetting ⠼ | 475 | spectra_subsetting ⠦ | 487 | spectra_subsetting ⠏ | 500 | spectra_subsetting ⠋ | 511 | spectra_subsetting ⠴ | 526 | spectra_subsetting ⠧ | 538 | spectra_subsetting ⠏ | 550 | spectra_subsetting ⠙ | 562 | spectra_subsetting ⠸ | 574 | spectra_subsetting ⠴ | 586 | spectra_subsetting ⠇ | 599 | spectra_subsetting ⠏ | 610 | spectra_subsetting ⠙ | 622 | spectra_subsetting ⠼ | 635 | spectra_subsetting ⠴ | 646 | spectra_subsetting ⠧ | 658 | spectra_subsetting ⠹ | 673 | spectra_subsetting ⠼ | 685 | spectra_subsetting ⠦ | 697 | spectra_subsetting ⠇ | 709 | spectra_subsetting ⠋ | 721 | spectra_subsetting ⠸ | 734 | spectra_subsetting ⠼ | 745 | spectra_subsetting ⠦ | 757 | spectra_subsetting ⠇ | 769 | spectra_subsetting ⠋ | 781 | spectra_subsetting ⠹ | 793 | spectra_subsetting ⠼ | 805 | spectra_subsetting ⠦ | 817 | spectra_subsetting ⠇ | 829 | spectra_subsetting ⠋ | 841 | spectra_subsetting ⠹ | 853 | spectra_subsetting ⠼ | 865 | spectra_subsetting ⠴ | 876 | spectra_subsetting ⠦ | 887 | spectra_subsetting ⠧ | 898 | spectra_subsetting ⠧ | 908 | spectra_subsetting ⠇ | 919 | spectra_subsetting ⠋ | 931 | spectra_subsetting ⠋ | 941 | spectra_subsetting ⠙ | 952 | spectra_subsetting ⠸ | 964 | spectra_subsetting ⠴ | 976 | spectra_subsetting ⠧ | 988 | spectra_subsetting ⠏ | 1000 | spectra_subsetting ⠙ | 1012 | spectra_subsetting ⠸ | 1024 | spectra_subsetting ⠦ | 1037 | spectra_subsetting ⠧ | 1048 | spectra_subsetting ⠏ | 1060 | spectra_subsetting ⠹ | 1073 | spectra_subsetting ⠸ | 1084 | spectra_subsetting ⠴ | 1096 | spectra_subsetting ⠇ | 1109 | spectra_subsetting ⠋ | 1121 | spectra_subsetting ⠙ | 1132 | spectra_subsetting ⠼ | 1145 | spectra_subsetting ⠧ | 1158 | spectra_subsetting ⠧ | 1168 | spectra_subsetting ⠏ | 1180 | spectra_subsetting ⠙ | 1192 | spectra_subsetting ⠸ | 1204 | spectra_subsetting ⠴ | 1216 | spectra_subsetting ⠧ | 1228 | spectra_subsetting ⠧ | 1238 | spectra_subsetting ⠏ | 1250 | spectra_subsetting ⠋ | 1261 | spectra_subsetting ⠹ | 1273 | spectra_subsetting ⠼ | 1285 | spectra_subsetting ⠦ | 1297 | spectra_subsetting ⠇ | 1309 | spectra_subsetting ⠙ | 1322 | spectra_subsetting ⠸ | 1334 | spectra_subsetting ⠹ | 1343 | spectra_subsetting ⠸ | 1354 | spectra_subsetting ⠴ | 1366 | spectra_subsetting ⠴ | 1376 | spectra_subsetting ⠦ | 1387 | spectra_subsetting ⠇ | 1399 | spectra_subsetting ⠋ | 1411 | spectra_subsetting ⠏ | 1420 | spectra_subsetting ⠙ | 1432 | spectra_subsetting ⠸ | 1444 | spectra_subsetting ⠴ | 1456 | spectra_subsetting ⠧ | 1468 | spectra_subsetting ⠏ | 1480 | spectra_subsetting ⠙ | 1492 | spectra_subsetting ⠸ | 1504 | spectra_subsetting ⠴ | 1516 | spectra_subsetting ⠴ | 1526 | spectra_subsetting ⠦ | 1537 | spectra_subsetting ⠇ | 1549 | spectra_subsetting ⠋ | 1561 | spectra_subsetting ⠹ | 1573 | spectra_subsetting ⠼ | 1585 | spectra_subsetting ⠼ | 1595 | spectra_subsetting ⠴ | 1606 | spectra_subsetting ⠧ | 1618 | spectra_subsetting ⠏ | 1630 | spectra_subsetting ⠙ | 1642 | spectra_subsetting ⠸ | 1654 | spectra_subsetting ⠴ | 1666 | spectra_subsetting ⠧ | 1678 | spectra_subsetting ⠏ | 1690 | spectra_subsetting ⠙ | 1702 | spectra_subsetting ⠸ | 1714 | spectra_subsetting ⠴ | 1726 | spectra_subsetting ⠧ | 1728 | spectra_subsetting ⠏ | 1730 | spectra_subsetting ⠙ | 1732 | spectra_subsetting ⠸ | 1734 | spectra_subsetting ⠴ | 1736 | spectra_subsetting ⠧ | 1738 | spectra_subsetting ⠋ | 1741 | spectra_subsetting ⠹ | 1743 | spectra_subsetting ⠼ | 1745 | spectra_subsetting ⠦ | 1747 | spectra_subsetting ⠇ | 1749 | spectra_subsetting ⠋ | 1751 | spectra_subsetting ⠹ | 1753 | spectra_subsetting ⠼ | 1755 | spectra_subsetting ⠦ | 1757 | spectra_subsetting ⠇ | 1759 | spectra_subsetting ⠋ | 1761 | spectra_subsetting ⠹ | 1763 | spectra_subsetting ⠴ | 1766 | spectra_subsetting ⠧ | 1768 | spectra_subsetting ⠏ | 1770 | spectra_subsetting ⠙ | 1772 | spectra_subsetting ⠼ | 1775 | spectra_subsetting ⠦ | 1777 | spectra_subsetting ⠇ | 1779 | spectra_subsetting ⠋ | 1781 | spectra_subsetting ⠹ | 1783 | spectra_subsetting ⠼ | 1785 | spectra_subsetting ⠦ | 1787 | spectra_subsetting ⠇ | 1789 | spectra_subsetting ⠋ | 1791 | spectra_subsetting ⠹ | 1793 | spectra_subsetting ⠼ | 1795 | spectra_subsetting ⠦ | 1797 | spectra_subsetting ⠇ | 1799 | spectra_subsetting ⠋ | 1801 | spectra_subsetting ⠹ | 1803 | spectra_subsetting ⠼ | 1805 | spectra_subsetting ⠦ | 1807 | spectra_subsetting ⠇ | 1809 | spectra_subsetting ⠋ | 1811 | spectra_subsetting ⠹ | 1813 | spectra_subsetting ⠼ | 1815 | spectra_subsetting ⠦ | 1817 | spectra_subsetting ⠇ | 1819 | spectra_subsetting ⠋ | 1821 | spectra_subsetting ⠹ | 1823 | spectra_subsetting ⠼ | 1825 | spectra_subsetting ⠦ | 1827 | spectra_subsetting ⠇ | 1829 | spectra_subsetting ⠋ | 1831 | spectra_subsetting ⠹ | 1833 | spectra_subsetting ⠼ | 1835 | spectra_subsetting ⠦ | 1837 | spectra_subsetting ⠇ | 1839 | spectra_subsetting ⠋ | 1841 | spectra_subsetting ⠹ | 1843 | spectra_subsetting ⠴ | 1846 | spectra_subsetting ⠧ | 1848 | spectra_subsetting ⠏ | 1850 | spectra_subsetting ⠙ | 1852 | spectra_subsetting ⠸ | 1854 | spectra_subsetting ⠴ | 1856 | spectra_subsetting ⠧ | 1858 | spectra_subsetting ⠏ | 1860 | spectra_subsetting ⠙ | 1862 | spectra_subsetting ⠸ | 1864 | spectra_subsetting ⠴ | 1866 | spectra_subsetting ⠧ | 1868 | spectra_subsetting ⠏ | 1870 | spectra_subsetting ⠹ | 1873 | spectra_subsetting ⠼ | 1875 | spectra_subsetting ⠦ | 1877 | spectra_subsetting ⠇ | 1879 | spectra_subsetting ⠋ | 1881 | spectra_subsetting ⠹ | 1883 | spectra_subsetting ⠼ | 1885 | spectra_subsetting ⠦ | 1887 | spectra_subsetting ⠇ | 1889 | spectra_subsetting ⠋ | 1891 | spectra_subsetting ⠹ | 1893 | spectra_subsetting ⠼ | 1895 | spectra_subsetting ⠧ | 1898 | spectra_subsetting ⠏ | 1900 | spectra_subsetting ⠹ | 1903 | spectra_subsetting ⠼ | 1905 | spectra_subsetting ⠦ | 1907 | spectra_subsetting ⠇ | 1909 | spectra_subsetting ⠙ | 1912 | spectra_subsetting ⠸ | 1914 | spectra_subsetting ⠴ | 1916 | spectra_subsetting ⠧ | 1918 | spectra_subsetting ⠏ | 1920 | spectra_subsetting ⠙ | 1922 | spectra_subsetting ⠼ | 1925 | spectra_subsetting ⠦ | 1927 | spectra_subsetting ⠇ | 1929 | spectra_subsetting ⠋ | 1931 | spectra_subsetting ⠹ | 1933 | spectra_subsetting ⠼ | 1935 | spectra_subsetting ⠦ | 1937 | spectra_subsetting ⠇ | 1939 | spectra_subsetting ⠋ | 1941 | spectra_subsetting ⠹ | 1943 | spectra_subsetting ⠼ | 1945 | spectra_subsetting ⠦ | 1947 | spectra_subsetting ⠇ | 1949 | spectra_subsetting ⠋ | 1951 | spectra_subsetting ⠸ | 1954 | spectra_subsetting ⠦ | 1957 | spectra_subsetting ⠇ | 1959 | spectra_subsetting ⠋ | 1961 | spectra_subsetting ⠹ | 1963 | spectra_subsetting ⠼ | 1965 | spectra_subsetting ⠧ | 1968 | spectra_subsetting ⠏ | 1970 | spectra_subsetting ⠙ | 1972 | spectra_subsetting ⠸ | 1974 | spectra_subsetting ⠦ | 1977 | spectra_subsetting ⠏ | 1980 | spectra_subsetting ⠙ | 1982 | spectra_subsetting ⠼ | 1985 | spectra_subsetting ⠧ | 1988 | spectra_subsetting ⠏ | 1990 | spectra_subsetting ⠹ | 1993 | spectra_subsetting ⠼ | 1995 | spectra_subsetting ⠧ | 1998 | spectra_subsetting ⠏ | 2000 | spectra_subsetting ⠹ | 2003 | spectra_subsetting ⠼ | 2005 | spectra_subsetting ⠦ | 2007 | spectra_subsetting ⠇ | 2009 | spectra_subsetting ⠙ | 2012 | spectra_subsetting ⠸ | 2014 | spectra_subsetting ⠴ | 2016 | spectra_subsetting ⠧ | 2018 | spectra_subsetting ⠏ | 2020 | spectra_subsetting ⠙ | 2022 | spectra_subsetting ⠼ | 2025 | spectra_subsetting ⠦ | 2027 | spectra_subsetting ⠇ | 2029 | spectra_subsetting ⠋ | 2031 | spectra_subsetting ⠹ | 2033 | spectra_subsetting ⠼ | 2035 | spectra_subsetting ⠦ | 2037 | spectra_subsetting ⠏ | 2040 | spectra_subsetting ⠙ | 2042 | spectra_subsetting ⠸ | 2044 | spectra_subsetting ⠴ | 2046 | spectra_subsetting ⠧ | 2048 | spectra_subsetting ⠏ | 2050 | spectra_subsetting ⠙ | 2052 | spectra_subsetting ⠸ | 2054 | spectra_subsetting ⠴ | 2056 | spectra_subsetting ⠧ | 2058 | spectra_subsetting ⠏ | 2060 | spectra_subsetting ⠙ | 2062 | spectra_subsetting ⠸ | 2064 | spectra_subsetting ⠴ | 2066 | spectra_subsetting ⠧ | 2068 | spectra_subsetting ⠏ | 2070 | spectra_subsetting ⠙ | 2072 | spectra_subsetting ⠼ | 2075 | spectra_subsetting ⠦ | 2077 | spectra_subsetting ⠇ | 2079 | spectra_subsetting ⠋ | 2081 | spectra_subsetting ⠹ | 2083 | spectra_subsetting ⠼ | 2085 | spectra_subsetting ⠦ | 2087 | spectra_subsetting ⠇ | 2089 | spectra_subsetting ⠋ | 2091 | spectra_subsetting ⠹ | 2093 | spectra_subsetting ⠼ | 2095 | spectra_subsetting ⠦ | 2097 | spectra_subsetting ⠇ | 2099 | spectra_subsetting ⠙ | 2102 | spectra_subsetting ⠸ | 2104 | spectra_subsetting ⠴ | 2106 | spectra_subsetting ⠧ | 2108 | spectra_subsetting ⠏ | 2110 | spectra_subsetting ⠙ | 2112 | spectra_subsetting ⠸ | 2114 | spectra_subsetting ⠴ | 2116 | spectra_subsetting ⠧ | 2118 | spectra_subsetting ⠏ | 2120 | spectra_subsetting ⠙ | 2122 | spectra_subsetting ⠸ | 2124 | spectra_subsetting ⠴ | 2126 | spectra_subsetting ⠧ | 2128 | spectra_subsetting ⠏ | 2130 | spectra_subsetting ⠙ | 2132 | spectra_subsetting ⠸ | 2134 | spectra_subsetting ⠴ | 2136 | spectra_subsetting ⠇ | 2139 | spectra_subsetting ⠋ | 2141 | spectra_subsetting ⠹ | 2143 | spectra_subsetting ⠼ | 2145 | spectra_subsetting ⠦ | 2147 | spectra_subsetting ⠇ | 2149 | spectra_subsetting ⠋ | 2151 | spectra_subsetting ⠹ | 2153 | spectra_subsetting ⠼ | 2155 | spectra_subsetting ⠦ | 2157 | spectra_subsetting ⠇ | 2159 | spectra_subsetting ⠋ | 2161 | spectra_subsetting ⠹ | 2163 | spectra_subsetting ⠼ | 2165 | spectra_subsetting ⠦ | 2167 | spectra_subsetting ⠏ | 2170 | spectra_subsetting ⠙ | 2172 | spectra_subsetting ⠼ | 2175 | spectra_subsetting ⠦ | 2177 | spectra_subsetting ⠇ | 2179 | spectra_subsetting ⠋ | 2181 | spectra_subsetting ⠹ | 2183 | spectra_subsetting ⠼ | 2185 | spectra_subsetting ⠦ | 2187 | spectra_subsetting ⠇ | 2189 | spectra_subsetting ⠙ | 2192 | spectra_subsetting ⠸ | 2194 | spectra_subsetting ⠦ | 2197 | spectra_subsetting ⠇ | 2199 | spectra_subsetting ⠋ | 2201 | spectra_subsetting ⠹ | 2203 | spectra_subsetting ⠴ | 2206 | spectra_subsetting ⠧ | 2208 | spectra_subsetting ⠋ | 2211 | spectra_subsetting ⠹ | 2213 | spectra_subsetting ⠼ | 2215 | spectra_subsetting ⠦ | 2217 | spectra_subsetting ⠏ | 2220 | spectra_subsetting ⠙ | 2222 | spectra_subsetting ⠸ | 2224 | spectra_subsetting ⠴ | 2226 | spectra_subsetting ⠧ | 2228 | spectra_subsetting ⠏ | 2230 | spectra_subsetting ⠹ | 2233 | spectra_subsetting ⠼ | 2235 | spectra_subsetting ⠦ | 2237 | spectra_subsetting ⠇ | 2239 | spectra_subsetting ⠋ | 2241 | spectra_subsetting ⠹ | 2243 | spectra_subsetting ⠼ | 2245 | spectra_subsetting ⠦ | 2247 | spectra_subsetting ⠇ | 2249 | spectra_subsetting ⠋ | 2251 | spectra_subsetting ⠹ | 2253 | spectra_subsetting ⠼ | 2255 | spectra_subsetting ⠦ | 2257 | spectra_subsetting ⠇ | 2259 | spectra_subsetting ⠋ | 2261 | spectra_subsetting ⠹ | 2263 | spectra_subsetting ⠴ | 2266 | spectra_subsetting ⠧ | 2268 | spectra_subsetting ⠏ | 2270 | spectra_subsetting ⠙ | 2272 | spectra_subsetting ⠸ | 2274 | spectra_subsetting ⠴ | 2276 | spectra_subsetting ⠧ | 2278 | spectra_subsetting ⠏ | 2280 | spectra_subsetting ⠙ | 2282 | spectra_subsetting ⠸ | 2284 | spectra_subsetting ⠴ | 2286 | spectra_subsetting ⠧ | 2288 | spectra_subsetting ⠏ | 2290 | spectra_subsetting ⠙ | 2292 | spectra_subsetting ⠸ | 2294 | spectra_subsetting ⠴ | 2296 | spectra_subsetting ⠇ | 2299 | spectra_subsetting ⠹ | 2303 | spectra_subsetting ⠇ | 2309 | spectra_subsetting ⠴ | 2316 | spectra_subsetting ⠙ | 2322 | spectra_subsetting ⠇ | 2329 | spectra_subsetting ⠸ | 2334 | spectra_subsetting ✔ | 2342 | spectra_subsetting [49.5s] ⠏ | 0 | spectra_variables ⠙ | 12 | spectra_variables ⠸ | 14 | spectra_variables ⠴ | 16 | spectra_variables ⠦ | 27 | spectra_variables ⠇ | 29 | spectra_variables ⠋ | 31 | spectra_variables ⠹ | 43 | spectra_variables ⠦ | 1 56 | spectra_variables ✔ | 1 62 | spectra_variables [17.4s] ══ Results ═════════════════════════════════════════════════════════════════════ Duration: 71.2 s ── Skipped tests (1) ─────────────────────────────────────────────────────────── • empty test (1): 'test_spectra_variables.R:262:1' [ FAIL 0 | WARN 0 | SKIP 1 | PASS 2408 ] > > proc.time() user system elapsed 93.206 12.189 108.173
MsBackendRawFileReader.Rcheck/MsBackendRawFileReader-Ex.timings
name | user | system | elapsed | |
MsBackendRawFileReader-class | 3.528 | 1.028 | 5.013 | |
MsBackendRawFileReader | 7.659 | 2.860 | 10.882 | |
hidden_aliases | 2.526 | 0.929 | 3.585 | |
ioBenchmark | 29.253 | 11.054 | 15.450 | |