Back to Multiple platform build/check report for BioC 3.22:   simplified   long
ABCDEFGHIJKL[M]NOPQRSTUVWXYZ

This page was generated on 2025-07-19 12:10 -0400 (Sat, 19 Jul 2025).

HostnameOSArch (*)R versionInstalled pkgs
nebbiolo2Linux (Ubuntu 24.04.2 LTS)x86_644.5.1 (2025-06-13) -- "Great Square Root" 4791
palomino8Windows Server 2022 Datacenterx644.5.1 (2025-06-13 ucrt) -- "Great Square Root" 4529
lconwaymacOS 12.7.1 Montereyx86_644.5.1 (2025-06-13) -- "Great Square Root" 4572
kjohnson3macOS 13.7.1 Venturaarm644.5.1 Patched (2025-06-14 r88325) -- "Great Square Root" 4513
taishanLinux (openEuler 24.03 LTS)aarch644.5.0 (2025-04-11) -- "How About a Twenty-Six" 4510
Click on any hostname to see more info about the system (e.g. compilers)      (*) as reported by 'uname -p', except on Windows and Mac OS X

Package 1349/2311HostnameOS / ArchINSTALLBUILDCHECKBUILD BIN
MsBackendRawFileReader 1.15.1  (landing page)
Christian Panse
Snapshot Date: 2025-07-18 13:25 -0400 (Fri, 18 Jul 2025)
git_url: https://git.bioconductor.org/packages/MsBackendRawFileReader
git_branch: devel
git_last_commit: 1998d81
git_last_commit_date: 2025-06-12 03:00:23 -0400 (Thu, 12 Jun 2025)
nebbiolo2Linux (Ubuntu 24.04.2 LTS) / x86_64  OK    OK    OK  UNNEEDED, same version is already published
palomino8Windows Server 2022 Datacenter / x64  OK    OK    OK    OK  UNNEEDED, same version is already published
lconwaymacOS 12.7.1 Monterey / x86_64  OK    OK    OK    OK  UNNEEDED, same version is already published
kjohnson3macOS 13.7.1 Ventura / arm64  OK    OK    OK    OK  UNNEEDED, same version is already published
taishanLinux (openEuler 24.03 LTS) / aarch64  OK    ERROR  skipped


CHECK results for MsBackendRawFileReader on kjohnson3

To the developers/maintainers of the MsBackendRawFileReader package:
- Allow up to 24 hours (and sometimes 48 hours) for your latest push to git@git.bioconductor.org:packages/MsBackendRawFileReader.git to reflect on this report. See Troubleshooting Build Report for more information.
- Use the following Renviron settings to reproduce errors and warnings.
- If 'R CMD check' started to fail recently on the Linux builder(s) over a missing dependency, add the missing dependency to 'Suggests:' in your DESCRIPTION file. See Renviron.bioc for more information.

raw results


Summary

Package: MsBackendRawFileReader
Version: 1.15.1
Command: /Library/Frameworks/R.framework/Resources/bin/R CMD check --install=check:MsBackendRawFileReader.install-out.txt --library=/Library/Frameworks/R.framework/Resources/library --no-vignettes --timings MsBackendRawFileReader_1.15.1.tar.gz
StartedAt: 2025-07-18 20:22:43 -0400 (Fri, 18 Jul 2025)
EndedAt: 2025-07-18 20:25:05 -0400 (Fri, 18 Jul 2025)
EllapsedTime: 141.7 seconds
RetCode: 0
Status:   OK  
CheckDir: MsBackendRawFileReader.Rcheck
Warnings: 0

Command output

##############################################################################
##############################################################################
###
### Running command:
###
###   /Library/Frameworks/R.framework/Resources/bin/R CMD check --install=check:MsBackendRawFileReader.install-out.txt --library=/Library/Frameworks/R.framework/Resources/library --no-vignettes --timings MsBackendRawFileReader_1.15.1.tar.gz
###
##############################################################################
##############################################################################


* using log directory ‘/Users/biocbuild/bbs-3.22-bioc/meat/MsBackendRawFileReader.Rcheck’
* using R version 4.5.1 Patched (2025-06-14 r88325)
* using platform: aarch64-apple-darwin20
* R was compiled by
    Apple clang version 16.0.0 (clang-1600.0.26.6)
    GNU Fortran (GCC) 14.2.0
* running under: macOS Ventura 13.7.1
* using session charset: UTF-8
* using option ‘--no-vignettes’
* checking for file ‘MsBackendRawFileReader/DESCRIPTION’ ... OK
* checking extension type ... Package
* this is package ‘MsBackendRawFileReader’ version ‘1.15.1’
* package encoding: UTF-8
* checking package namespace information ... OK
* checking package dependencies ... OK
* checking if this is a source package ... OK
* checking if there is a namespace ... OK
* checking for hidden files and directories ... OK
* checking for portable file names ... OK
* checking for sufficient/correct file permissions ... OK
* checking whether package ‘MsBackendRawFileReader’ can be installed ... OK
* checking installed package size ... OK
* checking package directory ... OK
* checking ‘build’ directory ... OK
* checking DESCRIPTION meta-information ... OK
* checking top-level files ... OK
* checking for left-over files ... OK
* checking index information ... OK
* checking package subdirectories ... OK
* checking code files for non-ASCII characters ... OK
* checking R files for syntax errors ... OK
* checking whether the package can be loaded ... OK
* checking whether the package can be loaded with stated dependencies ... OK
* checking whether the package can be unloaded cleanly ... OK
* checking whether the namespace can be loaded with stated dependencies ... OK
* checking whether the namespace can be unloaded cleanly ... OK
* checking whether startup messages can be suppressed ... OK
* checking dependencies in R code ... OK
* checking S3 generic/method consistency ... OK
* checking replacement functions ... OK
* checking foreign function calls ... OK
* checking R code for possible problems ... OK
* checking Rd files ... OK
* checking Rd metadata ... OK
* checking Rd cross-references ... OK
* checking for missing documentation entries ... OK
* checking for code/documentation mismatches ... OK
* checking Rd \usage sections ... OK
* checking Rd contents ... OK
* checking for unstated dependencies in examples ... OK
* checking files in ‘vignettes’ ... OK
* checking examples ... OK
Examples with CPU (user + system) or elapsed time > 5s
                               user system elapsed
ioBenchmark                  38.014  8.525  13.129
MsBackendRawFileReader       11.396  3.863  15.431
MsBackendRawFileReader-class  4.022  1.260   5.356
* checking for unstated dependencies in ‘tests’ ... OK
* checking tests ...
  Running ‘testthat.R’
 OK
* checking for unstated dependencies in vignettes ... OK
* checking package vignettes ... OK
* checking running R code from vignettes ... SKIPPED
* checking re-building of vignette outputs ... SKIPPED
* checking PDF version of manual ... OK
* DONE

Status: OK


Installation output

MsBackendRawFileReader.Rcheck/00install.out

##############################################################################
##############################################################################
###
### Running command:
###
###   /Library/Frameworks/R.framework/Resources/bin/R CMD INSTALL MsBackendRawFileReader
###
##############################################################################
##############################################################################


* installing to library ‘/Library/Frameworks/R.framework/Versions/4.5-arm64/Resources/library’
* installing *source* package ‘MsBackendRawFileReader’ ...
** this is package ‘MsBackendRawFileReader’ version ‘1.15.1’
** using staged installation
** R
** inst
** byte-compile and prepare package for lazy loading
** help
*** installing help indices
** building package indices
** installing vignettes
** testing if installed package can be loaded from temporary location
** testing if installed package can be loaded from final location
** testing if installed package keeps a record of temporary installation path
* DONE (MsBackendRawFileReader)

Tests output

MsBackendRawFileReader.Rcheck/tests/testthat.Rout


R version 4.5.1 Patched (2025-06-14 r88325) -- "Great Square Root"
Copyright (C) 2025 The R Foundation for Statistical Computing
Platform: aarch64-apple-darwin20

R is free software and comes with ABSOLUTELY NO WARRANTY.
You are welcome to redistribute it under certain conditions.
Type 'license()' or 'licence()' for distribution details.

R is a collaborative project with many contributors.
Type 'contributors()' for more information and
'citation()' on how to cite R or R packages in publications.

Type 'demo()' for some demos, 'help()' for on-line help, or
'help.start()' for an HTML browser interface to help.
Type 'q()' to quit R.

> library("testthat")
> library("MsBackendRawFileReader")
Loading required package: Spectra
Loading required package: S4Vectors
Loading required package: stats4
Loading required package: BiocGenerics
Loading required package: generics

Attaching package: 'generics'

The following objects are masked from 'package:base':

    as.difftime, as.factor, as.ordered, intersect, is.element, setdiff,
    setequal, union


Attaching package: 'BiocGenerics'

The following objects are masked from 'package:stats':

    IQR, mad, sd, var, xtabs

The following objects are masked from 'package:base':

    Filter, Find, Map, Position, Reduce, anyDuplicated, aperm, append,
    as.data.frame, basename, cbind, colnames, dirname, do.call,
    duplicated, eval, evalq, get, grep, grepl, is.unsorted, lapply,
    mapply, match, mget, order, paste, pmax, pmax.int, pmin, pmin.int,
    rank, rbind, rownames, sapply, saveRDS, table, tapply, unique,
    unsplit, which.max, which.min


Attaching package: 'S4Vectors'

The following object is masked from 'package:utils':

    findMatches

The following objects are masked from 'package:base':

    I, expand.grid, unname

Loading required package: BiocParallel
> library("Spectra")
> 
> 
> sample_raw_file <- file.path(system.file(package = "rawrr"),
+                                 'extdata', 'sample.raw')
> 
> sample_mzXML_file <- file.path(path.package(package = 'MsBackendRawFileReader'),
+                                 'extdata', 'sample.mzXML')
> 
> 
> sample_raw <-  backendInitialize(MsBackendRawFileReader::MsBackendRawFileReader(), files = sample_raw_file)
> 
> 
> #sample_mzr <-  backendInitialize(MsBackendMzR(), files = sample_mzXML_file)
> 
> 
> mgf_file <- file.path(system.file(package = "MsBackendRawFileReader"),
+                              'extdata', '3159619b11ed_4590_9594.mgf')
> 
> 
> rv <- lapply(1:2, function(x){
+   file.copy(from = sample_raw_file, to = tempfile(fileext='.raw'))})
> 
> 
> register(SnowParam(workers = 1, type = "SOCK") , default = TRUE); 
> sample_raw_2 <- backendInitialize(MsBackendRawFileReader(),
+     files = file.path(tempdir(),
+          list.files(path = tempdir(), pattern = 'raw$')))
> 
> 
> test_check("MsBackendRawFileReader")
[ FAIL 0 | WARN 1 | SKIP 2 | PASS 21 ]

══ Skipped tests (2) ═══════════════════════════════════════════════════════════
• isFALSE(file.exists(sample_mzXML_file)) is TRUE (1):
  'test_MsBackendMzR_MsBackendRawFileReader.R:1:1'
• isFALSE(require(MsBackendRawMgf)) is TRUE (1): 'test_top_n_mgf.R:1:1'

[ FAIL 0 | WARN 1 | SKIP 2 | PASS 21 ]
> 
> 
> be <- Spectra::backendInitialize(MsBackendRawFileReader::MsBackendRawFileReader(),
+                                  files = c(sample_raw_file))
> 
> ## Run the MsBackend spectra variable test suite
> 
> test_suite <- system.file("test_backends", "test_MsBackend",
+                           package = "Spectra")
> 
> #res <- test_file(paste0(test_suite, "/test_spectra_variables.R"),
> #                 reporter = check_reporter(), stop_on_failure = TRUE)
> 
> 
> ## Run the whole suite.
> res <- test_dir(test_suite, stop_on_failure = TRUE)
✔ | F W  S  OK | Context

⠏ |          0 | peaks_variables                                                
⠙ |          2 | peaks_variables                                                
⠸ |          4 | peaks_variables                                                
✔ |          4 | peaks_variables [4.7s]

⠏ |          0 | spectra_subsetting                                             
⠋ |          1 | spectra_subsetting                                             
⠼ |         45 | spectra_subsetting                                             
⠧ |         88 | spectra_subsetting                                             
⠹ |        133 | spectra_subsetting                                             
⠧ |        178 | spectra_subsetting                                             
⠴ |        226 | spectra_subsetting                                             
⠋ |        271 | spectra_subsetting                                             
⠹ |        313 | spectra_subsetting                                             
⠼ |        355 | spectra_subsetting                                             
⠦ |        397 | spectra_subsetting                                             
⠏ |        440 | spectra_subsetting                                             
⠸ |        484 | spectra_subsetting                                             
⠴ |        526 | spectra_subsetting                                             
⠸ |        574 | spectra_subsetting                                             
⠇ |        619 | spectra_subsetting                                             
⠦ |        667 | spectra_subsetting                                             
⠼ |        715 | spectra_subsetting                                             
⠏ |        760 | spectra_subsetting                                             
⠼ |        805 | spectra_subsetting                                             
⠏ |        850 | spectra_subsetting                                             
⠙ |        892 | spectra_subsetting                                             
⠦ |        937 | spectra_subsetting                                             
⠇ |        979 | spectra_subsetting                                             
⠴ |        1026 | spectra_subsetting                                            
⠙ |        1072 | spectra_subsetting                                            
⠇ |        1119 | spectra_subsetting                                            
⠙ |        1162 | spectra_subsetting                                            
⠦ |        1207 | spectra_subsetting                                            
⠙ |        1252 | spectra_subsetting                                            
⠧ |        1298 | spectra_subsetting                                            
⠹ |        1343 | spectra_subsetting                                            
⠦ |        1387 | spectra_subsetting                                            
⠙ |        1432 | spectra_subsetting                                            
⠏ |        1480 | spectra_subsetting                                            
⠙ |        1522 | spectra_subsetting                                            
⠦ |        1567 | spectra_subsetting                                            
⠋ |        1611 | spectra_subsetting                                            
⠦ |        1657 | spectra_subsetting                                            
⠸ |        1704 | spectra_subsetting                                            
⠇ |        1729 | spectra_subsetting                                            
⠴ |        1736 | spectra_subsetting                                            
⠹ |        1743 | spectra_subsetting                                            
⠏ |        1750 | spectra_subsetting                                            
⠦ |        1757 | spectra_subsetting                                            
⠸ |        1764 | spectra_subsetting                                            
⠙ |        1772 | spectra_subsetting                                            
⠇ |        1779 | spectra_subsetting                                            
⠴ |        1786 | spectra_subsetting                                            
⠹ |        1793 | spectra_subsetting                                            
⠏ |        1800 | spectra_subsetting                                            
⠦ |        1807 | spectra_subsetting                                            
⠸ |        1814 | spectra_subsetting                                            
⠋ |        1821 | spectra_subsetting                                            
⠧ |        1828 | spectra_subsetting                                            
⠼ |        1835 | spectra_subsetting                                            
⠹ |        1843 | spectra_subsetting                                            
⠏ |        1850 | spectra_subsetting                                            
⠦ |        1857 | spectra_subsetting                                            
⠸ |        1864 | spectra_subsetting                                            
⠋ |        1871 | spectra_subsetting                                            
⠧ |        1878 | spectra_subsetting                                            
⠼ |        1885 | spectra_subsetting                                            
⠙ |        1892 | spectra_subsetting                                            
⠴ |        1896 | spectra_subsetting                                            
⠸ |        1904 | spectra_subsetting                                            
⠙ |        1912 | spectra_subsetting                                            
⠏ |        1920 | spectra_subsetting                                            
⠧ |        1928 | spectra_subsetting                                            
⠴ |        1936 | spectra_subsetting                                            
⠸ |        1944 | spectra_subsetting                                            
⠙ |        1952 | spectra_subsetting                                            
⠏ |        1960 | spectra_subsetting                                            
⠧ |        1968 | spectra_subsetting                                            
⠴ |        1976 | spectra_subsetting                                            
⠸ |        1984 | spectra_subsetting                                            
⠙ |        1992 | spectra_subsetting                                            
⠏ |        2000 | spectra_subsetting                                            
⠧ |        2008 | spectra_subsetting                                            
⠴ |        2016 | spectra_subsetting                                            
⠸ |        2024 | spectra_subsetting                                            
⠙ |        2032 | spectra_subsetting                                            
⠏ |        2040 | spectra_subsetting                                            
⠧ |        2048 | spectra_subsetting                                            
⠴ |        2056 | spectra_subsetting                                            
⠸ |        2064 | spectra_subsetting                                            
⠙ |        2072 | spectra_subsetting                                            
⠏ |        2080 | spectra_subsetting                                            
⠦ |        2087 | spectra_subsetting                                            
⠼ |        2095 | spectra_subsetting                                            
⠹ |        2103 | spectra_subsetting                                            
⠋ |        2111 | spectra_subsetting                                            
⠇ |        2119 | spectra_subsetting                                            
⠦ |        2127 | spectra_subsetting                                            
⠼ |        2135 | spectra_subsetting                                            
⠹ |        2143 | spectra_subsetting                                            
⠋ |        2151 | spectra_subsetting                                            
⠇ |        2159 | spectra_subsetting                                            
⠦ |        2167 | spectra_subsetting                                            
⠼ |        2175 | spectra_subsetting                                            
⠹ |        2183 | spectra_subsetting                                            
⠋ |        2191 | spectra_subsetting                                            
⠇ |        2199 | spectra_subsetting                                            
⠦ |        2207 | spectra_subsetting                                            
⠼ |        2215 | spectra_subsetting                                            
⠹ |        2223 | spectra_subsetting                                            
⠋ |        2231 | spectra_subsetting                                            
⠇ |        2239 | spectra_subsetting                                            
⠦ |        2247 | spectra_subsetting                                            
⠼ |        2255 | spectra_subsetting                                            
⠹ |        2263 | spectra_subsetting                                            
⠋ |        2271 | spectra_subsetting                                            
⠇ |        2279 | spectra_subsetting                                            
⠦ |        2287 | spectra_subsetting                                            
⠼ |        2295 | spectra_subsetting                                            
⠼ |        2305 | spectra_subsetting                                            
⠇ |        2329 | spectra_subsetting                                            
✔ |        2342 | spectra_subsetting [12.4s]

⠏ |          0 | spectra_variables                                              
⠙ |         12 | spectra_variables                                              
⠸ |         14 | spectra_variables                                              
⠴ |         16 | spectra_variables                                              
⠦ |         27 | spectra_variables                                              
⠇ |         29 | spectra_variables                                              
⠋ |         31 | spectra_variables                                              
⠹ |         43 | spectra_variables                                              
✔ |      1  62 | spectra_variables [16.9s]

══ Results ═════════════════════════════════════════════════════════════════════
Duration: 34.0 s

── Skipped tests (1) ───────────────────────────────────────────────────────────
• empty test (1): 'test_spectra_variables.R:262:1'

[ FAIL 0 | WARN 0 | SKIP 1 | PASS 2408 ]
> 
> proc.time()
   user  system elapsed 
 60.233  13.977  74.704 

Example timings

MsBackendRawFileReader.Rcheck/MsBackendRawFileReader-Ex.timings

nameusersystemelapsed
MsBackendRawFileReader-class4.0221.2605.356
MsBackendRawFileReader11.396 3.86315.431
hidden_aliases3.5681.2034.847
ioBenchmark38.014 8.52513.129