Back to Multiple platform build/check report for BioC 3.23:   simplified   long
ABCDEFGHIJKL[M]NOPQRSTUVWXYZ

This page was generated on 2025-11-24 11:38 -0500 (Mon, 24 Nov 2025).

HostnameOSArch (*)R versionInstalled pkgs
nebbiolo1Linux (Ubuntu 24.04.3 LTS)x86_64R Under development (unstable) (2025-10-20 r88955) -- "Unsuffered Consequences" 4829
lconwaymacOS 12.7.6 Montereyx86_64R Under development (unstable) (2025-10-21 r88958) -- "Unsuffered Consequences" 4605
kjohnson3macOS 13.7.7 Venturaarm64R Under development (unstable) (2025-11-04 r88984) -- "Unsuffered Consequences" 4568
Click on any hostname to see more info about the system (e.g. compilers)      (*) as reported by 'uname -p', except on Windows and Mac OS X

Package 1361/2327HostnameOS / ArchINSTALLBUILDCHECKBUILD BIN
MsBackendRawFileReader 1.17.0  (landing page)
Christian Panse
Snapshot Date: 2025-11-23 13:40 -0500 (Sun, 23 Nov 2025)
git_url: https://git.bioconductor.org/packages/MsBackendRawFileReader
git_branch: devel
git_last_commit: c509d56
git_last_commit_date: 2025-10-29 11:12:57 -0500 (Wed, 29 Oct 2025)
nebbiolo1Linux (Ubuntu 24.04.3 LTS) / x86_64  OK    OK    OK  UNNEEDED, same version is already published
lconwaymacOS 12.7.6 Monterey / x86_64  OK    OK    OK    OK  NO, package depends on 'MsCoreUtils' which is only available as a source package that needs compilation
kjohnson3macOS 13.7.7 Ventura / arm64  OK    OK    OK    OK  NO, package depends on 'MsCoreUtils' which is only available as a source package that needs compilation


CHECK results for MsBackendRawFileReader on nebbiolo1

To the developers/maintainers of the MsBackendRawFileReader package:
- Allow up to 24 hours (and sometimes 48 hours) for your latest push to git@git.bioconductor.org:packages/MsBackendRawFileReader.git to reflect on this report. See Troubleshooting Build Report for more information.
- Use the following Renviron settings to reproduce errors and warnings.
- If 'R CMD check' started to fail recently on the Linux builder(s) over a missing dependency, add the missing dependency to 'Suggests:' in your DESCRIPTION file. See Renviron.bioc for more information.

raw results


Summary

Package: MsBackendRawFileReader
Version: 1.17.0
Command: /home/biocbuild/bbs-3.23-bioc/R/bin/R CMD check --install=check:MsBackendRawFileReader.install-out.txt --library=/home/biocbuild/bbs-3.23-bioc/R/site-library --timings MsBackendRawFileReader_1.17.0.tar.gz
StartedAt: 2025-11-24 01:42:16 -0500 (Mon, 24 Nov 2025)
EndedAt: 2025-11-24 01:46:59 -0500 (Mon, 24 Nov 2025)
EllapsedTime: 282.3 seconds
RetCode: 0
Status:   OK  
CheckDir: MsBackendRawFileReader.Rcheck
Warnings: 0

Command output

##############################################################################
##############################################################################
###
### Running command:
###
###   /home/biocbuild/bbs-3.23-bioc/R/bin/R CMD check --install=check:MsBackendRawFileReader.install-out.txt --library=/home/biocbuild/bbs-3.23-bioc/R/site-library --timings MsBackendRawFileReader_1.17.0.tar.gz
###
##############################################################################
##############################################################################


* using log directory ‘/home/biocbuild/bbs-3.23-bioc/meat/MsBackendRawFileReader.Rcheck’
* using R Under development (unstable) (2025-10-20 r88955)
* using platform: x86_64-pc-linux-gnu
* R was compiled by
    gcc (Ubuntu 13.3.0-6ubuntu2~24.04) 13.3.0
    GNU Fortran (Ubuntu 13.3.0-6ubuntu2~24.04) 13.3.0
* running under: Ubuntu 24.04.3 LTS
* using session charset: UTF-8
* checking for file ‘MsBackendRawFileReader/DESCRIPTION’ ... OK
* checking extension type ... Package
* this is package ‘MsBackendRawFileReader’ version ‘1.17.0’
* package encoding: UTF-8
* checking package namespace information ... OK
* checking package dependencies ... OK
* checking if this is a source package ... OK
* checking if there is a namespace ... OK
* checking for hidden files and directories ... OK
* checking for portable file names ... OK
* checking for sufficient/correct file permissions ... OK
* checking whether package ‘MsBackendRawFileReader’ can be installed ... OK
* checking installed package size ... OK
* checking package directory ... OK
* checking ‘build’ directory ... OK
* checking DESCRIPTION meta-information ... OK
* checking top-level files ... OK
* checking for left-over files ... OK
* checking index information ... OK
* checking package subdirectories ... OK
* checking code files for non-ASCII characters ... OK
* checking R files for syntax errors ... OK
* checking whether the package can be loaded ... OK
* checking whether the package can be loaded with stated dependencies ... OK
* checking whether the package can be unloaded cleanly ... OK
* checking whether the namespace can be loaded with stated dependencies ... OK
* checking whether the namespace can be unloaded cleanly ... OK
* checking loading without being on the library search path ... OK
* checking whether startup messages can be suppressed ... OK
* checking dependencies in R code ... OK
* checking S3 generic/method consistency ... OK
* checking replacement functions ... OK
* checking foreign function calls ... OK
* checking R code for possible problems ... OK
* checking Rd files ... OK
* checking Rd metadata ... OK
* checking Rd cross-references ... OK
* checking for missing documentation entries ... OK
* checking for code/documentation mismatches ... OK
* checking Rd \usage sections ... OK
* checking Rd contents ... OK
* checking for unstated dependencies in examples ... OK
* checking files in ‘vignettes’ ... OK
* checking examples ... OK
Examples with CPU (user + system) or elapsed time > 5s
                         user system elapsed
ioBenchmark            31.992  6.191  11.733
MsBackendRawFileReader  6.517  2.213   9.247
* checking for unstated dependencies in ‘tests’ ... OK
* checking tests ...
  Running ‘testthat.R’
 OK
* checking for unstated dependencies in vignettes ... OK
* checking package vignettes ... OK
* checking re-building of vignette outputs ... OK
* checking PDF version of manual ... OK
* DONE

Status: OK


Installation output

MsBackendRawFileReader.Rcheck/00install.out

##############################################################################
##############################################################################
###
### Running command:
###
###   /home/biocbuild/bbs-3.23-bioc/R/bin/R CMD INSTALL MsBackendRawFileReader
###
##############################################################################
##############################################################################


* installing to library ‘/home/biocbuild/bbs-3.23-bioc/R/site-library’
* installing *source* package ‘MsBackendRawFileReader’ ...
** this is package ‘MsBackendRawFileReader’ version ‘1.17.0’
** using staged installation
** R
** inst
** byte-compile and prepare package for lazy loading
** help
*** installing help indices
** building package indices
** installing vignettes
** testing if installed package can be loaded from temporary location
** testing if installed package can be loaded from final location
** testing if installed package keeps a record of temporary installation path
* DONE (MsBackendRawFileReader)

Tests output

MsBackendRawFileReader.Rcheck/tests/testthat.Rout


R Under development (unstable) (2025-10-20 r88955) -- "Unsuffered Consequences"
Copyright (C) 2025 The R Foundation for Statistical Computing
Platform: x86_64-pc-linux-gnu

R is free software and comes with ABSOLUTELY NO WARRANTY.
You are welcome to redistribute it under certain conditions.
Type 'license()' or 'licence()' for distribution details.

R is a collaborative project with many contributors.
Type 'contributors()' for more information and
'citation()' on how to cite R or R packages in publications.

Type 'demo()' for some demos, 'help()' for on-line help, or
'help.start()' for an HTML browser interface to help.
Type 'q()' to quit R.

> library("testthat")
> library("MsBackendRawFileReader")
Loading required package: Spectra
Loading required package: S4Vectors
Loading required package: stats4
Loading required package: BiocGenerics
Loading required package: generics

Attaching package: 'generics'

The following objects are masked from 'package:base':

    as.difftime, as.factor, as.ordered, intersect, is.element, setdiff,
    setequal, union


Attaching package: 'BiocGenerics'

The following objects are masked from 'package:stats':

    IQR, mad, sd, var, xtabs

The following objects are masked from 'package:base':

    Filter, Find, Map, Position, Reduce, anyDuplicated, aperm, append,
    as.data.frame, basename, cbind, colnames, dirname, do.call,
    duplicated, eval, evalq, get, grep, grepl, is.unsorted, lapply,
    mapply, match, mget, order, paste, pmax, pmax.int, pmin, pmin.int,
    rank, rbind, rownames, sapply, saveRDS, table, tapply, unique,
    unsplit, which.max, which.min


Attaching package: 'S4Vectors'

The following object is masked from 'package:utils':

    findMatches

The following objects are masked from 'package:base':

    I, expand.grid, unname

Loading required package: BiocParallel
> library("Spectra")
> 
> 
> sample_raw_file <- file.path(system.file(package = "rawrr"),
+                                 'extdata', 'sample.raw')
> 
> sample_mzXML_file <- file.path(path.package(package = 'MsBackendRawFileReader'),
+                                 'extdata', 'sample.mzXML')
> 
> 
> sample_raw <-  backendInitialize(MsBackendRawFileReader::MsBackendRawFileReader(), files = sample_raw_file)
> 
> 
> #sample_mzr <-  backendInitialize(MsBackendMzR(), files = sample_mzXML_file)
> 
> 
> mgf_file <- file.path(system.file(package = "MsBackendRawFileReader"),
+                              'extdata', '3159619b11ed_4590_9594.mgf')
> 
> 
> rv <- lapply(1:2, function(x){
+   file.copy(from = sample_raw_file, to = tempfile(fileext='.raw'))})
> 
> 
> register(SnowParam(workers = 1, type = "SOCK") , default = TRUE); 
> sample_raw_2 <- backendInitialize(MsBackendRawFileReader(),
+     files = file.path(tempdir(),
+          list.files(path = tempdir(), pattern = 'raw$')))
> 
> 
> test_check("MsBackendRawFileReader")
[ FAIL 0 | WARN 1 | SKIP 2 | PASS 21 ]

══ Skipped tests (2) ═══════════════════════════════════════════════════════════
• isFALSE(file.exists(sample_mzXML_file)) is TRUE (1):
  'test_MsBackendMzR_MsBackendRawFileReader.R:1:1'
• isFALSE(require(MsBackendRawMgf)) is TRUE (1): 'test_top_n_mgf.R:1:1'

[ FAIL 0 | WARN 1 | SKIP 2 | PASS 21 ]
> 
> 
> be <- Spectra::backendInitialize(MsBackendRawFileReader::MsBackendRawFileReader(),
+                                  files = c(sample_raw_file))
> 
> ## Run the MsBackend spectra variable test suite
> 
> test_suite <- system.file("test_backends", "test_MsBackend",
+                           package = "Spectra")
> 
> #res <- test_file(paste0(test_suite, "/test_spectra_variables.R"),
> #                 reporter = check_reporter(), stop_on_failure = TRUE)
> 
> 
> ## Run the whole suite.
> res <- test_dir(test_suite, stop_on_failure = TRUE)
✔ | F W  S  OK | Context

⠏ |          0 | peaks_variables                                                
⠙ |          2 | peaks_variables                                                
⠸ |          4 | peaks_variables                                                
✔ |          4 | peaks_variables [3.7s]

⠏ |          0 | spectra_subsetting                                             
⠋ |          1 | spectra_subsetting                                             
⠴ |         16 | spectra_subsetting                                             
⠸ |         34 | spectra_subsetting                                             
⠇ |         49 | spectra_subsetting                                             
⠴ |         66 | spectra_subsetting                                             
⠇ |         79 | spectra_subsetting                                             
⠴ |         96 | spectra_subsetting                                             
⠏ |        110 | spectra_subsetting                                             
⠸ |        124 | spectra_subsetting                                             
⠇ |        139 | spectra_subsetting                                             
⠸ |        154 | spectra_subsetting                                             
⠙ |        172 | spectra_subsetting                                             
⠦ |        187 | spectra_subsetting                                             
⠙ |        202 | spectra_subsetting                                             
⠧ |        218 | spectra_subsetting                                             
⠙ |        232 | spectra_subsetting                                             
⠦ |        247 | spectra_subsetting                                             
⠙ |        262 | spectra_subsetting                                             
⠏ |        280 | spectra_subsetting                                             
⠼ |        295 | spectra_subsetting                                             
⠋ |        311 | spectra_subsetting                                             
⠧ |        328 | spectra_subsetting                                             
⠹ |        343 | spectra_subsetting                                             
⠇ |        359 | spectra_subsetting                                             
⠹ |        373 | spectra_subsetting                                             
⠧ |        388 | spectra_subsetting                                             
⠹ |        403 | spectra_subsetting                                             
⠧ |        418 | spectra_subsetting                                             
⠹ |        433 | spectra_subsetting                                             
⠧ |        448 | spectra_subsetting                                             
⠸ |        464 | spectra_subsetting                                             
⠧ |        478 | spectra_subsetting                                             
⠹ |        493 | spectra_subsetting                                             
⠧ |        508 | spectra_subsetting                                             
⠹ |        523 | spectra_subsetting                                             
⠇ |        539 | spectra_subsetting                                             
⠹ |        553 | spectra_subsetting                                             
⠇ |        569 | spectra_subsetting                                             
⠏ |        580 | spectra_subsetting                                             
⠇ |        589 | spectra_subsetting                                             
⠋ |        601 | spectra_subsetting                                             
⠴ |        616 | spectra_subsetting                                             
⠏ |        630 | spectra_subsetting                                             
⠴ |        646 | spectra_subsetting                                             
⠋ |        661 | spectra_subsetting                                             
⠴ |        676 | spectra_subsetting                                             
⠋ |        691 | spectra_subsetting                                             
⠼ |        705 | spectra_subsetting                                             
⠇ |        719 | spectra_subsetting                                             
⠹ |        733 | spectra_subsetting                                             
⠧ |        748 | spectra_subsetting                                             
⠹ |        763 | spectra_subsetting                                             
⠴ |        776 | spectra_subsetting                                             
⠋ |        791 | spectra_subsetting                                             
⠴ |        806 | spectra_subsetting                                             
⠏ |        820 | spectra_subsetting                                             
⠼ |        835 | spectra_subsetting                                             
⠧ |        848 | spectra_subsetting                                             
⠙ |        862 | spectra_subsetting                                             
⠦ |        877 | spectra_subsetting                                             
⠋ |        891 | spectra_subsetting                                             
⠴ |        906 | spectra_subsetting                                             
⠇ |        919 | spectra_subsetting                                             
⠸ |        934 | spectra_subsetting                                             
⠇ |        949 | spectra_subsetting                                             
⠸ |        964 | spectra_subsetting                                             
⠇ |        979 | spectra_subsetting                                             
⠸ |        994 | spectra_subsetting                                             
⠏ |        1010 | spectra_subsetting                                            
⠴ |        1026 | spectra_subsetting                                            
⠇ |        1039 | spectra_subsetting                                            
⠼ |        1055 | spectra_subsetting                                            
⠇ |        1069 | spectra_subsetting                                            
⠸ |        1084 | spectra_subsetting                                            
⠇ |        1099 | spectra_subsetting                                            
⠸ |        1114 | spectra_subsetting                                            
⠋ |        1131 | spectra_subsetting                                            
⠸ |        1144 | spectra_subsetting                                            
⠏ |        1160 | spectra_subsetting                                            
⠸ |        1174 | spectra_subsetting                                            
⠇ |        1189 | spectra_subsetting                                            
⠼ |        1205 | spectra_subsetting                                            
⠇ |        1219 | spectra_subsetting                                            
⠴ |        1236 | spectra_subsetting                                            
⠇ |        1249 | spectra_subsetting                                            
⠸ |        1264 | spectra_subsetting                                            
⠇ |        1279 | spectra_subsetting                                            
⠙ |        1292 | spectra_subsetting                                            
⠦ |        1307 | spectra_subsetting                                            
⠏ |        1320 | spectra_subsetting                                            
⠹ |        1333 | spectra_subsetting                                            
⠋ |        1351 | spectra_subsetting                                            
⠴ |        1366 | spectra_subsetting                                            
⠙ |        1382 | spectra_subsetting                                            
⠴ |        1396 | spectra_subsetting                                            
⠹ |        1413 | spectra_subsetting                                            
⠦ |        1427 | spectra_subsetting                                            
⠋ |        1441 | spectra_subsetting                                            
⠦ |        1457 | spectra_subsetting                                            
⠋ |        1471 | spectra_subsetting                                            
⠧ |        1488 | spectra_subsetting                                            
⠋ |        1501 | spectra_subsetting                                            
⠴ |        1516 | spectra_subsetting                                            
⠙ |        1532 | spectra_subsetting                                            
⠴ |        1546 | spectra_subsetting                                            
⠙ |        1562 | spectra_subsetting                                            
⠴ |        1576 | spectra_subsetting                                            
⠸ |        1594 | spectra_subsetting                                            
⠇ |        1609 | spectra_subsetting                                            
⠼ |        1625 | spectra_subsetting                                            
⠋ |        1641 | spectra_subsetting                                            
⠸ |        1654 | spectra_subsetting                                            
⠏ |        1670 | spectra_subsetting                                            
⠸ |        1684 | spectra_subsetting                                            
⠏ |        1700 | spectra_subsetting                                            
⠴ |        1716 | spectra_subsetting                                            
⠦ |        1727 | spectra_subsetting                                            
⠏ |        1730 | spectra_subsetting                                            
⠹ |        1733 | spectra_subsetting                                            
⠼ |        1735 | spectra_subsetting                                            
⠧ |        1738 | spectra_subsetting                                            
⠋ |        1741 | spectra_subsetting                                            
⠹ |        1743 | spectra_subsetting                                            
⠴ |        1746 | spectra_subsetting                                            
⠧ |        1748 | spectra_subsetting                                            
⠋ |        1751 | spectra_subsetting                                            
⠹ |        1753 | spectra_subsetting                                            
⠴ |        1756 | spectra_subsetting                                            
⠇ |        1759 | spectra_subsetting                                            
⠋ |        1761 | spectra_subsetting                                            
⠸ |        1764 | spectra_subsetting                                            
⠴ |        1766 | spectra_subsetting                                            
⠇ |        1769 | spectra_subsetting                                            
⠋ |        1771 | spectra_subsetting                                            
⠸ |        1774 | spectra_subsetting                                            
⠦ |        1777 | spectra_subsetting                                            
⠇ |        1779 | spectra_subsetting                                            
⠙ |        1782 | spectra_subsetting                                            
⠸ |        1784 | spectra_subsetting                                            
⠦ |        1787 | spectra_subsetting                                            
⠏ |        1790 | spectra_subsetting                                            
⠙ |        1792 | spectra_subsetting                                            
⠼ |        1795 | spectra_subsetting                                            
⠦ |        1797 | spectra_subsetting                                            
⠏ |        1800 | spectra_subsetting                                            
⠙ |        1802 | spectra_subsetting                                            
⠼ |        1805 | spectra_subsetting                                            
⠧ |        1808 | spectra_subsetting                                            
⠏ |        1810 | spectra_subsetting                                            
⠹ |        1813 | spectra_subsetting                                            
⠼ |        1815 | spectra_subsetting                                            
⠧ |        1818 | spectra_subsetting                                            
⠏ |        1820 | spectra_subsetting                                            
⠹ |        1823 | spectra_subsetting                                            
⠴ |        1826 | spectra_subsetting                                            
⠧ |        1828 | spectra_subsetting                                            
⠋ |        1831 | spectra_subsetting                                            
⠹ |        1833 | spectra_subsetting                                            
⠴ |        1836 | spectra_subsetting                                            
⠇ |        1839 | spectra_subsetting                                            
⠋ |        1841 | spectra_subsetting                                            
⠸ |        1844 | spectra_subsetting                                            
⠦ |        1847 | spectra_subsetting                                            
⠏ |        1850 | spectra_subsetting                                            
⠹ |        1853 | spectra_subsetting                                            
⠼ |        1855 | spectra_subsetting                                            
⠧ |        1858 | spectra_subsetting                                            
⠋ |        1861 | spectra_subsetting                                            
⠹ |        1863 | spectra_subsetting                                            
⠴ |        1866 | spectra_subsetting                                            
⠧ |        1868 | spectra_subsetting                                            
⠏ |        1870 | spectra_subsetting                                            
⠙ |        1872 | spectra_subsetting                                            
⠼ |        1875 | spectra_subsetting                                            
⠦ |        1877 | spectra_subsetting                                            
⠇ |        1879 | spectra_subsetting                                            
⠋ |        1881 | spectra_subsetting                                            
⠹ |        1883 | spectra_subsetting                                            
⠼ |        1885 | spectra_subsetting                                            
⠧ |        1888 | spectra_subsetting                                            
⠇ |        1889 | spectra_subsetting                                            
⠙ |        1892 | spectra_subsetting                                            
⠸ |        1894 | spectra_subsetting                                            
⠦ |        1897 | spectra_subsetting                                            
⠏ |        1900 | spectra_subsetting                                            
⠹ |        1903 | spectra_subsetting                                            
⠴ |        1906 | spectra_subsetting                                            
⠇ |        1909 | spectra_subsetting                                            
⠙ |        1912 | spectra_subsetting                                            
⠼ |        1915 | spectra_subsetting                                            
⠧ |        1918 | spectra_subsetting                                            
⠋ |        1921 | spectra_subsetting                                            
⠸ |        1924 | spectra_subsetting                                            
⠦ |        1927 | spectra_subsetting                                            
⠏ |        1930 | spectra_subsetting                                            
⠹ |        1933 | spectra_subsetting                                            
⠴ |        1936 | spectra_subsetting                                            
⠇ |        1939 | spectra_subsetting                                            
⠙ |        1942 | spectra_subsetting                                            
⠼ |        1945 | spectra_subsetting                                            
⠧ |        1948 | spectra_subsetting                                            
⠋ |        1951 | spectra_subsetting                                            
⠸ |        1954 | spectra_subsetting                                            
⠦ |        1957 | spectra_subsetting                                            
⠏ |        1960 | spectra_subsetting                                            
⠹ |        1963 | spectra_subsetting                                            
⠴ |        1966 | spectra_subsetting                                            
⠧ |        1968 | spectra_subsetting                                            
⠏ |        1970 | spectra_subsetting                                            
⠙ |        1972 | spectra_subsetting                                            
⠼ |        1975 | spectra_subsetting                                            
⠧ |        1978 | spectra_subsetting                                            
⠋ |        1981 | spectra_subsetting                                            
⠸ |        1984 | spectra_subsetting                                            
⠦ |        1987 | spectra_subsetting                                            
⠏ |        1990 | spectra_subsetting                                            
⠹ |        1993 | spectra_subsetting                                            
⠴ |        1996 | spectra_subsetting                                            
⠇ |        1999 | spectra_subsetting                                            
⠙ |        2002 | spectra_subsetting                                            
⠼ |        2005 | spectra_subsetting                                            
⠧ |        2008 | spectra_subsetting                                            
⠋ |        2011 | spectra_subsetting                                            
⠸ |        2014 | spectra_subsetting                                            
⠦ |        2017 | spectra_subsetting                                            
⠏ |        2020 | spectra_subsetting                                            
⠹ |        2023 | spectra_subsetting                                            
⠴ |        2026 | spectra_subsetting                                            
⠇ |        2029 | spectra_subsetting                                            
⠙ |        2032 | spectra_subsetting                                            
⠼ |        2035 | spectra_subsetting                                            
⠧ |        2038 | spectra_subsetting                                            
⠋ |        2041 | spectra_subsetting                                            
⠸ |        2044 | spectra_subsetting                                            
⠦ |        2047 | spectra_subsetting                                            
⠏ |        2050 | spectra_subsetting                                            
⠹ |        2053 | spectra_subsetting                                            
⠴ |        2056 | spectra_subsetting                                            
⠇ |        2059 | spectra_subsetting                                            
⠙ |        2062 | spectra_subsetting                                            
⠼ |        2065 | spectra_subsetting                                            
⠧ |        2068 | spectra_subsetting                                            
⠋ |        2071 | spectra_subsetting                                            
⠸ |        2074 | spectra_subsetting                                            
⠦ |        2077 | spectra_subsetting                                            
⠏ |        2080 | spectra_subsetting                                            
⠹ |        2083 | spectra_subsetting                                            
⠴ |        2086 | spectra_subsetting                                            
⠇ |        2089 | spectra_subsetting                                            
⠙ |        2092 | spectra_subsetting                                            
⠼ |        2095 | spectra_subsetting                                            
⠧ |        2098 | spectra_subsetting                                            
⠋ |        2101 | spectra_subsetting                                            
⠸ |        2104 | spectra_subsetting                                            
⠦ |        2107 | spectra_subsetting                                            
⠏ |        2110 | spectra_subsetting                                            
⠹ |        2113 | spectra_subsetting                                            
⠴ |        2116 | spectra_subsetting                                            
⠇ |        2119 | spectra_subsetting                                            
⠙ |        2122 | spectra_subsetting                                            
⠼ |        2125 | spectra_subsetting                                            
⠧ |        2128 | spectra_subsetting                                            
⠋ |        2131 | spectra_subsetting                                            
⠸ |        2134 | spectra_subsetting                                            
⠦ |        2137 | spectra_subsetting                                            
⠏ |        2140 | spectra_subsetting                                            
⠹ |        2143 | spectra_subsetting                                            
⠴ |        2146 | spectra_subsetting                                            
⠇ |        2149 | spectra_subsetting                                            
⠙ |        2152 | spectra_subsetting                                            
⠼ |        2155 | spectra_subsetting                                            
⠧ |        2158 | spectra_subsetting                                            
⠋ |        2161 | spectra_subsetting                                            
⠸ |        2164 | spectra_subsetting                                            
⠦ |        2167 | spectra_subsetting                                            
⠏ |        2170 | spectra_subsetting                                            
⠹ |        2173 | spectra_subsetting                                            
⠼ |        2175 | spectra_subsetting                                            
⠧ |        2178 | spectra_subsetting                                            
⠋ |        2181 | spectra_subsetting                                            
⠸ |        2184 | spectra_subsetting                                            
⠦ |        2187 | spectra_subsetting                                            
⠏ |        2190 | spectra_subsetting                                            
⠹ |        2193 | spectra_subsetting                                            
⠴ |        2196 | spectra_subsetting                                            
⠇ |        2199 | spectra_subsetting                                            
⠙ |        2202 | spectra_subsetting                                            
⠼ |        2205 | spectra_subsetting                                            
⠧ |        2208 | spectra_subsetting                                            
⠋ |        2211 | spectra_subsetting                                            
⠸ |        2214 | spectra_subsetting                                            
⠦ |        2217 | spectra_subsetting                                            
⠏ |        2220 | spectra_subsetting                                            
⠹ |        2223 | spectra_subsetting                                            
⠴ |        2226 | spectra_subsetting                                            
⠇ |        2229 | spectra_subsetting                                            
⠙ |        2232 | spectra_subsetting                                            
⠼ |        2235 | spectra_subsetting                                            
⠧ |        2238 | spectra_subsetting                                            
⠋ |        2241 | spectra_subsetting                                            
⠸ |        2244 | spectra_subsetting                                            
⠦ |        2247 | spectra_subsetting                                            
⠏ |        2250 | spectra_subsetting                                            
⠹ |        2253 | spectra_subsetting                                            
⠴ |        2256 | spectra_subsetting                                            
⠇ |        2259 | spectra_subsetting                                            
⠙ |        2262 | spectra_subsetting                                            
⠼ |        2265 | spectra_subsetting                                            
⠧ |        2268 | spectra_subsetting                                            
⠋ |        2271 | spectra_subsetting                                            
⠸ |        2274 | spectra_subsetting                                            
⠦ |        2277 | spectra_subsetting                                            
⠏ |        2280 | spectra_subsetting                                            
⠹ |        2283 | spectra_subsetting                                            
⠴ |        2286 | spectra_subsetting                                            
⠇ |        2289 | spectra_subsetting                                            
⠙ |        2292 | spectra_subsetting                                            
⠼ |        2295 | spectra_subsetting                                            
⠧ |        2298 | spectra_subsetting                                            
⠙ |        2302 | spectra_subsetting                                            
⠴ |        2306 | spectra_subsetting                                            
⠸ |        2314 | spectra_subsetting                                            
⠙ |        2322 | spectra_subsetting                                            
⠋ |        2331 | spectra_subsetting                                            
⠸ |        2334 | spectra_subsetting                                            
✔ |        2342 | spectra_subsetting [40.7s]

⠏ |          0 | spectra_variables                                              
⠙ |         12 | spectra_variables                                              
⠸ |         14 | spectra_variables                                              
⠴ |         16 | spectra_variables                                              
⠦ |         27 | spectra_variables                                              
⠇ |         29 | spectra_variables                                              
⠋ |         31 | spectra_variables                                              
⠹ |         43 | spectra_variables                                              
⠙ |      1  61 | spectra_variables                                              
✔ |      1  62 | spectra_variables [14.9s]

══ Results ═════════════════════════════════════════════════════════════════════
Duration: 59.4 s

── Skipped tests (1) ───────────────────────────────────────────────────────────
• empty test (1): 'test_spectra_variables.R:262:1'

[ FAIL 0 | WARN 0 | SKIP 1 | PASS 2408 ]
> 
> proc.time()
   user  system elapsed 
 80.500   7.719  91.214 

Example timings

MsBackendRawFileReader.Rcheck/MsBackendRawFileReader-Ex.timings

nameusersystemelapsed
MsBackendRawFileReader-class2.9810.7314.083
MsBackendRawFileReader6.5172.2139.247
hidden_aliases2.0220.6762.858
ioBenchmark31.992 6.19111.733