| Back to Multiple platform build/check report for BioC 3.22: simplified long |
|
This page was generated on 2025-08-15 12:07 -0400 (Fri, 15 Aug 2025).
| Hostname | OS | Arch (*) | R version | Installed pkgs |
|---|---|---|---|---|
| nebbiolo2 | Linux (Ubuntu 24.04.3 LTS) | x86_64 | 4.5.1 (2025-06-13) -- "Great Square Root" | 4818 |
| palomino8 | Windows Server 2022 Datacenter | x64 | 4.5.1 (2025-06-13 ucrt) -- "Great Square Root" | 4554 |
| lconway | macOS 12.7.1 Monterey | x86_64 | 4.5.1 (2025-06-13) -- "Great Square Root" | 4595 |
| kjohnson3 | macOS 13.7.7 Ventura | arm64 | 4.5.1 Patched (2025-06-14 r88325) -- "Great Square Root" | 4537 |
| taishan | Linux (openEuler 24.03 LTS) | aarch64 | 4.5.0 (2025-04-11) -- "How About a Twenty-Six" | 4535 |
| Click on any hostname to see more info about the system (e.g. compilers) (*) as reported by 'uname -p', except on Windows and Mac OS X | ||||
| Package 1273/2317 | Hostname | OS / Arch | INSTALL | BUILD | CHECK | BUILD BIN | ||||||||
| MicrobiotaProcess 1.21.0 (landing page) Shuangbin Xu
| nebbiolo2 | Linux (Ubuntu 24.04.3 LTS) / x86_64 | OK | OK | OK | |||||||||
| palomino8 | Windows Server 2022 Datacenter / x64 | OK | OK | OK | OK | |||||||||
| lconway | macOS 12.7.1 Monterey / x86_64 | OK | OK | OK | OK | |||||||||
| kjohnson3 | macOS 13.7.7 Ventura / arm64 | OK | OK | OK | OK | |||||||||
| taishan | Linux (openEuler 24.03 LTS) / aarch64 | OK | OK | OK | ||||||||||
|
To the developers/maintainers of the MicrobiotaProcess package: - Allow up to 24 hours (and sometimes 48 hours) for your latest push to git@git.bioconductor.org:packages/MicrobiotaProcess.git to reflect on this report. See Troubleshooting Build Report for more information. - Use the following Renviron settings to reproduce errors and warnings. - If 'R CMD check' started to fail recently on the Linux builder(s) over a missing dependency, add the missing dependency to 'Suggests:' in your DESCRIPTION file. See Renviron.bioc for more information. |
| Package: MicrobiotaProcess |
| Version: 1.21.0 |
| Command: F:\biocbuild\bbs-3.22-bioc\R\bin\R.exe CMD check --no-multiarch --install=check:MicrobiotaProcess.install-out.txt --library=F:\biocbuild\bbs-3.22-bioc\R\library --no-vignettes --timings MicrobiotaProcess_1.21.0.tar.gz |
| StartedAt: 2025-08-15 05:10:57 -0400 (Fri, 15 Aug 2025) |
| EndedAt: 2025-08-15 05:17:30 -0400 (Fri, 15 Aug 2025) |
| EllapsedTime: 393.2 seconds |
| RetCode: 0 |
| Status: OK |
| CheckDir: MicrobiotaProcess.Rcheck |
| Warnings: 0 |
##############################################################################
##############################################################################
###
### Running command:
###
### F:\biocbuild\bbs-3.22-bioc\R\bin\R.exe CMD check --no-multiarch --install=check:MicrobiotaProcess.install-out.txt --library=F:\biocbuild\bbs-3.22-bioc\R\library --no-vignettes --timings MicrobiotaProcess_1.21.0.tar.gz
###
##############################################################################
##############################################################################
* using log directory 'F:/biocbuild/bbs-3.22-bioc/meat/MicrobiotaProcess.Rcheck'
* using R version 4.5.1 (2025-06-13 ucrt)
* using platform: x86_64-w64-mingw32
* R was compiled by
gcc.exe (GCC) 14.2.0
GNU Fortran (GCC) 14.2.0
* running under: Windows Server 2022 x64 (build 20348)
* using session charset: UTF-8
* using option '--no-vignettes'
* checking for file 'MicrobiotaProcess/DESCRIPTION' ... OK
* checking extension type ... Package
* this is package 'MicrobiotaProcess' version '1.21.0'
* package encoding: UTF-8
* checking package namespace information ... OK
* checking package dependencies ... INFO
Imports includes 29 non-default packages.
Importing from so many packages makes the package vulnerable to any of
them becoming unavailable. Move as many as possible to Suggests and
use conditionally.
* checking if this is a source package ... OK
* checking if there is a namespace ... OK
* checking for hidden files and directories ... OK
* checking for portable file names ... OK
* checking whether package 'MicrobiotaProcess' can be installed ... OK
* checking installed package size ... INFO
installed size is 5.8Mb
sub-directories of 1Mb or more:
R 2.6Mb
figures 1.9Mb
* checking package directory ... OK
* checking 'build' directory ... OK
* checking DESCRIPTION meta-information ... OK
* checking top-level files ... OK
* checking for left-over files ... OK
* checking index information ... OK
* checking package subdirectories ... OK
* checking code files for non-ASCII characters ... OK
* checking R files for syntax errors ... OK
* checking whether the package can be loaded ... OK
* checking whether the package can be loaded with stated dependencies ... OK
* checking whether the package can be unloaded cleanly ... OK
* checking whether the namespace can be loaded with stated dependencies ... OK
* checking whether the namespace can be unloaded cleanly ... OK
* checking whether startup messages can be suppressed ... OK
* checking dependencies in R code ... OK
* checking S3 generic/method consistency ... OK
* checking replacement functions ... OK
* checking foreign function calls ... OK
* checking R code for possible problems ... OK
* checking Rd files ... OK
* checking Rd metadata ... OK
* checking Rd cross-references ... NOTE
Non-topic package-anchored link(s) in Rd file 'reexports.Rd':
'[magrittr:compound]{%<>%}' '[magrittr:pipe]{%>%}'
'[magrittr:aliases]{extract}'
See section 'Cross-references' in the 'Writing R Extensions' manual.
Found the following Rd file(s) with Rd \link{} targets missing package
anchors:
ggrarecurve.Rd: ggplot2
Please provide package anchors for all Rd \link{} targets not in the
package itself and the base packages.
* checking for missing documentation entries ... OK
* checking for code/documentation mismatches ... OK
* checking Rd \usage sections ... OK
* checking Rd contents ... OK
* checking for unstated dependencies in examples ... OK
* checking contents of 'data' directory ... OK
* checking data for non-ASCII characters ... OK
* checking data for ASCII and uncompressed saves ... OK
* checking files in 'vignettes' ... OK
* checking examples ... OK
Examples with CPU (user + system) or elapsed time > 5s
user system elapsed
mp_cal_abundance-methods 11.09 0.19 11.33
mp_cal_rarecurve-methods 7.44 0.22 7.65
mp_plot_diff_boxplot-methods 6.02 0.16 6.20
mp_diff_analysis-methods 5.81 0.20 6.02
* checking for unstated dependencies in 'tests' ... OK
* checking tests ...
Running 'testthat.R'
OK
* checking for unstated dependencies in vignettes ... OK
* checking package vignettes ... OK
* checking running R code from vignettes ... SKIPPED
* checking re-building of vignette outputs ... SKIPPED
* checking PDF version of manual ... OK
* DONE
Status: 1 NOTE
See
'F:/biocbuild/bbs-3.22-bioc/meat/MicrobiotaProcess.Rcheck/00check.log'
for details.
MicrobiotaProcess.Rcheck/00install.out
############################################################################## ############################################################################## ### ### Running command: ### ### F:\biocbuild\bbs-3.22-bioc\R\bin\R.exe CMD INSTALL MicrobiotaProcess ### ############################################################################## ############################################################################## * installing to library 'F:/biocbuild/bbs-3.22-bioc/R/library' * installing *source* package 'MicrobiotaProcess' ... ** this is package 'MicrobiotaProcess' version '1.21.0' ** using staged installation ** R ** data ** inst ** byte-compile and prepare package for lazy loading in method for 'taxonomy<-' with signature 'x="MPSE",value="taxonomyTable"': no definition for class "taxonomyTable" Creating a generic function for 'rownames<-' from package 'base' in package 'MicrobiotaProcess' in method for 'get_alltaxadf' with signature '"phyloseq"': no definition for class "phyloseq" in method for 'get_taxadf' with signature '"phyloseq"': no definition for class "phyloseq" in method for 'get_alphaindex' with signature '"phyloseq"': no definition for class "phyloseq" in method for 'get_NRI_NTI' with signature '"phyloseq"': no definition for class "phyloseq" in method for 'get_rarecurve' with signature '"phyloseq"': no definition for class "phyloseq" in method for 'get_upset' with signature '"phyloseq"': no definition for class "phyloseq" in method for 'get_vennlist' with signature '"phyloseq"': no definition for class "phyloseq" in method for 'drop_taxa' with signature '"phyloseq"': no definition for class "phyloseq" ** help *** installing help indices ** building package indices ** installing vignettes ** testing if installed package can be loaded from temporary location ** testing if installed package can be loaded from final location ** testing if installed package keeps a record of temporary installation path * DONE (MicrobiotaProcess)
MicrobiotaProcess.Rcheck/tests/testthat.Rout
R version 4.5.1 (2025-06-13 ucrt) -- "Great Square Root"
Copyright (C) 2025 The R Foundation for Statistical Computing
Platform: x86_64-w64-mingw32/x64
R is free software and comes with ABSOLUTELY NO WARRANTY.
You are welcome to redistribute it under certain conditions.
Type 'license()' or 'licence()' for distribution details.
R is a collaborative project with many contributors.
Type 'contributors()' for more information and
'citation()' on how to cite R or R packages in publications.
Type 'demo()' for some demos, 'help()' for on-line help, or
'help.start()' for an HTML browser interface to help.
Type 'q()' to quit R.
> library("testthat")
> library("MicrobiotaProcess")
MicrobiotaProcess v1.21.0 For help:
https://github.com/YuLab-SMU/MicrobiotaProcess/issues
If you use MicrobiotaProcess in published research, please cite the
paper:
Shuangbin Xu, Li Zhan, Wenli Tang, Qianwen Wang, Zehan Dai, Lang Zhou,
Tingze Feng, Meijun Chen, Tianzhi Wu, Erqiang Hu, Guangchuang Yu.
MicrobiotaProcess: A comprehensive R package for deep mining
microbiome. The Innovation. 2023, 4(2):100388. doi:
10.1016/j.xinn.2023.100388
Export the citation to BibTex by citation('MicrobiotaProcess')
This message can be suppressed by:
suppressPackageStartupMessages(library(MicrobiotaProcess))
Attaching package: 'MicrobiotaProcess'
The following object is masked from 'package:stats':
filter
> test_check("MicrobiotaProcess")
[ FAIL 0 | WARN 9 | SKIP 0 | PASS 13 ]
[ FAIL 0 | WARN 9 | SKIP 0 | PASS 13 ]
>
> proc.time()
user system elapsed
15.10 0.75 15.84
MicrobiotaProcess.Rcheck/MicrobiotaProcess-Ex.timings
| name | user | system | elapsed | |
| ImportDada2 | 2.08 | 0.07 | 2.16 | |
| ImportQiime2 | 3.64 | 0.14 | 3.88 | |
| MPSE | 0.13 | 0.00 | 0.13 | |
| as.treedata | 0 | 0 | 0 | |
| build_tree | 0 | 0 | 0 | |
| convert_to_treedata | 0 | 0 | 0 | |
| data-hmp_aerobiosis_small | 0.02 | 0.00 | 0.01 | |
| data-kostic2012crc | 0.05 | 0.00 | 0.05 | |
| data-test_otu_data | 0 | 0 | 0 | |
| diff_analysis | 0 | 0 | 0 | |
| dr_extract | 0 | 0 | 0 | |
| drop_taxa | 0 | 0 | 0 | |
| generalizedFC | 0 | 0 | 0 | |
| get_alltaxadf | 0 | 0 | 0 | |
| get_alphaindex | 0 | 0 | 0 | |
| get_clust | 0 | 0 | 0 | |
| get_coord | 0 | 0 | 0 | |
| get_count | 0 | 0 | 0 | |
| get_dist | 0 | 0 | 0 | |
| get_mean_median | 0 | 0 | 0 | |
| get_pca | 0 | 0 | 0 | |
| get_pcoa | 0 | 0 | 0 | |
| get_pvalue | 0.04 | 0.02 | 0.09 | |
| get_rarecurve | 0 | 0 | 0 | |
| get_sampledflist | 0 | 0 | 0 | |
| get_taxadf | 0 | 0 | 0 | |
| get_upset | 0 | 0 | 0 | |
| get_varct | 0 | 0 | 0 | |
| get_vennlist | 0 | 0 | 0 | |
| ggbartax | 0 | 0 | 0 | |
| ggbox | 0 | 0 | 0 | |
| ggclust | 0 | 0 | 0 | |
| ggdiffbox | 0 | 0 | 0 | |
| ggdiffclade | 0 | 0 | 0 | |
| ggdifftaxbar | 0 | 0 | 0 | |
| ggeffectsize | 0 | 0 | 0 | |
| ggordpoint | 0 | 0 | 0 | |
| ggrarecurve | 0 | 0 | 0 | |
| mp_adonis-methods | 0.11 | 0.01 | 0.12 | |
| mp_aggregate-methods | 0 | 0 | 0 | |
| mp_aggregate_clade-methods | 0 | 0 | 0 | |
| mp_anosim-methods | 1.13 | 0.05 | 1.19 | |
| mp_balance_clade-methods | 0 | 0 | 0 | |
| mp_cal_abundance-methods | 11.09 | 0.19 | 11.33 | |
| mp_cal_alpha-methods | 1.33 | 0.03 | 1.37 | |
| mp_cal_cca-methods | 1.25 | 0.04 | 1.32 | |
| mp_cal_clust-methods | 0.45 | 0.02 | 0.47 | |
| mp_cal_dist-methods | 2.55 | 0.06 | 2.60 | |
| mp_cal_divergence-methods | 0 | 0 | 0 | |
| mp_cal_nmds-methods | 0.31 | 0.02 | 0.33 | |
| mp_cal_pca-methods | 1.80 | 0.01 | 1.82 | |
| mp_cal_pcoa-methods | 0.69 | 0.02 | 0.70 | |
| mp_cal_pd_metric-methods | 0 | 0 | 0 | |
| mp_cal_rarecurve-methods | 7.44 | 0.22 | 7.65 | |
| mp_cal_rda-methods | 1.06 | 0.01 | 1.08 | |
| mp_cal_upset-methods | 1.25 | 0.02 | 1.27 | |
| mp_cal_venn-methods | 0.64 | 0.00 | 0.67 | |
| mp_decostand-methods | 0.47 | 0.03 | 0.50 | |
| mp_diff_analysis-methods | 5.81 | 0.20 | 6.02 | |
| mp_diff_clade-methods | 0 | 0 | 0 | |
| mp_dmn-methods | 0 | 0 | 0 | |
| mp_dmngroup-methods | 0 | 0 | 0 | |
| mp_envfit-methods | 3.03 | 0.08 | 3.11 | |
| mp_filter_taxa-methods | 0.84 | 0.14 | 0.99 | |
| mp_import_metaphlan | 2.78 | 0.06 | 2.84 | |
| mp_mantel-methods | 0.28 | 0.00 | 0.28 | |
| mp_mrpp-methods | 0.28 | 0.02 | 0.30 | |
| mp_plot_abundance-methods | 0 | 0 | 0 | |
| mp_plot_alpha-methods | 0 | 0 | 0 | |
| mp_plot_diff_boxplot-methods | 6.02 | 0.16 | 6.20 | |
| mp_plot_diff_cladogram | 0 | 0 | 0 | |
| mp_plot_diff_manhattan-methods | 3.59 | 0.03 | 3.63 | |
| mp_plot_dist-methods | 0 | 0 | 0 | |
| mp_plot_ord-methods | 0 | 0 | 0 | |
| mp_plot_rarecurve-methods | 0 | 0 | 0 | |
| mp_plot_upset-methods | 0 | 0 | 0 | |
| mp_plot_venn-methods | 0 | 0 | 0 | |
| mp_rrarefy-methods | 0.37 | 0.00 | 0.38 | |
| mp_select_as_tip-methods | 0 | 0 | 0 | |
| mp_stat_taxa-methods | 1.07 | 0.00 | 1.09 | |
| multi_compare | 0.00 | 0.01 | 0.02 | |
| read_qza | 0 | 0 | 0 | |
| show-methods | 0 | 0 | 0 | |
| split_data | 0.00 | 0.02 | 0.01 | |
| split_str_to_list | 0 | 0 | 0 | |
| theme_taxbar | 0 | 0 | 0 | |