Back to Multiple platform build/check report for BioC 3.22:   simplified   long
ABCDEFGHIJKL[M]NOPQRSTUVWXYZ

This page was generated on 2025-10-08 12:51 -0400 (Wed, 08 Oct 2025).

HostnameOSArch (*)R versionInstalled pkgs
nebbiolo2Linux (Ubuntu 24.04.3 LTS)x86_644.5.1 Patched (2025-08-23 r88802) -- "Great Square Root" 4854
lconwaymacOS 12.7.1 Montereyx86_644.5.1 Patched (2025-09-10 r88807) -- "Great Square Root" 4641
kjohnson3macOS 13.7.7 Venturaarm644.5.1 Patched (2025-09-10 r88807) -- "Great Square Root" 4586
taishanLinux (openEuler 24.03 LTS)aarch644.5.0 (2025-04-11) -- "How About a Twenty-Six" 4584
Click on any hostname to see more info about the system (e.g. compilers)      (*) as reported by 'uname -p', except on Windows and Mac OS X

Package 1289/2341HostnameOS / ArchINSTALLBUILDCHECKBUILD BIN
MicrobiotaProcess 1.21.2  (landing page)
Shuangbin Xu
Snapshot Date: 2025-10-07 13:45 -0400 (Tue, 07 Oct 2025)
git_url: https://git.bioconductor.org/packages/MicrobiotaProcess
git_branch: devel
git_last_commit: 0822a21
git_last_commit_date: 2025-09-23 21:22:57 -0400 (Tue, 23 Sep 2025)
nebbiolo2Linux (Ubuntu 24.04.3 LTS) / x86_64  OK    OK    OK  YES
lconwaymacOS 12.7.1 Monterey / x86_64  OK    OK    OK    OK  YES
kjohnson3macOS 13.7.7 Ventura / arm64  OK    OK    OK    OK  YES
taishanLinux (openEuler 24.03 LTS) / aarch64  OK    OK    OK  


CHECK results for MicrobiotaProcess on lconway

To the developers/maintainers of the MicrobiotaProcess package:
- Allow up to 24 hours (and sometimes 48 hours) for your latest push to git@git.bioconductor.org:packages/MicrobiotaProcess.git to reflect on this report. See Troubleshooting Build Report for more information.
- Use the following Renviron settings to reproduce errors and warnings.
- If 'R CMD check' started to fail recently on the Linux builder(s) over a missing dependency, add the missing dependency to 'Suggests:' in your DESCRIPTION file. See Renviron.bioc for more information.

raw results


Summary

Package: MicrobiotaProcess
Version: 1.21.2
Command: /Library/Frameworks/R.framework/Resources/bin/R CMD check --install=check:MicrobiotaProcess.install-out.txt --library=/Library/Frameworks/R.framework/Resources/library --no-vignettes --timings MicrobiotaProcess_1.21.2.tar.gz
StartedAt: 2025-10-07 22:59:11 -0400 (Tue, 07 Oct 2025)
EndedAt: 2025-10-07 23:05:50 -0400 (Tue, 07 Oct 2025)
EllapsedTime: 399.2 seconds
RetCode: 0
Status:   OK  
CheckDir: MicrobiotaProcess.Rcheck
Warnings: 0

Command output

##############################################################################
##############################################################################
###
### Running command:
###
###   /Library/Frameworks/R.framework/Resources/bin/R CMD check --install=check:MicrobiotaProcess.install-out.txt --library=/Library/Frameworks/R.framework/Resources/library --no-vignettes --timings MicrobiotaProcess_1.21.2.tar.gz
###
##############################################################################
##############################################################################


* using log directory ‘/Users/biocbuild/bbs-3.22-bioc/meat/MicrobiotaProcess.Rcheck’
* using R version 4.5.1 Patched (2025-09-10 r88807)
* using platform: x86_64-apple-darwin20
* R was compiled by
    Apple clang version 14.0.0 (clang-1400.0.29.202)
    GNU Fortran (GCC) 14.2.0
* running under: macOS Monterey 12.7.6
* using session charset: UTF-8
* using option ‘--no-vignettes’
* checking for file ‘MicrobiotaProcess/DESCRIPTION’ ... OK
* checking extension type ... Package
* this is package ‘MicrobiotaProcess’ version ‘1.21.2’
* package encoding: UTF-8
* checking package namespace information ... OK
* checking package dependencies ... INFO
Imports includes 29 non-default packages.
Importing from so many packages makes the package vulnerable to any of
them becoming unavailable.  Move as many as possible to Suggests and
use conditionally.
* checking if this is a source package ... OK
* checking if there is a namespace ... OK
* checking for hidden files and directories ... OK
* checking for portable file names ... OK
* checking for sufficient/correct file permissions ... OK
* checking whether package ‘MicrobiotaProcess’ can be installed ... OK
* checking installed package size ... INFO
  installed size is  5.8Mb
  sub-directories of 1Mb or more:
    R         2.6Mb
    figures   1.9Mb
* checking package directory ... OK
* checking ‘build’ directory ... OK
* checking DESCRIPTION meta-information ... OK
* checking top-level files ... OK
* checking for left-over files ... OK
* checking index information ... OK
* checking package subdirectories ... OK
* checking code files for non-ASCII characters ... OK
* checking R files for syntax errors ... OK
* checking whether the package can be loaded ... OK
* checking whether the package can be loaded with stated dependencies ... OK
* checking whether the package can be unloaded cleanly ... OK
* checking whether the namespace can be loaded with stated dependencies ... OK
* checking whether the namespace can be unloaded cleanly ... OK
* checking whether startup messages can be suppressed ... OK
* checking dependencies in R code ... OK
* checking S3 generic/method consistency ... OK
* checking replacement functions ... OK
* checking foreign function calls ... OK
* checking R code for possible problems ... OK
* checking Rd files ... OK
* checking Rd metadata ... OK
* checking Rd cross-references ... NOTE
Non-topic package-anchored link(s) in Rd file 'reexports.Rd':
  ‘[magrittr:compound]{%<>%}’ ‘[magrittr:pipe]{%>%}’
  ‘[magrittr:aliases]{extract}’

See section 'Cross-references' in the 'Writing R Extensions' manual.

Found the following Rd file(s) with Rd \link{} targets missing package
anchors:
  ggrarecurve.Rd: ggplot2
Please provide package anchors for all Rd \link{} targets not in the
package itself and the base packages.
* checking for missing documentation entries ... OK
* checking for code/documentation mismatches ... OK
* checking Rd \usage sections ... OK
* checking Rd contents ... OK
* checking for unstated dependencies in examples ... OK
* checking contents of ‘data’ directory ... OK
* checking data for non-ASCII characters ... OK
* checking data for ASCII and uncompressed saves ... OK
* checking files in ‘vignettes’ ... OK
* checking examples ... OK
Examples with CPU (user + system) or elapsed time > 5s
                               user system elapsed
mp_cal_abundance-methods     12.392  0.170  12.666
mp_plot_diff_boxplot-methods  6.888  0.051   6.987
mp_cal_rarecurve-methods      6.765  0.090   6.912
mp_diff_analysis-methods      5.693  0.079   5.808
* checking for unstated dependencies in ‘tests’ ... OK
* checking tests ...
  Running ‘testthat.R’
 OK
* checking for unstated dependencies in vignettes ... OK
* checking package vignettes ... OK
* checking running R code from vignettes ... SKIPPED
* checking re-building of vignette outputs ... SKIPPED
* checking PDF version of manual ... OK
* DONE

Status: 1 NOTE
See
  ‘/Users/biocbuild/bbs-3.22-bioc/meat/MicrobiotaProcess.Rcheck/00check.log’
for details.


Installation output

MicrobiotaProcess.Rcheck/00install.out

##############################################################################
##############################################################################
###
### Running command:
###
###   /Library/Frameworks/R.framework/Resources/bin/R CMD INSTALL MicrobiotaProcess
###
##############################################################################
##############################################################################


* installing to library ‘/Library/Frameworks/R.framework/Versions/4.5-x86_64/Resources/library’
* installing *source* package ‘MicrobiotaProcess’ ...
** this is package ‘MicrobiotaProcess’ version ‘1.21.2’
** using staged installation
** R
** data
** inst
** byte-compile and prepare package for lazy loading
in method for ‘taxonomy<-’ with signature ‘x="MPSE",value="taxonomyTable"’: no definition for class “taxonomyTable”
Creating a generic function for ‘rownames<-’ from package ‘base’ in package ‘MicrobiotaProcess’
in method for ‘get_alltaxadf’ with signature ‘"phyloseq"’: no definition for class “phyloseq”
in method for ‘get_taxadf’ with signature ‘"phyloseq"’: no definition for class “phyloseq”
in method for ‘get_alphaindex’ with signature ‘"phyloseq"’: no definition for class “phyloseq”
in method for ‘get_NRI_NTI’ with signature ‘"phyloseq"’: no definition for class “phyloseq”
in method for ‘get_rarecurve’ with signature ‘"phyloseq"’: no definition for class “phyloseq”
in method for ‘get_upset’ with signature ‘"phyloseq"’: no definition for class “phyloseq”
in method for ‘get_vennlist’ with signature ‘"phyloseq"’: no definition for class “phyloseq”
in method for ‘drop_taxa’ with signature ‘"phyloseq"’: no definition for class “phyloseq”
** help
*** installing help indices
** building package indices
** installing vignettes
** testing if installed package can be loaded from temporary location
** testing if installed package can be loaded from final location
** testing if installed package keeps a record of temporary installation path
* DONE (MicrobiotaProcess)

Tests output

MicrobiotaProcess.Rcheck/tests/testthat.Rout


R version 4.5.1 Patched (2025-09-10 r88807) -- "Great Square Root"
Copyright (C) 2025 The R Foundation for Statistical Computing
Platform: x86_64-apple-darwin20

R is free software and comes with ABSOLUTELY NO WARRANTY.
You are welcome to redistribute it under certain conditions.
Type 'license()' or 'licence()' for distribution details.

R is a collaborative project with many contributors.
Type 'contributors()' for more information and
'citation()' on how to cite R or R packages in publications.

Type 'demo()' for some demos, 'help()' for on-line help, or
'help.start()' for an HTML browser interface to help.
Type 'q()' to quit R.

> library("testthat")
> library("MicrobiotaProcess")
MicrobiotaProcess v1.21.2 For help:
https://github.com/YuLab-SMU/MicrobiotaProcess/issues

If you use MicrobiotaProcess in published research, please cite the
paper:

Shuangbin Xu, Li Zhan, Wenli Tang, Qianwen Wang, Zehan Dai, Lang Zhou,
Tingze Feng, Meijun Chen, Tianzhi Wu, Erqiang Hu, Guangchuang Yu.
MicrobiotaProcess: A comprehensive R package for deep mining
microbiome. The Innovation. 2023, 4(2):100388. doi:
10.1016/j.xinn.2023.100388

Export the citation to BibTex by citation('MicrobiotaProcess')

This message can be suppressed by:
suppressPackageStartupMessages(library(MicrobiotaProcess))

Attaching package: 'MicrobiotaProcess'

The following object is masked from 'package:stats':

    filter

> test_check("MicrobiotaProcess")
[ FAIL 0 | WARN 9 | SKIP 0 | PASS 13 ]

[ FAIL 0 | WARN 9 | SKIP 0 | PASS 13 ]
> 
> proc.time()
   user  system elapsed 
 15.183   0.847  16.202 

Example timings

MicrobiotaProcess.Rcheck/MicrobiotaProcess-Ex.timings

nameusersystemelapsed
ImportDada22.1540.0872.269
ImportQiime23.4720.1073.616
MPSE0.1060.0010.107
as.treedata0.0000.0000.001
build_tree0.0000.0000.001
convert_to_treedata0.0000.0010.000
data-hmp_aerobiosis_small0.0100.0020.012
data-kostic2012crc0.0540.0050.059
data-test_otu_data0.0020.0010.003
diff_analysis0.0000.0010.001
dr_extract0.0000.0000.001
drop_taxa0.0000.0010.001
generalizedFC0.0060.0010.007
get_alltaxadf000
get_alphaindex000
get_clust000
get_coord0.0000.0000.001
get_count0.0000.0010.000
get_dist000
get_mean_median0.0000.0010.000
get_pca0.0000.0000.001
get_pcoa0.0000.0000.001
get_pvalue0.0640.0030.068
get_rarecurve0.0000.0000.001
get_sampledflist0.0000.0010.000
get_taxadf0.0010.0000.000
get_upset000
get_varct000
get_vennlist0.0000.0010.001
ggbartax000
ggbox0.0000.0000.001
ggclust0.0000.0000.001
ggdiffbox0.0000.0000.001
ggdiffclade0.0000.0010.001
ggdifftaxbar0.0000.0010.001
ggeffectsize000
ggordpoint000
ggrarecurve0.0000.0010.000
mp_adonis-methods0.1090.0020.112
mp_aggregate-methods000
mp_aggregate_clade-methods0.0000.0010.000
mp_anosim-methods1.3980.0341.457
mp_balance_clade-methods0.0000.0000.001
mp_cal_abundance-methods12.392 0.17012.666
mp_cal_alpha-methods1.5120.0241.545
mp_cal_cca-methods1.1950.0231.227
mp_cal_clust-methods0.6830.0070.693
mp_cal_dist-methods3.4970.0253.552
mp_cal_divergence-methods000
mp_cal_nmds-methods0.3990.0170.420
mp_cal_pca-methods2.3420.0222.386
mp_cal_pcoa-methods0.7760.0080.797
mp_cal_pd_metric-methods0.0000.0000.001
mp_cal_rarecurve-methods6.7650.0906.912
mp_cal_rda-methods0.8420.0080.854
mp_cal_upset-methods1.4360.0181.468
mp_cal_venn-methods0.5920.0140.613
mp_decostand-methods0.3460.0020.348
mp_diff_analysis-methods5.6930.0795.808
mp_diff_clade-methods0.0000.0000.001
mp_dmn-methods000
mp_dmngroup-methods000
mp_envfit-methods2.2420.0592.326
mp_filter_taxa-methods1.0500.0101.069
mp_import_metaphlan3.1980.0263.257
mp_mantel-methods0.2750.0070.284
mp_mrpp-methods0.1960.0040.202
mp_plot_abundance-methods0.0000.0000.001
mp_plot_alpha-methods0.0000.0010.000
mp_plot_diff_boxplot-methods6.8880.0516.987
mp_plot_diff_cladogram000
mp_plot_diff_manhattan-methods3.2710.0243.317
mp_plot_dist-methods000
mp_plot_ord-methods0.0000.0010.001
mp_plot_rarecurve-methods0.0010.0010.000
mp_plot_upset-methods0.0000.0000.001
mp_plot_venn-methods000
mp_rrarefy-methods0.4330.0040.442
mp_select_as_tip-methods0.0000.0000.001
mp_stat_taxa-methods1.0040.0121.023
multi_compare0.0080.0000.009
read_qza0.0010.0000.000
show-methods000
split_data0.0020.0020.005
split_str_to_list0.0000.0010.001
theme_taxbar000