Back to Multiple platform build/check report for BioC 3.22:   simplified   long
ABCDEFGHIJKL[M]NOPQRSTUVWXYZ

This page was generated on 2025-10-30 12:34 -0400 (Thu, 30 Oct 2025).

HostnameOSArch (*)R versionInstalled pkgs
nebbiolo2Linux (Ubuntu 24.04.3 LTS)x86_644.5.1 Patched (2025-08-23 r88802) -- "Great Square Root" 4901
lconwaymacOS 12.7.6 Montereyx86_644.5.1 Patched (2025-09-10 r88807) -- "Great Square Root" 4691
kjohnson3macOS 13.7.7 Venturaarm644.5.1 Patched (2025-09-10 r88807) -- "Great Square Root" 4637
Click on any hostname to see more info about the system (e.g. compilers)      (*) as reported by 'uname -p', except on Windows and Mac OS X

All results for package MatrixGenerics


To the developers/maintainers of the MatrixGenerics package:
- Allow up to 24 hours (and sometimes 48 hours) for your latest push to git@git.bioconductor.org:packages/MatrixGenerics.git to reflect on this report. See Troubleshooting Build Report for more information.
- Use the following Renviron settings to reproduce errors and warnings.
- If 'R CMD check' started to fail recently on the Linux builder(s) over a missing dependency, add the missing dependency to 'Suggests:' in your DESCRIPTION file. See Renviron.bioc for more information.

raw results

Package 1203/2361HostnameOS / ArchINSTALLBUILDCHECKBUILD BIN
MatrixGenerics 1.22.0  (landing page)
Peter Hickey
Snapshot Date: 2025-10-29 19:52 -0400 (Wed, 29 Oct 2025)
git_url: https://git.bioconductor.org/packages/MatrixGenerics
git_branch: RELEASE_3_22
git_last_commit: 75d9a54
git_last_commit_date: 2025-10-29 10:58:10 -0400 (Wed, 29 Oct 2025)
nebbiolo2Linux (Ubuntu 24.04.3 LTS) / x86_64  OK    OK    OK  UNNEEDED, same version is already published
lconwaymacOS 12.7.6 Monterey / x86_64  OK    OK    OK    OK  UNNEEDED, same version is already published
kjohnson3macOS 13.7.7 Ventura / arm64  OK    OK    OK    OK  UNNEEDED, same version is already published



Results for Bioconductor software packages that depend directly on package MatrixGenerics

QUICK STATSOS / ArchINSTALLBUILDCHECKBUILD BIN
nebbiolo2Linux (Ubuntu 24.04.3 LTS) / x86_64
0057
0156
041240
lconwaymacOS 12.7.6 Monterey / x86_64
0057
0354
131238
0054
kjohnson3macOS 13.7.7 Ventura / arm64
0057
1254
051237
0054
Package 1/57HostnameOS / ArchINSTALLBUILDCHECKBUILD BIN
atena 1.16.0  (landing page)
Robert Castelo
git_last_commit: 93211ad
git_last_commit_date: 2025-10-29 11:12:14 -0400
nebbiolo2Linux (Ubuntu 24.04.3 LTS) / x86_64  OK    OK    OK  UNNEEDED, same version is already published
lconwaymacOS 12.7.6 Monterey / x86_64  OK    OK    OK    OK  UNNEEDED, same version is already published
kjohnson3macOS 13.7.7 Ventura / arm64  OK    OK    OK    OK  UNNEEDED, same version is already published
Package 2/57HostnameOS / ArchINSTALLBUILDCHECKBUILD BIN
Banksy 1.6.0  (landing page)
Joseph Lee
git_last_commit: 6847ab5
git_last_commit_date: 2025-10-29 11:27:15 -0400
nebbiolo2Linux (Ubuntu 24.04.3 LTS) / x86_64  OK    OK    OK  UNNEEDED, same version is already published
lconwaymacOS 12.7.6 Monterey / x86_64  OK    OK    OK    OK  UNNEEDED, same version is already published
kjohnson3macOS 13.7.7 Ventura / arm64  OK    OK    OK    OK  UNNEEDED, same version is already published
Package 3/57HostnameOS / ArchINSTALLBUILDCHECKBUILD BIN
blase 1.0.0  (landing page)
Andrew McCluskey
git_last_commit: 874f31b
git_last_commit_date: 2025-10-29 11:38:12 -0400
nebbiolo2Linux (Ubuntu 24.04.3 LTS) / x86_64  OK    OK    OK  UNNEEDED, same version is already published
lconwaymacOS 12.7.6 Monterey / x86_64  OK    OK    OK    OK  UNNEEDED, same version is already published
kjohnson3macOS 13.7.7 Ventura / arm64  OK    OK    OK    OK  UNNEEDED, same version is already published
Package 4/57HostnameOS / ArchINSTALLBUILDCHECKBUILD BIN
CoreGx 2.14.0  (landing page)
Benjamin Haibe-Kains
git_last_commit: d18e3bb
git_last_commit_date: 2025-10-29 10:59:21 -0400
nebbiolo2Linux (Ubuntu 24.04.3 LTS) / x86_64  OK    OK    OK  UNNEEDED, same version is already published
lconwaymacOS 12.7.6 Monterey / x86_64  OK    OK    OK    OK  UNNEEDED, same version is already published
kjohnson3macOS 13.7.7 Ventura / arm64  OK    OK    OK    OK  UNNEEDED, same version is already published
Package 5/57HostnameOS / ArchINSTALLBUILDCHECKBUILD BIN
crisprDesign 1.12.0  (landing page)
Jean-Philippe Fortin
git_last_commit: 143c0ce
git_last_commit_date: 2025-10-29 11:17:54 -0400
nebbiolo2Linux (Ubuntu 24.04.3 LTS) / x86_64  OK    OK    OK  UNNEEDED, same version is already published
lconwaymacOS 12.7.6 Monterey / x86_64  OK    OK    OK    OK  UNNEEDED, same version is already published
kjohnson3macOS 13.7.7 Ventura / arm64  OK    OK    OK    OK  UNNEEDED, same version is already published
Package 6/57HostnameOS / ArchINSTALLBUILDCHECKBUILD BIN
CTexploreR 1.6.0  (landing page)
Axelle Loriot
git_last_commit: c66423d
git_last_commit_date: 2025-10-29 11:26:51 -0400
nebbiolo2Linux (Ubuntu 24.04.3 LTS) / x86_64  OK    OK    OK  UNNEEDED, same version is already published
lconwaymacOS 12.7.6 Monterey / x86_64  OK    OK    OK    OK  UNNEEDED, same version is already published
kjohnson3macOS 13.7.7 Ventura / arm64  OK    OK    OK    OK  UNNEEDED, same version is already published
Package 7/57HostnameOS / ArchINSTALLBUILDCHECKBUILD BIN
DeconvoBuddies 1.2.0  (landing page)
Louise Huuki-Myers
git_last_commit: 1c038d1
git_last_commit_date: 2025-10-29 11:35:32 -0400
nebbiolo2Linux (Ubuntu 24.04.3 LTS) / x86_64  OK    OK    OK  UNNEEDED, same version is already published
lconwaymacOS 12.7.6 Monterey / x86_64  OK    OK    OK    OK  UNNEEDED, same version is already published
kjohnson3macOS 13.7.7 Ventura / arm64  OK    OK    OK    OK  UNNEEDED, same version is already published
Package 8/57HostnameOS / ArchINSTALLBUILDCHECKBUILD BIN
DelayedArray 0.36.0  (landing page)
Hervé Pagès
git_last_commit: adde054
git_last_commit_date: 2025-10-29 14:02:35 -0400
nebbiolo2Linux (Ubuntu 24.04.3 LTS) / x86_64  OK    OK    WARNINGS  UNNEEDED, same version is already published
lconwaymacOS 12.7.6 Monterey / x86_64  OK    OK    WARNINGS    OK  UNNEEDED, same version is already published
kjohnson3macOS 13.7.7 Ventura / arm64  OK    OK    WARNINGS    OK  UNNEEDED, same version is already published
Package 9/57HostnameOS / ArchINSTALLBUILDCHECKBUILD BIN
DelayedMatrixStats 1.32.0  (landing page)
Peter Hickey
git_last_commit: cbf7d75
git_last_commit_date: 2025-10-29 10:41:36 -0400
nebbiolo2Linux (Ubuntu 24.04.3 LTS) / x86_64  OK    OK    OK  UNNEEDED, same version is already published
lconwaymacOS 12.7.6 Monterey / x86_64  OK    OK    OK    OK  UNNEEDED, same version is already published
kjohnson3macOS 13.7.7 Ventura / arm64  OK    OK    OK    OK  UNNEEDED, same version is already published
Package 10/57HostnameOS / ArchINSTALLBUILDCHECKBUILD BIN
demuxSNP 1.8.0  (landing page)
Michael Lynch
git_last_commit: 0c933a4
git_last_commit_date: 2025-10-29 11:23:27 -0400
nebbiolo2Linux (Ubuntu 24.04.3 LTS) / x86_64  OK    OK    OK  UNNEEDED, same version is already published
lconwaymacOS 12.7.6 Monterey / x86_64  OK    OK    OK    OK  UNNEEDED, same version is already published
kjohnson3macOS 13.7.7 Ventura / arm64  OK    OK    OK    OK  UNNEEDED, same version is already published
Package 11/57HostnameOS / ArchINSTALLBUILDCHECKBUILD BIN
DESeq2 1.50.0  (landing page)
Michael Love
git_last_commit: adf0634
git_last_commit_date: 2025-10-29 10:13:48 -0400
nebbiolo2Linux (Ubuntu 24.04.3 LTS) / x86_64  OK    OK    OK  UNNEEDED, same version is already published
lconwaymacOS 12.7.6 Monterey / x86_64  OK    OK    OK    OK  UNNEEDED, same version is already published
kjohnson3macOS 13.7.7 Ventura / arm64  OK    OK    OK    OK  UNNEEDED, same version is already published
Package 12/57HostnameOS / ArchINSTALLBUILDCHECKBUILD BIN
dreamlet 1.8.0  (landing page)
Gabriel Hoffman
git_last_commit: 1eb467d
git_last_commit_date: 2025-10-29 11:25:03 -0400
nebbiolo2Linux (Ubuntu 24.04.3 LTS) / x86_64  OK    OK    OK  UNNEEDED, same version is already published
lconwaymacOS 12.7.6 Monterey / x86_64  OK    OK    OK    OK  UNNEEDED, same version is already published
kjohnson3macOS 13.7.7 Ventura / arm64  OK    OK    OK    OK  UNNEEDED, same version is already published
Package 13/57HostnameOS / ArchINSTALLBUILDCHECKBUILD BIN
escape 2.6.0  (landing page)
Nick Borcherding
git_last_commit: 84570aa
git_last_commit_date: 2025-10-29 11:00:52 -0400
nebbiolo2Linux (Ubuntu 24.04.3 LTS) / x86_64  OK    OK    ERROR  
lconwaymacOS 12.7.6 Monterey / x86_64  OK    OK    ERROR    OK  
kjohnson3macOS 13.7.7 Ventura / arm64  OK    OK    ERROR    OK  
Package 14/57HostnameOS / ArchINSTALLBUILDCHECKBUILD BIN
FLAMES 2.4.0  (landing page)
Changqing Wang
git_last_commit: 3a128b2
git_last_commit_date: 2025-10-29 11:10:46 -0400
nebbiolo2Linux (Ubuntu 24.04.3 LTS) / x86_64  OK    OK    OK  UNNEEDED, same version is already published
lconwaymacOS 12.7.6 Monterey / x86_64  OK    OK    OK    OK  UNNEEDED, same version is already published
kjohnson3macOS 13.7.7 Ventura / arm64  OK    OK    OK    OK  UNNEEDED, same version is already published
Package 15/57HostnameOS / ArchINSTALLBUILDCHECKBUILD BIN
genefilter 1.92.0  (landing page)
Bioconductor Package Maintainer
git_last_commit: b24c1ba
git_last_commit_date: 2025-10-29 09:41:48 -0400
nebbiolo2Linux (Ubuntu 24.04.3 LTS) / x86_64  OK    OK    WARNINGS  UNNEEDED, same version is already published
lconwaymacOS 12.7.6 Monterey / x86_64  OK    OK    WARNINGS    OK  UNNEEDED, same version is already published
kjohnson3macOS 13.7.7 Ventura / arm64  OK    OK    WARNINGS    OK  UNNEEDED, same version is already published
Package 16/57HostnameOS / ArchINSTALLBUILDCHECKBUILD BIN
GenomicFiles 1.46.0  (landing page)
Bioconductor Package Maintainer
git_last_commit: a7f3143
git_last_commit_date: 2025-10-29 10:19:18 -0400
nebbiolo2Linux (Ubuntu 24.04.3 LTS) / x86_64  OK    OK    OK  UNNEEDED, same version is already published
lconwaymacOS 12.7.6 Monterey / x86_64  OK    OK    OK    OK  UNNEEDED, same version is already published
kjohnson3macOS 13.7.7 Ventura / arm64  OK    OK    OK    OK  UNNEEDED, same version is already published
Package 17/57HostnameOS / ArchINSTALLBUILDCHECKBUILD BIN
glmGamPoi 1.22.0  (landing page)
Constantin Ahlmann-Eltze
git_last_commit: 908cde9
git_last_commit_date: 2025-10-29 10:58:15 -0400
nebbiolo2Linux (Ubuntu 24.04.3 LTS) / x86_64  OK    OK    WARNINGS  UNNEEDED, same version is already published
lconwaymacOS 12.7.6 Monterey / x86_64  OK    OK    WARNINGS    OK  UNNEEDED, same version is already published
kjohnson3macOS 13.7.7 Ventura / arm64  OK    OK    WARNINGS    OK  UNNEEDED, same version is already published
Package 18/57HostnameOS / ArchINSTALLBUILDCHECKBUILD BIN
GSVA 2.4.0  (landing page)
Robert Castelo
git_last_commit: ab6d8f1
git_last_commit_date: 2025-10-29 10:07:40 -0400
nebbiolo2Linux (Ubuntu 24.04.3 LTS) / x86_64  OK    OK    OK  UNNEEDED, same version is already published
lconwaymacOS 12.7.6 Monterey / x86_64  OK    OK    OK    OK  UNNEEDED, same version is already published
kjohnson3macOS 13.7.7 Ventura / arm64  OK    OK    OK    OK  UNNEEDED, same version is already published
Package 19/57HostnameOS / ArchINSTALLBUILDCHECKBUILD BIN
imcRtools 1.16.0  (landing page)
Daniel Schulz
git_last_commit: 13fa3df
git_last_commit_date: 2025-10-29 11:12:28 -0400
nebbiolo2Linux (Ubuntu 24.04.3 LTS) / x86_64  OK    OK    OK  UNNEEDED, same version is already published
lconwaymacOS 12.7.6 Monterey / x86_64  OK    OK    OK    OK  UNNEEDED, same version is already published
kjohnson3macOS 13.7.7 Ventura / arm64  OK    OK    OK    OK  UNNEEDED, same version is already published
Package 20/57HostnameOS / ArchINSTALLBUILDCHECKBUILD BIN
lemur 1.8.0  (landing page)
Constantin Ahlmann-Eltze
git_last_commit: c361bc9
git_last_commit_date: 2025-10-29 11:26:19 -0400
nebbiolo2Linux (Ubuntu 24.04.3 LTS) / x86_64  OK    OK    WARNINGS  UNNEEDED, same version is already published
lconwaymacOS 12.7.6 Monterey / x86_64  OK    OK    WARNINGS    OK  UNNEEDED, same version is already published
kjohnson3macOS 13.7.7 Ventura / arm64  OK    OK    WARNINGS    OK  UNNEEDED, same version is already published
Package 21/57HostnameOS / ArchINSTALLBUILDCHECKBUILD BIN
lineagespot 1.14.0  (landing page)
Nikolaos Pechlivanis
git_last_commit: c41b331
git_last_commit_date: 2025-10-29 11:14:52 -0400
nebbiolo2Linux (Ubuntu 24.04.3 LTS) / x86_64  OK    OK    OK  UNNEEDED, same version is already published
lconwaymacOS 12.7.6 Monterey / x86_64  OK    OK    OK    OK  UNNEEDED, same version is already published
kjohnson3macOS 13.7.7 Ventura / arm64  OK    OK    OK    OK  UNNEEDED, same version is already published
Package 22/57HostnameOS / ArchINSTALLBUILDCHECKBUILD BIN
methodical 1.6.0  (landing page)
Richard Heery
git_last_commit: ebf4ab4
git_last_commit_date: 2025-10-29 11:27:18 -0400
nebbiolo2Linux (Ubuntu 24.04.3 LTS) / x86_64  OK    OK    WARNINGS  UNNEEDED, same version is already published
lconwaymacOS 12.7.6 Monterey / x86_64  OK    OK    WARNINGS    OK  UNNEEDED, same version is already published
kjohnson3macOS 13.7.7 Ventura / arm64  OK    OK    WARNINGS    OK  UNNEEDED, same version is already published
Package 23/57HostnameOS / ArchINSTALLBUILDCHECKBUILD BIN
mia 1.18.0  (landing page)
Tuomas Borman
git_last_commit: ad28035
git_last_commit_date: 2025-10-29 11:07:20 -0400
nebbiolo2Linux (Ubuntu 24.04.3 LTS) / x86_64  OK    OK    OK  UNNEEDED, same version is already published
lconwaymacOS 12.7.6 Monterey / x86_64  OK    OK    TIMEOUT    OK  
kjohnson3macOS 13.7.7 Ventura / arm64  OK    OK    ERROR    OK  
Package 24/57HostnameOS / ArchINSTALLBUILDCHECKBUILD BIN
miaSim 1.16.0  (landing page)
Yagmur Simsek
git_last_commit: 7f36b16
git_last_commit_date: 2025-10-29 11:13:14 -0400
nebbiolo2Linux (Ubuntu 24.04.3 LTS) / x86_64  OK    OK    OK  UNNEEDED, same version is already published
lconwaymacOS 12.7.6 Monterey / x86_64  OK    OK    OK    OK  UNNEEDED, same version is already published
kjohnson3macOS 13.7.7 Ventura / arm64  OK    OK    OK    OK  UNNEEDED, same version is already published
Package 25/57HostnameOS / ArchINSTALLBUILDCHECKBUILD BIN
miloR 2.6.0  (landing page)
Mike Morgan
git_last_commit: 374663b
git_last_commit_date: 2025-10-29 11:08:58 -0400
nebbiolo2Linux (Ubuntu 24.04.3 LTS) / x86_64  OK    OK    OK  UNNEEDED, same version is already published
lconwaymacOS 12.7.6 Monterey / x86_64  OK    OK    OK    OK  UNNEEDED, same version is already published
kjohnson3macOS 13.7.7 Ventura / arm64  OK    OK    OK    OK  UNNEEDED, same version is already published
Package 26/57HostnameOS / ArchINSTALLBUILDCHECKBUILD BIN
MinimumDistance 1.54.0  (landing page)
Robert Scharpf
git_last_commit: ac79af7
git_last_commit_date: 2025-10-29 10:10:57 -0400
nebbiolo2Linux (Ubuntu 24.04.3 LTS) / x86_64  OK    OK    WARNINGS  UNNEEDED, same version is already published
lconwaymacOS 12.7.6 Monterey / x86_64  OK    OK    WARNINGS    OK  UNNEEDED, same version is already published
kjohnson3macOS 13.7.7 Ventura / arm64  OK    OK    WARNINGS    OK  UNNEEDED, same version is already published
Package 27/57HostnameOS / ArchINSTALLBUILDCHECKBUILD BIN
MultiAssayExperiment 1.36.0  (landing page)
Marcel Ramos
git_last_commit: 1b8ac6c
git_last_commit_date: 2025-10-29 10:31:09 -0400
nebbiolo2Linux (Ubuntu 24.04.3 LTS) / x86_64  OK    OK    OK  UNNEEDED, same version is already published
lconwaymacOS 12.7.6 Monterey / x86_64  OK    OK    OK    OK  UNNEEDED, same version is already published
kjohnson3macOS 13.7.7 Ventura / arm64  OK    OK    OK    OK  UNNEEDED, same version is already published
Package 28/57HostnameOS / ArchINSTALLBUILDCHECKBUILD BIN
omicsGMF 1.0.0  (landing page)
Alexandre Segers
git_last_commit: 665af6c
git_last_commit_date: 2025-10-29 11:39:15 -0400
nebbiolo2Linux (Ubuntu 24.04.3 LTS) / x86_64  OK    OK    OK  UNNEEDED, same version is already published
lconwaymacOS 12.7.6 Monterey / x86_64  OK    OK    OK    OK  UNNEEDED, same version is already published
kjohnson3macOS 13.7.7 Ventura / arm64  OK    OK    OK    OK  UNNEEDED, same version is already published
Package 29/57HostnameOS / ArchINSTALLBUILDCHECKBUILD BIN
PDATK 1.18.0  (landing page)
Benjamin Haibe-Kains
git_last_commit: d15fa15
git_last_commit_date: 2025-10-29 11:06:35 -0400
nebbiolo2Linux (Ubuntu 24.04.3 LTS) / x86_64  OK    OK    WARNINGS  UNNEEDED, same version is already published
lconwaymacOS 12.7.6 Monterey / x86_64  OK    OK    WARNINGS    OK  UNNEEDED, same version is already published
kjohnson3macOS 13.7.7 Ventura / arm64  OK    OK    WARNINGS    OK  UNNEEDED, same version is already published
Package 30/57HostnameOS / ArchINSTALLBUILDCHECKBUILD BIN
RaggedExperiment 1.34.0  (landing page)
Marcel Ramos
git_last_commit: 2cf1b41
git_last_commit_date: 2025-10-29 10:37:59 -0400
nebbiolo2Linux (Ubuntu 24.04.3 LTS) / x86_64  OK    OK    OK  UNNEEDED, same version is already published
lconwaymacOS 12.7.6 Monterey / x86_64  OK    OK    OK    OK  UNNEEDED, same version is already published
kjohnson3macOS 13.7.7 Ventura / arm64  OK    OK    OK    OK  UNNEEDED, same version is already published
Package 31/57HostnameOS / ArchINSTALLBUILDCHECKBUILD BIN
RAIDS 1.8.0  (landing page)
Pascal Belleau
git_last_commit: 4c9a678
git_last_commit_date: 2025-10-29 11:25:36 -0400
nebbiolo2Linux (Ubuntu 24.04.3 LTS) / x86_64  OK    OK    OK  UNNEEDED, same version is already published
lconwaymacOS 12.7.6 Monterey / x86_64  OK    OK    OK    OK  UNNEEDED, same version is already published
kjohnson3macOS 13.7.7 Ventura / arm64  OK    OK    OK    OK  UNNEEDED, same version is already published
Package 32/57HostnameOS / ArchINSTALLBUILDCHECKBUILD BIN
RCSL 1.18.0  (landing page)
Qinglin Mei
git_last_commit: 98e4992
git_last_commit_date: 2025-10-29 11:10:06 -0400
nebbiolo2Linux (Ubuntu 24.04.3 LTS) / x86_64  OK    OK    OK  UNNEEDED, same version is already published
lconwaymacOS 12.7.6 Monterey / x86_64  OK    OK    OK    OK  UNNEEDED, same version is already published
kjohnson3macOS 13.7.7 Ventura / arm64  OK    OK    OK    OK  UNNEEDED, same version is already published
Package 33/57HostnameOS / ArchINSTALLBUILDCHECKBUILD BIN
SanityR 1.0.0  (landing page)
Teo Sakel
git_last_commit: c64a735
git_last_commit_date: 2025-10-29 11:37:07 -0400
nebbiolo2Linux (Ubuntu 24.04.3 LTS) / x86_64  OK    OK    OK  UNNEEDED, same version is already published
lconwaymacOS 12.7.6 Monterey / x86_64  OK    OK    OK    OK  UNNEEDED, same version is already published
kjohnson3macOS 13.7.7 Ventura / arm64  OK    OK    OK    OK  UNNEEDED, same version is already published
Package 34/57HostnameOS / ArchINSTALLBUILDCHECKBUILD BIN
saseR 1.6.0  (landing page)
Alexandre Segers
git_last_commit: 8ee3ecc
git_last_commit_date: 2025-10-29 11:27:12 -0400
nebbiolo2Linux (Ubuntu 24.04.3 LTS) / x86_64  OK    OK    WARNINGS  UNNEEDED, same version is already published
lconwaymacOS 12.7.6 Monterey / x86_64  OK    OK    WARNINGS    OK  UNNEEDED, same version is already published
kjohnson3macOS 13.7.7 Ventura / arm64  OK    OK    WARNINGS    OK  UNNEEDED, same version is already published
Package 35/57HostnameOS / ArchINSTALLBUILDCHECKBUILD BIN
scater 1.38.0  (landing page)
Alan O'Callaghan
git_last_commit: 64e2b5e
git_last_commit_date: 2025-10-29 10:30:01 -0400
nebbiolo2Linux (Ubuntu 24.04.3 LTS) / x86_64  OK    OK    OK  UNNEEDED, same version is already published
lconwaymacOS 12.7.6 Monterey / x86_64  OK    OK    OK    OK  UNNEEDED, same version is already published
kjohnson3macOS 13.7.7 Ventura / arm64  OK    OK    ERROR    OK  
Package 36/57HostnameOS / ArchINSTALLBUILDCHECKBUILD BIN
scFeatures 1.10.0  (landing page)
Yue Cao
git_last_commit: 6a2b3d3
git_last_commit_date: 2025-10-29 11:20:52 -0400
nebbiolo2Linux (Ubuntu 24.04.3 LTS) / x86_64  OK    OK    ERROR  
lconwaymacOS 12.7.6 Monterey / x86_64  OK    OK    ERROR    OK  
kjohnson3macOS 13.7.7 Ventura / arm64  OK    OK    ERROR    OK  
Package 37/57HostnameOS / ArchINSTALLBUILDCHECKBUILD BIN
scone 1.34.0  (landing page)
Davide Risso
git_last_commit: a2184ae
git_last_commit_date: 2025-10-29 10:36:05 -0400
nebbiolo2Linux (Ubuntu 24.04.3 LTS) / x86_64  OK    OK    OK  UNNEEDED, same version is already published
lconwaymacOS 12.7.6 Monterey / x86_64  OK    OK    OK    OK  UNNEEDED, same version is already published
kjohnson3macOS 13.7.7 Ventura / arm64  OK    OK    OK    OK  UNNEEDED, same version is already published
Package 38/57HostnameOS / ArchINSTALLBUILDCHECKBUILD BIN
scPCA 1.24.0  (landing page)
Philippe Boileau
git_last_commit: 49d6aeb
git_last_commit_date: 2025-10-29 10:55:26 -0400
nebbiolo2Linux (Ubuntu 24.04.3 LTS) / x86_64  OK    OK    OK  UNNEEDED, same version is already published
lconwaymacOS 12.7.6 Monterey / x86_64  OK    OK    OK    OK  UNNEEDED, same version is already published
kjohnson3macOS 13.7.7 Ventura / arm64  OK    OK    OK    OK  UNNEEDED, same version is already published
Package 39/57HostnameOS / ArchINSTALLBUILDCHECKBUILD BIN
scran 1.38.0  (landing page)
Aaron Lun
git_last_commit: 50cb1ba
git_last_commit_date: 2025-10-29 10:31:34 -0400
nebbiolo2Linux (Ubuntu 24.04.3 LTS) / x86_64  OK    OK    WARNINGS  UNNEEDED, same version is already published
lconwaymacOS 12.7.6 Monterey / x86_64  OK    OK    WARNINGS    OK  UNNEEDED, same version is already published
kjohnson3macOS 13.7.7 Ventura / arm64  OK    OK    WARNINGS    OK  UNNEEDED, same version is already published
Package 40/57HostnameOS / ArchINSTALLBUILDCHECKBUILD BIN
scuttle 1.20.0  (landing page)
Aaron Lun
git_last_commit: 2796dbd
git_last_commit_date: 2025-10-29 10:59:47 -0400
nebbiolo2Linux (Ubuntu 24.04.3 LTS) / x86_64  OK    OK    ERROR  
lconwaymacOS 12.7.6 Monterey / x86_64  OK    OK    OK    OK  UNNEEDED, same version is already published
kjohnson3macOS 13.7.7 Ventura / arm64  OK    OK    OK    OK  UNNEEDED, same version is already published
Package 41/57HostnameOS / ArchINSTALLBUILDCHECKBUILD BIN
scviR 1.10.0  (landing page)
Vincent Carey
git_last_commit: 76c9278
git_last_commit_date: 2025-10-29 11:21:42 -0400
nebbiolo2Linux (Ubuntu 24.04.3 LTS) / x86_64  OK    OK    OK  UNNEEDED, same version is already published
lconwaymacOS 12.7.6 Monterey / x86_64  OK    ERROR  skippedskipped
kjohnson3macOS 13.7.7 Ventura / arm64  OK    TIMEOUT  skippedskipped
Package 42/57HostnameOS / ArchINSTALLBUILDCHECKBUILD BIN
shinyMethyl 1.46.0  (landing page)
Jean-Philippe Fortin
git_last_commit: 3cd20a1
git_last_commit_date: 2025-10-29 10:20:21 -0400
nebbiolo2Linux (Ubuntu 24.04.3 LTS) / x86_64  OK    OK    OK  UNNEEDED, same version is already published
lconwaymacOS 12.7.6 Monterey / x86_64  OK    OK    OK    OK  UNNEEDED, same version is already published
kjohnson3macOS 13.7.7 Ventura / arm64  OK    OK    OK    OK  UNNEEDED, same version is already published
Package 43/57HostnameOS / ArchINSTALLBUILDCHECKBUILD BIN
SparseArray 1.10.0  (landing page)
Hervé Pagès
git_last_commit: b793c60
git_last_commit_date: 2025-10-29 12:13:34 -0400
nebbiolo2Linux (Ubuntu 24.04.3 LTS) / x86_64  OK    OK    OK  UNNEEDED, same version is already published
lconwaymacOS 12.7.6 Monterey / x86_64  OK    OK    OK    OK  UNNEEDED, same version is already published
kjohnson3macOS 13.7.7 Ventura / arm64  OK    OK    OK    OK  UNNEEDED, same version is already published
Package 44/57HostnameOS / ArchINSTALLBUILDCHECKBUILD BIN
sparseMatrixStats 1.22.0  (landing page)
Constantin Ahlmann-Eltze
git_last_commit: 3acf348
git_last_commit_date: 2025-10-29 10:58:07 -0400
nebbiolo2Linux (Ubuntu 24.04.3 LTS) / x86_64  OK    OK    OK  UNNEEDED, same version is already published
lconwaymacOS 12.7.6 Monterey / x86_64  OK    OK    OK    OK  UNNEEDED, same version is already published
kjohnson3macOS 13.7.7 Ventura / arm64  OK    OK    OK    OK  UNNEEDED, same version is already published
Package 45/57HostnameOS / ArchINSTALLBUILDCHECKBUILD BIN
spatzie 1.16.0  (landing page)
Jennifer Hammelman
git_last_commit: 7892310
git_last_commit_date: 2025-10-29 11:11:08 -0400
nebbiolo2Linux (Ubuntu 24.04.3 LTS) / x86_64  OK    OK    ERROR  
lconwaymacOS 12.7.6 Monterey / x86_64  OK    OK    ERROR    OK  
kjohnson3macOS 13.7.7 Ventura / arm64  OK    OK    ERROR    OK  
Package 46/57HostnameOS / ArchINSTALLBUILDCHECKBUILD BIN
StabMap 1.4.0  (landing page)
Shila Ghazanfar
git_last_commit: 82229fe
git_last_commit_date: 2025-10-29 11:31:21 -0400
nebbiolo2Linux (Ubuntu 24.04.3 LTS) / x86_64  OK    OK    OK  UNNEEDED, same version is already published
lconwaymacOS 12.7.6 Monterey / x86_64  OK    OK    OK    OK  UNNEEDED, same version is already published
kjohnson3macOS 13.7.7 Ventura / arm64  OK    OK    OK    OK  UNNEEDED, same version is already published
Package 47/57HostnameOS / ArchINSTALLBUILDCHECKBUILD BIN
SummarizedExperiment 1.40.0  (landing page)
Hervé Pagès
git_last_commit: 469a2de
git_last_commit_date: 2025-10-29 14:00:01 -0400
nebbiolo2Linux (Ubuntu 24.04.3 LTS) / x86_64  OK    OK    OK  UNNEEDED, same version is already published
lconwaymacOS 12.7.6 Monterey / x86_64  OK    OK    OK    OK  UNNEEDED, same version is already published
kjohnson3macOS 13.7.7 Ventura / arm64  OK    OK    OK    OK  UNNEEDED, same version is already published
Package 48/57HostnameOS / ArchINSTALLBUILDCHECKBUILD BIN
tadar 1.8.0  (landing page)
Lachlan Baer
git_last_commit: bdb4556
git_last_commit_date: 2025-10-29 11:25:24 -0400
nebbiolo2Linux (Ubuntu 24.04.3 LTS) / x86_64  OK    OK    OK  UNNEEDED, same version is already published
lconwaymacOS 12.7.6 Monterey / x86_64  OK    OK    OK    OK  UNNEEDED, same version is already published
kjohnson3macOS 13.7.7 Ventura / arm64  OK    OK    OK    OK  UNNEEDED, same version is already published
Package 49/57HostnameOS / ArchINSTALLBUILDCHECKBUILD BIN
TENxIO 1.12.0  (landing page)
Marcel Ramos
git_last_commit: 4adee52
git_last_commit_date: 2025-10-29 11:19:24 -0400
nebbiolo2Linux (Ubuntu 24.04.3 LTS) / x86_64  OK    OK    OK  UNNEEDED, same version is already published
lconwaymacOS 12.7.6 Monterey / x86_64  OK    ERROR  skippedskipped
kjohnson3macOS 13.7.7 Ventura / arm64  OK    ERROR  skippedskipped
Package 50/57HostnameOS / ArchINSTALLBUILDCHECKBUILD BIN
tLOH 1.18.0  (landing page)
Michelle Webb
git_last_commit: 35f04e6
git_last_commit_date: 2025-10-29 11:08:42 -0400
nebbiolo2Linux (Ubuntu 24.04.3 LTS) / x86_64  OK    OK    OK  UNNEEDED, same version is already published
lconwaymacOS 12.7.6 Monterey / x86_64  OK    OK    OK    OK  UNNEEDED, same version is already published
kjohnson3macOS 13.7.7 Ventura / arm64  OK    OK    OK    OK  UNNEEDED, same version is already published
Package 51/57HostnameOS / ArchINSTALLBUILDCHECKBUILD BIN
tpSVG 1.6.0  (landing page)
Boyi Guo
git_last_commit: a7202a9
git_last_commit_date: 2025-10-29 11:28:17 -0400
nebbiolo2Linux (Ubuntu 24.04.3 LTS) / x86_64  OK    OK    OK  UNNEEDED, same version is already published
lconwaymacOS 12.7.6 Monterey / x86_64  OK    OK    OK    OK  UNNEEDED, same version is already published
kjohnson3macOS 13.7.7 Ventura / arm64  OK    OK    OK    OK  UNNEEDED, same version is already published
Package 52/57HostnameOS / ArchINSTALLBUILDCHECKBUILD BIN
transformGamPoi 1.16.0  (landing page)
Constantin Ahlmann-Eltze
git_last_commit: aca099c
git_last_commit_date: 2025-10-29 11:12:07 -0400
nebbiolo2Linux (Ubuntu 24.04.3 LTS) / x86_64  OK    OK    OK  UNNEEDED, same version is already published
lconwaymacOS 12.7.6 Monterey / x86_64  OK    OK    OK    OK  UNNEEDED, same version is already published
kjohnson3macOS 13.7.7 Ventura / arm64  OK    OK    OK    OK  UNNEEDED, same version is already published
Package 53/57HostnameOS / ArchINSTALLBUILDCHECKBUILD BIN
universalmotif 1.28.0  (landing page)
Benjamin Jean-Marie Tremblay
git_last_commit: 428965b
git_last_commit_date: 2025-10-29 10:48:50 -0400
nebbiolo2Linux (Ubuntu 24.04.3 LTS) / x86_64  OK    ERROR  skipped
lconwaymacOS 12.7.6 Monterey / x86_64  OK    ERROR  skippedskipped
kjohnson3macOS 13.7.7 Ventura / arm64  OK    ERROR  skippedskipped
Package 54/57HostnameOS / ArchINSTALLBUILDCHECKBUILD BIN
VanillaICE 1.72.0  (landing page)
Robert Scharpf
git_last_commit: c1e8f15
git_last_commit_date: 2025-10-29 09:59:52 -0400
nebbiolo2Linux (Ubuntu 24.04.3 LTS) / x86_64  OK    OK    OK  UNNEEDED, same version is already published
lconwaymacOS 12.7.6 Monterey / x86_64  OK    OK    OK    OK  UNNEEDED, same version is already published
kjohnson3macOS 13.7.7 Ventura / arm64  OK    OK    OK    OK  UNNEEDED, same version is already published
Package 55/57HostnameOS / ArchINSTALLBUILDCHECKBUILD BIN
VariantAnnotation 1.56.0  (landing page)
Bioconductor Package Maintainer
git_last_commit: dc8ecd1
git_last_commit_date: 2025-10-29 10:08:24 -0400
nebbiolo2Linux (Ubuntu 24.04.3 LTS) / x86_64  OK    OK    WARNINGS  YES
lconwaymacOS 12.7.6 Monterey / x86_64  OK    OK    WARNINGS    OK  UNNEEDED, same version is already published
kjohnson3macOS 13.7.7 Ventura / arm64  OK    OK    WARNINGS    OK  UNNEEDED, same version is already published
Package 56/57HostnameOS / ArchINSTALLBUILDCHECKBUILD BIN
Voyager 1.12.0  (landing page)
Lambda Moses
git_last_commit: d689ab8
git_last_commit_date: 2025-10-29 11:19:14 -0400
nebbiolo2Linux (Ubuntu 24.04.3 LTS) / x86_64  OK    OK    WARNINGS  YES
lconwaymacOS 12.7.6 Monterey / x86_64  OK    OK    WARNINGS    OK  UNNEEDED, same version is already published
kjohnson3macOS 13.7.7 Ventura / arm64  OK    OK    WARNINGS    OK  UNNEEDED, same version is already published
Package 57/57HostnameOS / ArchINSTALLBUILDCHECKBUILD BIN
zitools 1.4.0  (landing page)
Carlotta Meyring
git_last_commit: c4def98
git_last_commit_date: 2025-10-29 11:30:43 -0400
nebbiolo2Linux (Ubuntu 24.04.3 LTS) / x86_64  OK    OK    WARNINGS  YES
lconwaymacOS 12.7.6 Monterey / x86_64  OK    OK    WARNINGS    OK  UNNEEDED, same version is already published
kjohnson3macOS 13.7.7 Ventura / arm64  OK    OK    WARNINGS    OK  UNNEEDED, same version is already published