Back to Multiple platform build/check report for BioC 3.22:   simplified   long
ABCDEFGHIJKLMNOPQ[R]STUVWXYZ

This page was generated on 2025-10-13 12:04 -0400 (Mon, 13 Oct 2025).

HostnameOSArch (*)R versionInstalled pkgs
nebbiolo2Linux (Ubuntu 24.04.3 LTS)x86_644.5.1 Patched (2025-08-23 r88802) -- "Great Square Root" 4864
lconwaymacOS 12.7.1 Montereyx86_644.5.1 Patched (2025-09-10 r88807) -- "Great Square Root" 4652
kjohnson3macOS 13.7.7 Venturaarm644.5.1 Patched (2025-09-10 r88807) -- "Great Square Root" 4597
taishanLinux (openEuler 24.03 LTS)aarch644.5.0 (2025-04-11) -- "How About a Twenty-Six" 4586
Click on any hostname to see more info about the system (e.g. compilers)      (*) as reported by 'uname -p', except on Windows and Mac OS X

Package 1691/2346HostnameOS / ArchINSTALLBUILDCHECKBUILD BIN
RAIDS 1.7.3  (landing page)
Pascal Belleau
Snapshot Date: 2025-10-12 13:45 -0400 (Sun, 12 Oct 2025)
git_url: https://git.bioconductor.org/packages/RAIDS
git_branch: devel
git_last_commit: 3a182eb
git_last_commit_date: 2025-10-07 16:32:58 -0400 (Tue, 07 Oct 2025)
nebbiolo2Linux (Ubuntu 24.04.3 LTS) / x86_64  OK    OK    OK  UNNEEDED, same version is already published
lconwaymacOS 12.7.1 Monterey / x86_64  OK    OK    OK    OK  UNNEEDED, same version is already published
kjohnson3macOS 13.7.7 Ventura / arm64  OK    OK    OK    OK  UNNEEDED, same version is already published
taishanLinux (openEuler 24.03 LTS) / aarch64  OK    OK    OK  


CHECK results for RAIDS on nebbiolo2

To the developers/maintainers of the RAIDS package:
- Allow up to 24 hours (and sometimes 48 hours) for your latest push to git@git.bioconductor.org:packages/RAIDS.git to reflect on this report. See Troubleshooting Build Report for more information.
- Use the following Renviron settings to reproduce errors and warnings.
- If 'R CMD check' started to fail recently on the Linux builder(s) over a missing dependency, add the missing dependency to 'Suggests:' in your DESCRIPTION file. See Renviron.bioc for more information.

raw results


Summary

Package: RAIDS
Version: 1.7.3
Command: /home/biocbuild/bbs-3.22-bioc/R/bin/R CMD check --install=check:RAIDS.install-out.txt --library=/home/biocbuild/bbs-3.22-bioc/R/site-library --timings RAIDS_1.7.3.tar.gz
StartedAt: 2025-10-13 03:16:26 -0400 (Mon, 13 Oct 2025)
EndedAt: 2025-10-13 03:25:09 -0400 (Mon, 13 Oct 2025)
EllapsedTime: 523.7 seconds
RetCode: 0
Status:   OK  
CheckDir: RAIDS.Rcheck
Warnings: 0

Command output

##############################################################################
##############################################################################
###
### Running command:
###
###   /home/biocbuild/bbs-3.22-bioc/R/bin/R CMD check --install=check:RAIDS.install-out.txt --library=/home/biocbuild/bbs-3.22-bioc/R/site-library --timings RAIDS_1.7.3.tar.gz
###
##############################################################################
##############################################################################


* using log directory ‘/home/biocbuild/bbs-3.22-bioc/meat/RAIDS.Rcheck’
* using R version 4.5.1 Patched (2025-08-23 r88802)
* using platform: x86_64-pc-linux-gnu
* R was compiled by
    gcc (Ubuntu 13.3.0-6ubuntu2~24.04) 13.3.0
    GNU Fortran (Ubuntu 13.3.0-6ubuntu2~24.04) 13.3.0
* running under: Ubuntu 24.04.3 LTS
* using session charset: UTF-8
* checking for file ‘RAIDS/DESCRIPTION’ ... OK
* checking extension type ... Package
* this is package ‘RAIDS’ version ‘1.7.3’
* package encoding: UTF-8
* checking package namespace information ... OK
* checking package dependencies ... OK
* checking if this is a source package ... OK
* checking if there is a namespace ... OK
* checking for hidden files and directories ... OK
* checking for portable file names ... OK
* checking for sufficient/correct file permissions ... OK
* checking whether package ‘RAIDS’ can be installed ... OK
* checking installed package size ... OK
* checking package directory ... OK
* checking ‘build’ directory ... OK
* checking DESCRIPTION meta-information ... OK
* checking top-level files ... OK
* checking for left-over files ... OK
* checking index information ... OK
* checking package subdirectories ... OK
* checking code files for non-ASCII characters ... OK
* checking R files for syntax errors ... OK
* checking whether the package can be loaded ... OK
* checking whether the package can be loaded with stated dependencies ... OK
* checking whether the package can be unloaded cleanly ... OK
* checking whether the namespace can be loaded with stated dependencies ... OK
* checking whether the namespace can be unloaded cleanly ... OK
* checking loading without being on the library search path ... OK
* checking dependencies in R code ... OK
* checking S3 generic/method consistency ... OK
* checking replacement functions ... OK
* checking foreign function calls ... OK
* checking R code for possible problems ... OK
* checking Rd files ... OK
* checking Rd metadata ... OK
* checking Rd cross-references ... OK
* checking for missing documentation entries ... OK
* checking for code/documentation mismatches ... OK
* checking Rd \usage sections ... NOTE
Documented arguments not in \usage in Rd file 'wrapperAncestry.Rd':
  ‘pathGeno’

Functions with \usage entries need to have the appropriate \alias
entries, and all their arguments documented.
The \usage entries must correspond to syntactically valid R code.
See chapter ‘Writing R documentation files’ in the ‘Writing R
Extensions’ manual.
* checking Rd contents ... OK
* checking for unstated dependencies in examples ... OK
* checking contents of ‘data’ directory ... OK
* checking data for non-ASCII characters ... OK
* checking data for ASCII and uncompressed saves ... OK
* checking files in ‘vignettes’ ... OK
* checking examples ... OK
Examples with CPU (user + system) or elapsed time > 5s
                                  user system elapsed
readSNVBAM                       5.268  0.108   5.377
computeAncestryFromSyntheticFile 5.180  0.134   5.316
* checking for unstated dependencies in ‘tests’ ... OK
* checking tests ...
  Running ‘testthat.R’
 OK
* checking for unstated dependencies in vignettes ... OK
* checking package vignettes ... OK
* checking re-building of vignette outputs ... OK
* checking PDF version of manual ... OK
* DONE

Status: 1 NOTE
See
  ‘/home/biocbuild/bbs-3.22-bioc/meat/RAIDS.Rcheck/00check.log’
for details.


Installation output

RAIDS.Rcheck/00install.out

##############################################################################
##############################################################################
###
### Running command:
###
###   /home/biocbuild/bbs-3.22-bioc/R/bin/R CMD INSTALL RAIDS
###
##############################################################################
##############################################################################


* installing to library ‘/home/biocbuild/bbs-3.22-bioc/R/site-library’
* installing *source* package ‘RAIDS’ ...
** this is package ‘RAIDS’ version ‘1.7.3’
** using staged installation
** R
** data
** inst
** byte-compile and prepare package for lazy loading
** help
*** installing help indices
** building package indices
** installing vignettes
** testing if installed package can be loaded from temporary location
** testing if installed package can be loaded from final location
** testing if installed package keeps a record of temporary installation path
* DONE (RAIDS)

Tests output

RAIDS.Rcheck/tests/testthat.Rout


R version 4.5.1 Patched (2025-08-23 r88802) -- "Great Square Root"
Copyright (C) 2025 The R Foundation for Statistical Computing
Platform: x86_64-pc-linux-gnu

R is free software and comes with ABSOLUTELY NO WARRANTY.
You are welcome to redistribute it under certain conditions.
Type 'license()' or 'licence()' for distribution details.

R is a collaborative project with many contributors.
Type 'contributors()' for more information and
'citation()' on how to cite R or R packages in publications.

Type 'demo()' for some demos, 'help()' for on-line help, or
'help.start()' for an HTML browser interface to help.
Type 'q()' to quit R.

> library(testthat)
> library(RAIDS)
Loading required package: gdsfmt
Loading required package: SNPRelate
SNPRelate -- supported by Streaming SIMD Extensions 2 (SSE2)
Loading required package: GENESIS
Loading required package: dplyr

Attaching package: 'dplyr'

The following object is masked from 'package:testthat':

    matches

The following objects are masked from 'package:stats':

    filter, lag

The following objects are masked from 'package:base':

    intersect, setdiff, setequal, union

Loading required package: Rsamtools
Loading required package: Seqinfo
Loading required package: BiocGenerics
Loading required package: generics

Attaching package: 'generics'

The following object is masked from 'package:dplyr':

    explain

The following objects are masked from 'package:base':

    as.difftime, as.factor, as.ordered, intersect, is.element, setdiff,
    setequal, union


Attaching package: 'BiocGenerics'

The following object is masked from 'package:dplyr':

    combine

The following objects are masked from 'package:stats':

    IQR, mad, sd, var, xtabs

The following objects are masked from 'package:base':

    Filter, Find, Map, Position, Reduce, anyDuplicated, aperm, append,
    as.data.frame, basename, cbind, colnames, dirname, do.call,
    duplicated, eval, evalq, get, grep, grepl, is.unsorted, lapply,
    mapply, match, mget, order, paste, pmax, pmax.int, pmin, pmin.int,
    rank, rbind, rownames, sapply, saveRDS, table, tapply, unique,
    unsplit, which.max, which.min

Loading required package: GenomicRanges
Loading required package: stats4
Loading required package: S4Vectors

Attaching package: 'S4Vectors'

The following objects are masked from 'package:dplyr':

    first, rename

The following object is masked from 'package:utils':

    findMatches

The following objects are masked from 'package:base':

    I, expand.grid, unname

Loading required package: IRanges

Attaching package: 'IRanges'

The following objects are masked from 'package:dplyr':

    collapse, desc, slice

Loading required package: Biostrings
Loading required package: XVector

Attaching package: 'Biostrings'

The following object is masked from 'package:base':

    strsplit

> 
> ## Run all unit tests
> test_check("RAIDS")

Attaching package: 'Matrix'

The following object is masked from 'package:S4Vectors':

    expand

[ FAIL 0 | WARN 0 | SKIP 0 | PASS 478 ]
> 
> proc.time()
   user  system elapsed 
 36.363   1.656  38.022 

Example timings

RAIDS.Rcheck/RAIDS-Ex.timings

nameusersystemelapsed
add1KG2SampleGDS0.0470.0200.079
addBlockFromDetFile0.0010.0000.003
addBlockInGDSAnnot0.0030.0020.009
addGDS1KGLDBlock0.0020.0000.001
addGDSRef0.0010.0020.004
addGDSStudyPruning0.0010.0000.002
addGeneBlockGDSRefAnnot0.8250.0960.927
addGeneBlockRefAnnot0.0010.0000.001
addRef2GDS1KG0.0020.0020.004
addStudy1Kg0.0090.0000.024
addStudyGDSSample0.0050.0020.012
addUpdateLap0.0010.0010.002
addUpdateSegment0.0010.0000.002
appendGDSRefSample0.0070.0020.015
appendGDSSampleOnly0.0010.0000.003
appendGDSgenotype0.0160.0050.031
appendGDSgenotypeMat0.0010.0010.003
calcAFMLRNA0.0070.0000.007
computeAlleleFraction0.0040.0000.004
computeAllelicFractionDNA0.1520.0070.158
computeAllelicFractionRNA0.2190.0030.223
computeAllelicImbDNAChr0.0060.0000.006
computeAncestryFromSynthetic0.0150.0010.017
computeAncestryFromSyntheticFile5.1800.1345.316
computeKNNRefSample0.0160.0020.019
computeKNNRefSynthetic1.5480.0441.593
computeLOHBlocksDNAChr0.0070.0010.008
computePCAMultiSynthetic0.0080.0000.008
computePCARefRMMulti0.1560.0130.168
computePCARefSample0.1960.0000.196
computePoolSyntheticAncestryGr0.4960.0010.498
computeSyntheticConfMat0.0120.0030.015
computeSyntheticROC0.0380.0030.040
createAUROCGraph0.8980.0580.957
createAccuracyGraph0.8980.0150.913
createProfile0.0560.0040.071
createStudy2GDS1KG0.0740.0030.088
demoKnownSuperPop1KG2.6270.1222.750
demoPCA1KG0.0070.0000.007
demoPCASyntheticProfiles1.4280.0011.428
demoPedigreeEx10.0150.0000.015
estimateAllelicFraction0.0790.0010.080
extractNucleotide0.0010.0000.000
generateGDS1KG0.0110.0020.022
generateGDS1KGgenotypeFromSNPPileup0.0440.0000.056
generateGDSRefSample0.0040.0000.008
generateGDSSNPinfo0.0010.0040.010
generateGDSgenotype0.0100.0010.023
generateGeneBlock0.0010.0000.001
generateMapSnvSel0.0030.0000.003
generatePhase1KG2GDS0.0120.0010.022
generatePhaseRef0.0270.0010.037
generateProfileGDS0.0350.0070.053
getBlockIDs0.0030.0000.002
getRef1KGPop0.0030.0000.003
getRefSuperPop0.0020.0000.002
getTableSNV0.0090.0020.010
groupChr1KGSNV0.0440.0090.053
identifyRelative0.0060.0020.009
identifyRelativeRef0.0050.0010.006
inferAncestry0.0120.0000.012
inferAncestryDNA0.0120.0000.011
inferAncestryGeneAware0.0120.0000.013
matKNNSynthetic0.0390.0010.040
pedSynthetic0.0380.0010.038
prepPed1KG0.0040.0000.004
prepPedSynthetic1KG0.0030.0020.005
prepSynthetic0.0100.0000.012
processBlockChr0.0020.0010.003
processPileupChrBin3.2350.0503.286
profileAncestry0.0170.0000.017
pruning1KGbyChr0.0030.0010.004
pruningSample0.0380.0020.042
readSNVBAM5.2680.1085.377
readSNVFileGeneric0.0020.0010.004
readSNVPileupFile0.0310.0010.032
readSNVVCF4.8630.1034.967
runExomeAncestry0.0150.0010.016
runIBDKING0.0500.0040.055
runLDPruning0.0190.0050.024
runProfileAncestry0.0160.0020.018
runRNAAncestry0.0150.0000.015
runWrapperAncestry0.0140.0020.016
selParaPCAUpQuartile4.7610.0104.770
select1KGPop0.0040.0000.004
select1KGPopForSynthetic0.0030.0010.005
snpPositionDemo0.0030.0000.003
snvListVCF0.0020.0010.004
splitSelectByPop0.0010.0000.001
syntheticGeno0.0250.0030.031
tableBlockAF0.040.000.04
testAlleleFractionChange0.0010.0000.001
testEmptyBox0.0010.0000.001
validateAccuracyGraphInternal0.0000.0000.001
validateAdd1KG2SampleGDS0.0010.0000.001
validateAddStudy1Kg0.0020.0000.001
validateCharacterString000
validateComputeAncestryFromSyntheticFile0.0010.0000.002
validateComputeKNNRefSample0.0020.0020.004
validateComputeKNNRefSynthetic0.0030.0030.005
validateComputePCAMultiSynthetic0.0040.0000.003
validateComputePCARefSample0.0010.0000.001
validateComputePoolSyntheticAncestryGr0.0010.0000.001
validateComputeSyntheticRoc0.0100.0020.012
validateCreateAccuracyGraph0.0020.0000.001
validateCreateStudy2GDS1KG0.0020.0000.002
validateDataRefSynParameter0.0010.0000.000
validateEstimateAllelicFraction0.0020.0010.003
validateGDSClass0.0010.0000.001
validateGenerateGDS1KG0.0010.0000.001
validateLogical0.0000.0010.000
validatePEDStudyParameter0.0000.0000.001
validatePepSynthetic0.0010.0000.001
validatePositiveIntegerVector0.0010.0000.000
validatePrepPed1KG0.0010.0000.001
validateProfileGDSExist0.0010.0000.001
validatePruningSample0.0020.0000.001
validateRunExomeOrRNAAncestry0.0040.0000.004
validateSingleRatio000
validateStudyDataFrameParameter0.0000.0000.001
validateSyntheticGeno0.0010.0000.002
validatecreateAUROCGraph0.0010.0000.001
validatecreateProfile0.0020.0000.002
wrapperAncestry0.0130.0030.016