Back to Multiple platform build/check report for BioC 3.22:   simplified   long
ABCDEFGH[I]JKLMNOPQRSTUVWXYZ

This page was generated on 2025-10-06 12:03 -0400 (Mon, 06 Oct 2025).

HostnameOSArch (*)R versionInstalled pkgs
nebbiolo2Linux (Ubuntu 24.04.3 LTS)x86_644.5.1 Patched (2025-08-23 r88802) -- "Great Square Root" 4853
lconwaymacOS 12.7.1 Montereyx86_644.5.1 Patched (2025-09-10 r88807) -- "Great Square Root" 4640
kjohnson3macOS 13.7.7 Venturaarm644.5.1 Patched (2025-09-10 r88807) -- "Great Square Root" 4585
taishanLinux (openEuler 24.03 LTS)aarch644.5.0 (2025-04-11) -- "How About a Twenty-Six" 4576
Click on any hostname to see more info about the system (e.g. compilers)      (*) as reported by 'uname -p', except on Windows and Mac OS X

Package 1040/2341HostnameOS / ArchINSTALLBUILDCHECKBUILD BIN
imcRtools 1.15.3  (landing page)
Daniel Schulz
Snapshot Date: 2025-10-05 13:45 -0400 (Sun, 05 Oct 2025)
git_url: https://git.bioconductor.org/packages/imcRtools
git_branch: devel
git_last_commit: 0c0cdbc
git_last_commit_date: 2025-09-29 04:48:22 -0400 (Mon, 29 Sep 2025)
nebbiolo2Linux (Ubuntu 24.04.3 LTS) / x86_64  OK    OK    OK  UNNEEDED, same version is already published
lconwaymacOS 12.7.1 Monterey / x86_64  OK    OK    OK    OK  UNNEEDED, same version is already published
kjohnson3macOS 13.7.7 Ventura / arm64  OK    OK    ERROR    OK  
taishanLinux (openEuler 24.03 LTS) / aarch64  OK    OK    OK  


BUILD results for imcRtools on nebbiolo2

To the developers/maintainers of the imcRtools package:
- Allow up to 24 hours (and sometimes 48 hours) for your latest push to git@git.bioconductor.org:packages/imcRtools.git to reflect on this report. See Troubleshooting Build Report for more information.
- Use the following Renviron settings to reproduce errors and warnings.
- If 'R CMD check' started to fail recently on the Linux builder(s) over a missing dependency, add the missing dependency to 'Suggests:' in your DESCRIPTION file. See Renviron.bioc for more information.

raw results


Summary

Package: imcRtools
Version: 1.15.3
Command: /home/biocbuild/bbs-3.22-bioc/R/bin/R CMD build --keep-empty-dirs --no-resave-data --md5 imcRtools
StartedAt: 2025-10-05 18:13:44 -0400 (Sun, 05 Oct 2025)
EndedAt: 2025-10-05 18:19:01 -0400 (Sun, 05 Oct 2025)
EllapsedTime: 317.3 seconds
RetCode: 0
Status:   OK  
PackageFile: imcRtools_1.15.3.tar.gz
PackageFileSize: 6.972 MiB

Command output

##############################################################################
##############################################################################
###
### Running command:
###
###   /home/biocbuild/bbs-3.22-bioc/R/bin/R CMD build --keep-empty-dirs --no-resave-data --md5 imcRtools
###
##############################################################################
##############################################################################


* checking for file ‘imcRtools/DESCRIPTION’ ... OK
* preparing ‘imcRtools’:
* checking DESCRIPTION meta-information ... OK
* installing the package to build vignettes
* creating vignettes ... OK
* checking for LF line-endings in source and make files and shell scripts
* checking for empty or unneeded directories
* adding MD5 file
* building ‘imcRtools_1.15.3.tar.gz’