| Back to Multiple platform build/check report for BioC 3.23: simplified long |
|
This page was generated on 2025-11-22 11:38 -0500 (Sat, 22 Nov 2025).
| Hostname | OS | Arch (*) | R version | Installed pkgs |
|---|---|---|---|---|
| nebbiolo1 | Linux (Ubuntu 24.04.3 LTS) | x86_64 | R Under development (unstable) (2025-10-20 r88955) -- "Unsuffered Consequences" | 4829 |
| lconway | macOS 12.7.6 Monterey | x86_64 | R Under development (unstable) (2025-10-21 r88958) -- "Unsuffered Consequences" | 4603 |
| kjohnson3 | macOS 13.7.7 Ventura | arm64 | R Under development (unstable) (2025-11-04 r88984) -- "Unsuffered Consequences" | 4567 |
| Click on any hostname to see more info about the system (e.g. compilers) (*) as reported by 'uname -p', except on Windows and Mac OS X | ||||
| Package 830/2327 | Hostname | OS / Arch | INSTALL | BUILD | CHECK | BUILD BIN | ||||||||
| GenomAutomorphism 1.13.0 (landing page) Robersy Sanchez
| nebbiolo1 | Linux (Ubuntu 24.04.3 LTS) / x86_64 | OK | OK | OK | |||||||||
| lconway | macOS 12.7.6 Monterey / x86_64 | OK | OK | OK | OK | |||||||||
| kjohnson3 | macOS 13.7.7 Ventura / arm64 | OK | OK | OK | OK | |||||||||
|
To the developers/maintainers of the GenomAutomorphism package: - Allow up to 24 hours (and sometimes 48 hours) for your latest push to git@git.bioconductor.org:packages/GenomAutomorphism.git to reflect on this report. See Troubleshooting Build Report for more information. - Use the following Renviron settings to reproduce errors and warnings. - If 'R CMD check' started to fail recently on the Linux builder(s) over a missing dependency, add the missing dependency to 'Suggests:' in your DESCRIPTION file. See Renviron.bioc for more information. |
| Package: GenomAutomorphism |
| Version: 1.13.0 |
| Command: /Library/Frameworks/R.framework/Resources/bin/R CMD check --install=check:GenomAutomorphism.install-out.txt --library=/Library/Frameworks/R.framework/Resources/library --no-vignettes --timings GenomAutomorphism_1.13.0.tar.gz |
| StartedAt: 2025-11-21 21:20:23 -0500 (Fri, 21 Nov 2025) |
| EndedAt: 2025-11-21 21:27:35 -0500 (Fri, 21 Nov 2025) |
| EllapsedTime: 431.4 seconds |
| RetCode: 0 |
| Status: OK |
| CheckDir: GenomAutomorphism.Rcheck |
| Warnings: 0 |
##############################################################################
##############################################################################
###
### Running command:
###
### /Library/Frameworks/R.framework/Resources/bin/R CMD check --install=check:GenomAutomorphism.install-out.txt --library=/Library/Frameworks/R.framework/Resources/library --no-vignettes --timings GenomAutomorphism_1.13.0.tar.gz
###
##############################################################################
##############################################################################
* using log directory ‘/Users/biocbuild/bbs-3.23-bioc/meat/GenomAutomorphism.Rcheck’
* using R Under development (unstable) (2025-10-21 r88958)
* using platform: x86_64-apple-darwin20
* R was compiled by
Apple clang version 14.0.0 (clang-1400.0.29.202)
GNU Fortran (GCC) 14.2.0
* running under: macOS Ventura 13.7.8
* using session charset: UTF-8
* using option ‘--no-vignettes’
* checking for file ‘GenomAutomorphism/DESCRIPTION’ ... OK
* this is package ‘GenomAutomorphism’ version ‘1.13.0’
* package encoding: UTF-8
* checking package namespace information ... OK
* checking package dependencies ... OK
* checking if this is a source package ... OK
* checking if there is a namespace ... OK
* checking for hidden files and directories ... OK
* checking for portable file names ... OK
* checking for sufficient/correct file permissions ... OK
* checking whether package ‘GenomAutomorphism’ can be installed ... OK
* checking installed package size ... OK
* checking package directory ... OK
* checking ‘build’ directory ... OK
* checking DESCRIPTION meta-information ... OK
* checking top-level files ... OK
* checking for left-over files ... OK
* checking index information ... OK
* checking package subdirectories ... OK
* checking code files for non-ASCII characters ... OK
* checking R files for syntax errors ... OK
* checking whether the package can be loaded ... OK
* checking whether the package can be loaded with stated dependencies ... OK
* checking whether the package can be unloaded cleanly ... OK
* checking whether the namespace can be loaded with stated dependencies ... OK
* checking whether the namespace can be unloaded cleanly ... OK
* checking dependencies in R code ... OK
* checking S3 generic/method consistency ... OK
* checking replacement functions ... OK
* checking foreign function calls ... OK
* checking R code for possible problems ... OK
* checking Rd files ... OK
* checking Rd metadata ... OK
* checking Rd cross-references ... NOTE
Non-topic package-anchored link(s) in Rd file 'reexports.Rd':
‘[S4Vectors:S4Vectors-internals]{setValidity2}’
See section 'Cross-references' in the 'Writing R Extensions' manual.
* checking for missing documentation entries ... OK
* checking for code/documentation mismatches ... OK
* checking Rd \usage sections ... OK
* checking Rd contents ... OK
* checking for unstated dependencies in examples ... OK
* checking contents of ‘data’ directory ... OK
* checking data for non-ASCII characters ... OK
* checking data for ASCII and uncompressed saves ... OK
* checking files in ‘vignettes’ ... OK
* checking examples ... OK
Examples with CPU (user + system) or elapsed time > 5s
user system elapsed
automorphisms 6.249 0.189 64.138
aminoacid_dist 3.504 0.992 11.629
autZ64 2.136 0.069 21.065
aut3D 1.988 0.128 21.087
autZ125 1.775 0.053 16.532
autZ5 1.571 0.065 20.772
codon_dist_matrix 0.041 0.012 7.311
* checking for unstated dependencies in ‘tests’ ... OK
* checking tests ...
Running ‘spelling.R’
Running ‘testthat.R’
OK
* checking for unstated dependencies in vignettes ... OK
* checking package vignettes ... OK
* checking running R code from vignettes ... SKIPPED
* checking re-building of vignette outputs ... SKIPPED
* checking PDF version of manual ... OK
* DONE
Status: 1 NOTE
See
‘/Users/biocbuild/bbs-3.23-bioc/meat/GenomAutomorphism.Rcheck/00check.log’
for details.
GenomAutomorphism.Rcheck/00install.out
############################################################################## ############################################################################## ### ### Running command: ### ### /Library/Frameworks/R.framework/Resources/bin/R CMD INSTALL GenomAutomorphism ### ############################################################################## ############################################################################## * installing to library ‘/Library/Frameworks/R.framework/Versions/4.6-x86_64/Resources/library’ * installing *source* package ‘GenomAutomorphism’ ... ** this is package ‘GenomAutomorphism’ version ‘1.13.0’ ** using staged installation ** R ** data ** inst ** byte-compile and prepare package for lazy loading ** help *** installing help indices *** copying figures ** building package indices ** installing vignettes ** testing if installed package can be loaded from temporary location ** testing if installed package can be loaded from final location ** testing if installed package keeps a record of temporary installation path * DONE (GenomAutomorphism)
GenomAutomorphism.Rcheck/tests/spelling.Rout
R Under development (unstable) (2025-10-21 r88958) -- "Unsuffered Consequences"
Copyright (C) 2025 The R Foundation for Statistical Computing
Platform: x86_64-apple-darwin20
R is free software and comes with ABSOLUTELY NO WARRANTY.
You are welcome to redistribute it under certain conditions.
Type 'license()' or 'licence()' for distribution details.
R is a collaborative project with many contributors.
Type 'contributors()' for more information and
'citation()' on how to cite R or R packages in publications.
Type 'demo()' for some demos, 'help()' for on-line help, or
'help.start()' for an HTML browser interface to help.
Type 'q()' to quit R.
> if (requireNamespace("spelling", quietly = TRUE)) {
+ spelling::spell_check_test(
+ vignettes = TRUE, error = FALSE,
+ skip_on_cran = TRUE
+ )
+ }
All Done!
>
> proc.time()
user system elapsed
0.213 0.091 0.320
GenomAutomorphism.Rcheck/tests/testthat.Rout
R Under development (unstable) (2025-10-21 r88958) -- "Unsuffered Consequences"
Copyright (C) 2025 The R Foundation for Statistical Computing
Platform: x86_64-apple-darwin20
R is free software and comes with ABSOLUTELY NO WARRANTY.
You are welcome to redistribute it under certain conditions.
Type 'license()' or 'licence()' for distribution details.
R is a collaborative project with many contributors.
Type 'contributors()' for more information and
'citation()' on how to cite R or R packages in publications.
Type 'demo()' for some demos, 'help()' for on-line help, or
'help.start()' for an HTML browser interface to help.
Type 'q()' to quit R.
> library(testthat)
> library(GenomAutomorphism)
>
> test_check("GenomAutomorphism")
[ FAIL 0 | WARN 0 | SKIP 0 | PASS 34 ]
>
> proc.time()
user system elapsed
24.664 1.283 77.402
GenomAutomorphism.Rcheck/GenomAutomorphism-Ex.timings
| name | user | system | elapsed | |
| AutomorphismByCoef | 0.525 | 0.016 | 0.546 | |
| AutomorphismList | 2.709 | 0.053 | 2.791 | |
| CodonMatrix | 0.200 | 0.005 | 0.209 | |
| CodonSeq | 0.502 | 0.019 | 0.524 | |
| GRangesMatrixSeq | 0.221 | 0.009 | 0.234 | |
| ListCodonMatrix | 0.234 | 0.003 | 0.238 | |
| MatrixSeq | 0.115 | 0.006 | 0.123 | |
| aa_phychem_index | 0.102 | 0.012 | 0.115 | |
| aaindex1 | 0.032 | 0.002 | 0.036 | |
| aaindex2 | 0.013 | 0.002 | 0.016 | |
| aaindex3 | 0.011 | 0.002 | 0.013 | |
| aln | 0.120 | 0.006 | 0.130 | |
| aminoacid_dist | 3.504 | 0.992 | 11.629 | |
| as.AutomorphismList | 0.658 | 0.045 | 0.714 | |
| aut3D | 1.988 | 0.128 | 21.087 | |
| autZ125 | 1.775 | 0.053 | 16.532 | |
| autZ5 | 1.571 | 0.065 | 20.772 | |
| autZ64 | 2.136 | 0.069 | 21.065 | |
| autby_coef | 0.380 | 0.007 | 0.391 | |
| autm | 0.044 | 0.003 | 0.047 | |
| autm_3d | 0.070 | 0.004 | 0.073 | |
| autm_z125 | 0.058 | 0.004 | 0.062 | |
| automorphismByRanges | 0.117 | 0.008 | 0.126 | |
| automorphism_bycoef | 0.108 | 0.004 | 0.114 | |
| automorphism_prob | 1.188 | 0.028 | 1.228 | |
| automorphisms | 6.249 | 0.189 | 64.138 | |
| base2codon | 0.107 | 0.011 | 0.123 | |
| base2int | 0.006 | 0.001 | 0.008 | |
| base_methods | 0.493 | 0.025 | 0.525 | |
| brca1_aln | 0.059 | 0.003 | 0.062 | |
| brca1_aln2 | 0.070 | 0.003 | 0.073 | |
| brca1_autm | 0.496 | 0.005 | 0.505 | |
| cdm_z64 | 0.232 | 0.447 | 0.696 | |
| codon_coord | 0.955 | 0.010 | 0.973 | |
| codon_dist | 0.336 | 0.009 | 0.346 | |
| codon_dist_matrix | 0.041 | 0.012 | 7.311 | |
| codon_matrix | 0.671 | 0.012 | 0.688 | |
| conserved_regions | 0.427 | 0.006 | 0.438 | |
| covid_aln | 0.123 | 0.005 | 0.129 | |
| covid_autm | 0.048 | 0.004 | 0.052 | |
| cyc_aln | 0.139 | 0.006 | 0.144 | |
| cyc_autm | 0.079 | 0.003 | 0.082 | |
| dna_phyche | 0.005 | 0.002 | 0.007 | |
| dna_phychem | 0.003 | 0.001 | 0.004 | |
| extract-methods | 0.520 | 0.008 | 0.529 | |
| getAutomorphisms | 0.167 | 0.007 | 0.175 | |
| get_coord | 0.604 | 0.013 | 0.620 | |
| get_mutscore | 0.167 | 0.009 | 0.176 | |
| matrices | 0.544 | 0.008 | 0.555 | |
| mod | 0.002 | 0.001 | 0.003 | |
| modeq | 0.002 | 0.001 | 0.001 | |
| modlineq | 0.003 | 0.001 | 0.003 | |
| mut_type | 0.002 | 0.001 | 0.002 | |
| peptide_phychem_index | 0.114 | 0.010 | 0.127 | |
| reexports | 0.072 | 0.004 | 0.076 | |
| seqranges | 0.643 | 0.011 | 0.658 | |
| slapply | 0.002 | 0.001 | 0.002 | |
| sortByChromAndStart | 0.071 | 0.002 | 0.073 | |
| str2chr | 0.000 | 0.001 | 0.001 | |
| str2dig | 0.000 | 0.001 | 0.001 | |
| translation | 0.928 | 0.015 | 0.950 | |