| Back to Multiple platform build/check report for BioC 3.23: simplified long |
|
This page was generated on 2025-11-22 11:37 -0500 (Sat, 22 Nov 2025).
| Hostname | OS | Arch (*) | R version | Installed pkgs |
|---|---|---|---|---|
| nebbiolo1 | Linux (Ubuntu 24.04.3 LTS) | x86_64 | R Under development (unstable) (2025-10-20 r88955) -- "Unsuffered Consequences" | 4829 |
| lconway | macOS 12.7.6 Monterey | x86_64 | R Under development (unstable) (2025-10-21 r88958) -- "Unsuffered Consequences" | 4603 |
| kjohnson3 | macOS 13.7.7 Ventura | arm64 | R Under development (unstable) (2025-11-04 r88984) -- "Unsuffered Consequences" | 4567 |
| Click on any hostname to see more info about the system (e.g. compilers) (*) as reported by 'uname -p', except on Windows and Mac OS X | ||||
| Package 830/2327 | Hostname | OS / Arch | INSTALL | BUILD | CHECK | BUILD BIN | ||||||||
| GenomAutomorphism 1.13.0 (landing page) Robersy Sanchez
| nebbiolo1 | Linux (Ubuntu 24.04.3 LTS) / x86_64 | OK | OK | OK | |||||||||
| lconway | macOS 12.7.6 Monterey / x86_64 | OK | OK | OK | OK | |||||||||
| kjohnson3 | macOS 13.7.7 Ventura / arm64 | OK | OK | OK | OK | |||||||||
|
To the developers/maintainers of the GenomAutomorphism package: - Allow up to 24 hours (and sometimes 48 hours) for your latest push to git@git.bioconductor.org:packages/GenomAutomorphism.git to reflect on this report. See Troubleshooting Build Report for more information. - Use the following Renviron settings to reproduce errors and warnings. - If 'R CMD check' started to fail recently on the Linux builder(s) over a missing dependency, add the missing dependency to 'Suggests:' in your DESCRIPTION file. See Renviron.bioc for more information. |
| Package: GenomAutomorphism |
| Version: 1.13.0 |
| Command: /home/biocbuild/bbs-3.23-bioc/R/bin/R CMD check --install=check:GenomAutomorphism.install-out.txt --library=/home/biocbuild/bbs-3.23-bioc/R/site-library --timings GenomAutomorphism_1.13.0.tar.gz |
| StartedAt: 2025-11-21 23:51:25 -0500 (Fri, 21 Nov 2025) |
| EndedAt: 2025-11-21 23:55:39 -0500 (Fri, 21 Nov 2025) |
| EllapsedTime: 253.2 seconds |
| RetCode: 0 |
| Status: OK |
| CheckDir: GenomAutomorphism.Rcheck |
| Warnings: 0 |
##############################################################################
##############################################################################
###
### Running command:
###
### /home/biocbuild/bbs-3.23-bioc/R/bin/R CMD check --install=check:GenomAutomorphism.install-out.txt --library=/home/biocbuild/bbs-3.23-bioc/R/site-library --timings GenomAutomorphism_1.13.0.tar.gz
###
##############################################################################
##############################################################################
* using log directory ‘/home/biocbuild/bbs-3.23-bioc/meat/GenomAutomorphism.Rcheck’
* using R Under development (unstable) (2025-10-20 r88955)
* using platform: x86_64-pc-linux-gnu
* R was compiled by
gcc (Ubuntu 13.3.0-6ubuntu2~24.04) 13.3.0
GNU Fortran (Ubuntu 13.3.0-6ubuntu2~24.04) 13.3.0
* running under: Ubuntu 24.04.3 LTS
* using session charset: UTF-8
* checking for file ‘GenomAutomorphism/DESCRIPTION’ ... OK
* this is package ‘GenomAutomorphism’ version ‘1.13.0’
* package encoding: UTF-8
* checking package namespace information ... OK
* checking package dependencies ... OK
* checking if this is a source package ... OK
* checking if there is a namespace ... OK
* checking for hidden files and directories ... OK
* checking for portable file names ... OK
* checking for sufficient/correct file permissions ... OK
* checking whether package ‘GenomAutomorphism’ can be installed ... OK
* checking installed package size ... OK
* checking package directory ... OK
* checking ‘build’ directory ... OK
* checking DESCRIPTION meta-information ... OK
* checking top-level files ... OK
* checking for left-over files ... OK
* checking index information ... OK
* checking package subdirectories ... OK
* checking code files for non-ASCII characters ... OK
* checking R files for syntax errors ... OK
* checking whether the package can be loaded ... OK
* checking whether the package can be loaded with stated dependencies ... OK
* checking whether the package can be unloaded cleanly ... OK
* checking whether the namespace can be loaded with stated dependencies ... OK
* checking whether the namespace can be unloaded cleanly ... OK
* checking loading without being on the library search path ... OK
* checking dependencies in R code ... OK
* checking S3 generic/method consistency ... OK
* checking replacement functions ... OK
* checking foreign function calls ... OK
* checking R code for possible problems ... OK
* checking Rd files ... OK
* checking Rd metadata ... OK
* checking Rd cross-references ... NOTE
Non-topic package-anchored link(s) in Rd file 'reexports.Rd':
‘[S4Vectors:S4Vectors-internals]{setValidity2}’
See section 'Cross-references' in the 'Writing R Extensions' manual.
* checking for missing documentation entries ... OK
* checking for code/documentation mismatches ... OK
* checking Rd \usage sections ... OK
* checking Rd contents ... OK
* checking for unstated dependencies in examples ... OK
* checking contents of ‘data’ directory ... OK
* checking data for non-ASCII characters ... OK
* checking data for ASCII and uncompressed saves ... OK
* checking files in ‘vignettes’ ... OK
* checking examples ... OK
Examples with CPU (user + system) or elapsed time > 5s
user system elapsed
aminoacid_dist 5.071 0.878 5.419
automorphisms 4.720 0.991 5.158
* checking for unstated dependencies in ‘tests’ ... OK
* checking tests ...
Running ‘spelling.R’
Running ‘testthat.R’
OK
* checking for unstated dependencies in vignettes ... OK
* checking package vignettes ... OK
* checking re-building of vignette outputs ... OK
* checking PDF version of manual ... OK
* DONE
Status: 1 NOTE
See
‘/home/biocbuild/bbs-3.23-bioc/meat/GenomAutomorphism.Rcheck/00check.log’
for details.
GenomAutomorphism.Rcheck/00install.out
############################################################################## ############################################################################## ### ### Running command: ### ### /home/biocbuild/bbs-3.23-bioc/R/bin/R CMD INSTALL GenomAutomorphism ### ############################################################################## ############################################################################## * installing to library ‘/home/biocbuild/bbs-3.23-bioc/R/site-library’ * installing *source* package ‘GenomAutomorphism’ ... ** this is package ‘GenomAutomorphism’ version ‘1.13.0’ ** using staged installation ** R ** data ** inst ** byte-compile and prepare package for lazy loading ** help *** installing help indices *** copying figures ** building package indices ** installing vignettes ** testing if installed package can be loaded from temporary location ** testing if installed package can be loaded from final location ** testing if installed package keeps a record of temporary installation path * DONE (GenomAutomorphism)
GenomAutomorphism.Rcheck/tests/spelling.Rout
R Under development (unstable) (2025-10-20 r88955) -- "Unsuffered Consequences"
Copyright (C) 2025 The R Foundation for Statistical Computing
Platform: x86_64-pc-linux-gnu
R is free software and comes with ABSOLUTELY NO WARRANTY.
You are welcome to redistribute it under certain conditions.
Type 'license()' or 'licence()' for distribution details.
R is a collaborative project with many contributors.
Type 'contributors()' for more information and
'citation()' on how to cite R or R packages in publications.
Type 'demo()' for some demos, 'help()' for on-line help, or
'help.start()' for an HTML browser interface to help.
Type 'q()' to quit R.
> if (requireNamespace("spelling", quietly = TRUE)) {
+ spelling::spell_check_test(
+ vignettes = TRUE, error = FALSE,
+ skip_on_cran = TRUE
+ )
+ }
All Done!
>
> proc.time()
user system elapsed
0.144 0.037 0.169
GenomAutomorphism.Rcheck/tests/testthat.Rout
R Under development (unstable) (2025-10-20 r88955) -- "Unsuffered Consequences"
Copyright (C) 2025 The R Foundation for Statistical Computing
Platform: x86_64-pc-linux-gnu
R is free software and comes with ABSOLUTELY NO WARRANTY.
You are welcome to redistribute it under certain conditions.
Type 'license()' or 'licence()' for distribution details.
R is a collaborative project with many contributors.
Type 'contributors()' for more information and
'citation()' on how to cite R or R packages in publications.
Type 'demo()' for some demos, 'help()' for on-line help, or
'help.start()' for an HTML browser interface to help.
Type 'q()' to quit R.
> library(testthat)
> library(GenomAutomorphism)
>
> test_check("GenomAutomorphism")
[ FAIL 0 | WARN 0 | SKIP 0 | PASS 34 ]
>
> proc.time()
user system elapsed
22.411 2.282 24.424
GenomAutomorphism.Rcheck/GenomAutomorphism-Ex.timings
| name | user | system | elapsed | |
| AutomorphismByCoef | 0.416 | 0.005 | 0.421 | |
| AutomorphismList | 2.298 | 0.151 | 2.449 | |
| CodonMatrix | 0.157 | 0.002 | 0.159 | |
| CodonSeq | 0.332 | 0.002 | 0.334 | |
| GRangesMatrixSeq | 0.178 | 0.007 | 0.184 | |
| ListCodonMatrix | 0.200 | 0.003 | 0.202 | |
| MatrixSeq | 0.107 | 0.002 | 0.110 | |
| aa_phychem_index | 0.091 | 0.010 | 0.100 | |
| aaindex1 | 0.032 | 0.004 | 0.036 | |
| aaindex2 | 0.016 | 0.000 | 0.016 | |
| aaindex3 | 0.01 | 0.00 | 0.01 | |
| aln | 0.056 | 0.000 | 0.055 | |
| aminoacid_dist | 5.071 | 0.878 | 5.419 | |
| as.AutomorphismList | 0.557 | 0.079 | 0.571 | |
| aut3D | 1.254 | 0.317 | 1.351 | |
| autZ125 | 2.447 | 0.772 | 2.426 | |
| autZ5 | 1.039 | 0.308 | 1.179 | |
| autZ64 | 2.143 | 0.622 | 2.578 | |
| autby_coef | 0.298 | 0.013 | 0.312 | |
| autm | 0.041 | 0.001 | 0.042 | |
| autm_3d | 0.050 | 0.005 | 0.054 | |
| autm_z125 | 0.048 | 0.002 | 0.049 | |
| automorphismByRanges | 0.096 | 0.018 | 0.113 | |
| automorphism_bycoef | 0.089 | 0.006 | 0.095 | |
| automorphism_prob | 1.052 | 0.139 | 1.190 | |
| automorphisms | 4.720 | 0.991 | 5.158 | |
| base2codon | 0.053 | 0.001 | 0.054 | |
| base2int | 0.008 | 0.001 | 0.008 | |
| base_methods | 0.378 | 0.052 | 0.430 | |
| brca1_aln | 0.052 | 0.004 | 0.056 | |
| brca1_aln2 | 0.056 | 0.002 | 0.058 | |
| brca1_autm | 0.407 | 0.024 | 0.431 | |
| cdm_z64 | 0.147 | 0.527 | 0.673 | |
| codon_coord | 0.829 | 0.112 | 0.942 | |
| codon_dist | 0.247 | 0.003 | 0.251 | |
| codon_dist_matrix | 1.960 | 0.188 | 2.139 | |
| codon_matrix | 0.627 | 0.065 | 0.692 | |
| conserved_regions | 0.327 | 0.014 | 0.342 | |
| covid_aln | 0.055 | 0.002 | 0.057 | |
| covid_autm | 0.049 | 0.001 | 0.052 | |
| cyc_aln | 0.078 | 0.002 | 0.080 | |
| cyc_autm | 0.067 | 0.001 | 0.067 | |
| dna_phyche | 0.005 | 0.001 | 0.006 | |
| dna_phychem | 0.001 | 0.001 | 0.003 | |
| extract-methods | 0.476 | 0.016 | 0.493 | |
| getAutomorphisms | 0.156 | 0.040 | 0.196 | |
| get_coord | 0.543 | 0.059 | 0.601 | |
| get_mutscore | 0.157 | 0.004 | 0.160 | |
| matrices | 0.507 | 0.002 | 0.510 | |
| mod | 0.001 | 0.001 | 0.003 | |
| modeq | 0.001 | 0.000 | 0.001 | |
| modlineq | 0.002 | 0.001 | 0.003 | |
| mut_type | 0.001 | 0.000 | 0.002 | |
| peptide_phychem_index | 0.110 | 0.003 | 0.112 | |
| reexports | 0.061 | 0.002 | 0.063 | |
| seqranges | 0.594 | 0.050 | 0.644 | |
| slapply | 0.001 | 0.001 | 0.002 | |
| sortByChromAndStart | 0.059 | 0.001 | 0.059 | |
| str2chr | 0 | 0 | 0 | |
| str2dig | 0 | 0 | 0 | |
| translation | 0.847 | 0.000 | 0.847 | |