Back to Multiple platform build/check report for BioC 3.22: simplified long |
|
This page was generated on 2025-04-29 12:10 -0400 (Tue, 29 Apr 2025).
Hostname | OS | Arch (*) | R version | Installed pkgs |
---|---|---|---|---|
nebbiolo2 | Linux (Ubuntu 24.04.1 LTS) | x86_64 | 4.5.0 (2025-04-11) -- "How About a Twenty-Six" | 4722 |
palomino8 | Windows Server 2022 Datacenter | x64 | 4.5.0 (2025-04-11 ucrt) -- "How About a Twenty-Six" | 4496 |
lconway | macOS 12.7.1 Monterey | x86_64 | 4.5.0 Patched (2025-04-21 r88169) -- "How About a Twenty-Six" | 4523 |
kjohnson3 | macOS 13.7.1 Ventura | arm64 | 4.5.0 Patched (2025-04-21 r88169) -- "How About a Twenty-Six" | 4465 |
taishan | Linux (openEuler 24.03 LTS) | aarch64 | 4.5.0 (2025-04-11) -- "How About a Twenty-Six" | 4410 |
Click on any hostname to see more info about the system (e.g. compilers) (*) as reported by 'uname -p', except on Windows and Mac OS X |
Package 817/2302 | Hostname | OS / Arch | INSTALL | BUILD | CHECK | BUILD BIN | ||||||||
GenomAutomorphism 1.11.0 (landing page) Robersy Sanchez
| nebbiolo2 | Linux (Ubuntu 24.04.1 LTS) / x86_64 | OK | OK | OK | ![]() | ||||||||
palomino8 | Windows Server 2022 Datacenter / x64 | OK | OK | OK | OK | ![]() | ||||||||
lconway | macOS 12.7.1 Monterey / x86_64 | OK | OK | OK | OK | ![]() | ||||||||
kjohnson3 | macOS 13.7.1 Ventura / arm64 | OK | OK | OK | OK | ![]() | ||||||||
taishan | Linux (openEuler 24.03 LTS) / aarch64 | OK | OK | OK | ||||||||||
To the developers/maintainers of the GenomAutomorphism package: - Allow up to 24 hours (and sometimes 48 hours) for your latest push to git@git.bioconductor.org:packages/GenomAutomorphism.git to reflect on this report. See Troubleshooting Build Report for more information. - Use the following Renviron settings to reproduce errors and warnings. - If 'R CMD check' started to fail recently on the Linux builder(s) over a missing dependency, add the missing dependency to 'Suggests:' in your DESCRIPTION file. See Renviron.bioc for more information. |
Package: GenomAutomorphism |
Version: 1.11.0 |
Command: /Library/Frameworks/R.framework/Resources/bin/R CMD check --install=check:GenomAutomorphism.install-out.txt --library=/Library/Frameworks/R.framework/Resources/library --no-vignettes --timings GenomAutomorphism_1.11.0.tar.gz |
StartedAt: 2025-04-28 19:59:10 -0400 (Mon, 28 Apr 2025) |
EndedAt: 2025-04-28 20:01:35 -0400 (Mon, 28 Apr 2025) |
EllapsedTime: 145.7 seconds |
RetCode: 0 |
Status: OK |
CheckDir: GenomAutomorphism.Rcheck |
Warnings: 0 |
############################################################################## ############################################################################## ### ### Running command: ### ### /Library/Frameworks/R.framework/Resources/bin/R CMD check --install=check:GenomAutomorphism.install-out.txt --library=/Library/Frameworks/R.framework/Resources/library --no-vignettes --timings GenomAutomorphism_1.11.0.tar.gz ### ############################################################################## ############################################################################## * using log directory ‘/Users/biocbuild/bbs-3.22-bioc/meat/GenomAutomorphism.Rcheck’ * using R version 4.5.0 Patched (2025-04-21 r88169) * using platform: aarch64-apple-darwin20 * R was compiled by Apple clang version 16.0.0 (clang-1600.0.26.6) GNU Fortran (GCC) 14.2.0 * running under: macOS Ventura 13.7.1 * using session charset: UTF-8 * using option ‘--no-vignettes’ * checking for file ‘GenomAutomorphism/DESCRIPTION’ ... OK * this is package ‘GenomAutomorphism’ version ‘1.11.0’ * package encoding: UTF-8 * checking package namespace information ... OK * checking package dependencies ... OK * checking if this is a source package ... OK * checking if there is a namespace ... OK * checking for hidden files and directories ... OK * checking for portable file names ... OK * checking for sufficient/correct file permissions ... OK * checking whether package ‘GenomAutomorphism’ can be installed ... OK * checking installed package size ... OK * checking package directory ... OK * checking ‘build’ directory ... OK * checking DESCRIPTION meta-information ... OK * checking top-level files ... OK * checking for left-over files ... OK * checking index information ... OK * checking package subdirectories ... OK * checking code files for non-ASCII characters ... OK * checking R files for syntax errors ... OK * checking whether the package can be loaded ... OK * checking whether the package can be loaded with stated dependencies ... OK * checking whether the package can be unloaded cleanly ... OK * checking whether the namespace can be loaded with stated dependencies ... OK * checking whether the namespace can be unloaded cleanly ... OK * checking dependencies in R code ... OK * checking S3 generic/method consistency ... OK * checking replacement functions ... OK * checking foreign function calls ... OK * checking R code for possible problems ... OK * checking Rd files ... OK * checking Rd metadata ... OK * checking Rd cross-references ... NOTE Non-topic package-anchored link(s) in Rd file 'reexports.Rd': ‘[S4Vectors:S4Vectors-internals]{setValidity2}’ See section 'Cross-references' in the 'Writing R Extensions' manual. * checking for missing documentation entries ... OK * checking for code/documentation mismatches ... OK * checking Rd \usage sections ... OK * checking Rd contents ... OK * checking for unstated dependencies in examples ... OK * checking contents of ‘data’ directory ... OK * checking data for non-ASCII characters ... OK * checking data for ASCII and uncompressed saves ... OK * checking files in ‘vignettes’ ... OK * checking examples ... OK Examples with CPU (user + system) or elapsed time > 5s user system elapsed automorphisms 2.951 0.070 21.657 aut3D 0.914 0.081 7.375 autZ64 0.924 0.026 7.316 autZ125 0.772 0.018 5.748 autZ5 0.689 0.024 6.862 * checking for unstated dependencies in ‘tests’ ... OK * checking tests ... Running ‘spelling.R’ Running ‘testthat.R’ OK * checking for unstated dependencies in vignettes ... OK * checking package vignettes ... OK * checking running R code from vignettes ... SKIPPED * checking re-building of vignette outputs ... SKIPPED * checking PDF version of manual ... OK * DONE Status: 1 NOTE See ‘/Users/biocbuild/bbs-3.22-bioc/meat/GenomAutomorphism.Rcheck/00check.log’ for details.
GenomAutomorphism.Rcheck/00install.out
############################################################################## ############################################################################## ### ### Running command: ### ### /Library/Frameworks/R.framework/Resources/bin/R CMD INSTALL GenomAutomorphism ### ############################################################################## ############################################################################## * installing to library ‘/Library/Frameworks/R.framework/Versions/4.5-arm64/Resources/library’ * installing *source* package ‘GenomAutomorphism’ ... ** this is package ‘GenomAutomorphism’ version ‘1.11.0’ ** using staged installation ** R ** data ** inst ** byte-compile and prepare package for lazy loading ** help *** installing help indices *** copying figures ** building package indices ** installing vignettes ** testing if installed package can be loaded from temporary location ** testing if installed package can be loaded from final location ** testing if installed package keeps a record of temporary installation path * DONE (GenomAutomorphism)
GenomAutomorphism.Rcheck/tests/spelling.Rout
R version 4.5.0 Patched (2025-04-21 r88169) -- "How About a Twenty-Six" Copyright (C) 2025 The R Foundation for Statistical Computing Platform: aarch64-apple-darwin20 R is free software and comes with ABSOLUTELY NO WARRANTY. You are welcome to redistribute it under certain conditions. Type 'license()' or 'licence()' for distribution details. R is a collaborative project with many contributors. Type 'contributors()' for more information and 'citation()' on how to cite R or R packages in publications. Type 'demo()' for some demos, 'help()' for on-line help, or 'help.start()' for an HTML browser interface to help. Type 'q()' to quit R. > if (requireNamespace("spelling", quietly = TRUE)) { + spelling::spell_check_test( + vignettes = TRUE, error = FALSE, + skip_on_cran = TRUE + ) + } NULL > > proc.time() user system elapsed 0.069 0.020 0.085
GenomAutomorphism.Rcheck/tests/testthat.Rout
R version 4.5.0 Patched (2025-04-21 r88169) -- "How About a Twenty-Six" Copyright (C) 2025 The R Foundation for Statistical Computing Platform: aarch64-apple-darwin20 R is free software and comes with ABSOLUTELY NO WARRANTY. You are welcome to redistribute it under certain conditions. Type 'license()' or 'licence()' for distribution details. R is a collaborative project with many contributors. Type 'contributors()' for more information and 'citation()' on how to cite R or R packages in publications. Type 'demo()' for some demos, 'help()' for on-line help, or 'help.start()' for an HTML browser interface to help. Type 'q()' to quit R. > library(testthat) > library(GenomAutomorphism) > > test_check("GenomAutomorphism") [ FAIL 0 | WARN 0 | SKIP 0 | PASS 34 ] > > proc.time() user system elapsed 10.303 0.437 27.081
GenomAutomorphism.Rcheck/GenomAutomorphism-Ex.timings
name | user | system | elapsed | |
AutomorphismByCoef | 0.143 | 0.003 | 0.145 | |
AutomorphismList | 0.915 | 0.010 | 0.926 | |
CodonMatrix | 0.059 | 0.001 | 0.060 | |
CodonSeq | 0.124 | 0.009 | 0.135 | |
GRangesMatrixSeq | 0.069 | 0.006 | 0.074 | |
ListCodonMatrix | 0.068 | 0.001 | 0.069 | |
MatrixSeq | 0.042 | 0.002 | 0.045 | |
aa_phychem_index | 0.040 | 0.004 | 0.044 | |
aaindex1 | 0.015 | 0.001 | 0.017 | |
aaindex2 | 0.006 | 0.000 | 0.007 | |
aaindex3 | 0.004 | 0.000 | 0.005 | |
aln | 0.024 | 0.002 | 0.026 | |
aminoacid_dist | 1.473 | 0.482 | 3.889 | |
as.AutomorphismList | 0.191 | 0.034 | 0.225 | |
aut3D | 0.914 | 0.081 | 7.375 | |
autZ125 | 0.772 | 0.018 | 5.748 | |
autZ5 | 0.689 | 0.024 | 6.862 | |
autZ64 | 0.924 | 0.026 | 7.316 | |
autby_coef | 0.105 | 0.003 | 0.109 | |
autm | 0.024 | 0.002 | 0.027 | |
autm_3d | 0.037 | 0.003 | 0.040 | |
autm_z125 | 0.030 | 0.002 | 0.032 | |
automorphismByRanges | 0.045 | 0.004 | 0.048 | |
automorphism_bycoef | 0.044 | 0.003 | 0.046 | |
automorphism_prob | 0.325 | 0.012 | 0.337 | |
automorphisms | 2.951 | 0.070 | 21.657 | |
base2codon | 0.023 | 0.002 | 0.026 | |
base2int | 0.002 | 0.000 | 0.003 | |
base_methods | 0.124 | 0.012 | 0.137 | |
brca1_aln | 0.020 | 0.003 | 0.022 | |
brca1_aln2 | 0.023 | 0.003 | 0.025 | |
brca1_autm | 0.151 | 0.002 | 0.154 | |
cdm_z64 | 0.066 | 0.139 | 0.207 | |
codon_coord | 0.445 | 0.007 | 0.451 | |
codon_dist | 0.094 | 0.004 | 0.097 | |
codon_dist_matrix | 0.014 | 0.005 | 2.301 | |
codon_matrix | 0.159 | 0.006 | 0.167 | |
conserved_regions | 0.120 | 0.002 | 0.123 | |
covid_aln | 0.022 | 0.001 | 0.023 | |
covid_autm | 0.027 | 0.001 | 0.028 | |
cyc_aln | 0.028 | 0.001 | 0.029 | |
cyc_autm | 0.044 | 0.001 | 0.045 | |
dna_phyche | 0.002 | 0.000 | 0.002 | |
dna_phychem | 0 | 0 | 0 | |
extract-methods | 0.164 | 0.002 | 0.166 | |
getAutomorphisms | 0.067 | 0.003 | 0.069 | |
get_coord | 0.249 | 0.003 | 0.251 | |
get_mutscore | 0.060 | 0.002 | 0.063 | |
matrices | 0.234 | 0.005 | 0.239 | |
mod | 0.000 | 0.000 | 0.001 | |
modeq | 0.001 | 0.000 | 0.001 | |
modlineq | 0.000 | 0.000 | 0.001 | |
mut_type | 0.000 | 0.000 | 0.001 | |
peptide_phychem_index | 0.045 | 0.003 | 0.047 | |
reexports | 0.043 | 0.003 | 0.046 | |
seqranges | 0.245 | 0.004 | 0.252 | |
slapply | 0 | 0 | 0 | |
sortByChromAndStart | 0.018 | 0.000 | 0.018 | |
str2chr | 0 | 0 | 0 | |
str2dig | 0.001 | 0.000 | 0.000 | |
translation | 0.417 | 0.003 | 0.420 | |