Back to Multiple platform build/check report for BioC 3.21:   simplified   long
ABC[D]EFGHIJKLMNOPQRSTUVWXYZ

This page was generated on 2025-01-28 11:47 -0500 (Tue, 28 Jan 2025).

HostnameOSArch (*)R versionInstalled pkgs
nebbiolo1Linux (Ubuntu 24.04.1 LTS)x86_64R Under development (unstable) (2025-01-20 r87609) -- "Unsuffered Consequences" 4659
palomino7Windows Server 2022 Datacenterx64R Under development (unstable) (2025-01-21 r87610 ucrt) -- "Unsuffered Consequences" 4454
lconwaymacOS 12.7.1 Montereyx86_64R Under development (unstable) (2025-01-22 r87618) -- "Unsuffered Consequences" 4465
kjohnson3macOS 13.7.1 Venturaarm64R Under development (unstable) (2025-01-20 r87609) -- "Unsuffered Consequences" 4419
kunpeng2Linux (openEuler 22.03 LTS-SP1)aarch64R Under development (unstable) (2024-11-24 r87369) -- "Unsuffered Consequences" 4409
Click on any hostname to see more info about the system (e.g. compilers)      (*) as reported by 'uname -p', except on Windows and Mac OS X

Package 499/2286HostnameOS / ArchINSTALLBUILDCHECKBUILD BIN
DAPAR 1.39.0  (landing page)
Samuel Wieczorek
Snapshot Date: 2025-01-27 13:40 -0500 (Mon, 27 Jan 2025)
git_url: https://git.bioconductor.org/packages/DAPAR
git_branch: devel
git_last_commit: 2500d2a
git_last_commit_date: 2024-10-29 10:04:09 -0500 (Tue, 29 Oct 2024)
nebbiolo1Linux (Ubuntu 24.04.1 LTS) / x86_64  OK    OK    OK  UNNEEDED, same version is already published
palomino7Windows Server 2022 Datacenter / x64  OK    OK    OK    OK  UNNEEDED, same version is already published
lconwaymacOS 12.7.1 Monterey / x86_64  OK    OK    OK    OK  UNNEEDED, same version is already published
kjohnson3macOS 13.7.1 Ventura / arm64  OK    OK    OK    OK  UNNEEDED, same version is already published
kunpeng2Linux (openEuler 22.03 LTS-SP1) / aarch64  OK    OK    OK  


CHECK results for DAPAR on kunpeng2

To the developers/maintainers of the DAPAR package:
- Allow up to 24 hours (and sometimes 48 hours) for your latest push to git@git.bioconductor.org:packages/DAPAR.git to reflect on this report. See Troubleshooting Build Report for more information.
- Use the following Renviron settings to reproduce errors and warnings.
- If 'R CMD check' started to fail recently on the Linux builder(s) over a missing dependency, add the missing dependency to 'Suggests:' in your DESCRIPTION file. See Renviron.bioc for more information.
- See Martin Grigorov's blog post for how to debug Linux ARM64 related issues on a x86_64 host.

raw results


Summary

Package: DAPAR
Version: 1.39.0
Command: /home/biocbuild/R/R/bin/R CMD check --install=check:DAPAR.install-out.txt --library=/home/biocbuild/R/R/site-library --no-vignettes --timings DAPAR_1.39.0.tar.gz
StartedAt: 2025-01-28 09:44:28 -0000 (Tue, 28 Jan 2025)
EndedAt: 2025-01-28 09:54:52 -0000 (Tue, 28 Jan 2025)
EllapsedTime: 623.6 seconds
RetCode: 0
Status:   OK  
CheckDir: DAPAR.Rcheck
Warnings: 0

Command output

##############################################################################
##############################################################################
###
### Running command:
###
###   /home/biocbuild/R/R/bin/R CMD check --install=check:DAPAR.install-out.txt --library=/home/biocbuild/R/R/site-library --no-vignettes --timings DAPAR_1.39.0.tar.gz
###
##############################################################################
##############################################################################


* using log directory ‘/home/biocbuild/bbs-3.21-bioc/meat/DAPAR.Rcheck’
* using R Under development (unstable) (2024-11-24 r87369)
* using platform: aarch64-unknown-linux-gnu
* R was compiled by
    aarch64-unknown-linux-gnu-gcc (GCC) 14.2.0
    GNU Fortran (GCC) 14.2.0
* running under: openEuler 24.03 (LTS)
* using session charset: UTF-8
* using option ‘--no-vignettes’
* checking for file ‘DAPAR/DESCRIPTION’ ... OK
* checking extension type ... Package
* this is package ‘DAPAR’ version ‘1.39.0’
* package encoding: UTF-8
* checking package namespace information ... OK
* checking package dependencies ... INFO
Vignette dependency required without any vignettes: ‘knitr’
* checking if this is a source package ... OK
* checking if there is a namespace ... OK
* checking for hidden files and directories ... OK
* checking for portable file names ... OK
* checking for sufficient/correct file permissions ... OK
* checking whether package ‘DAPAR’ can be installed ... OK
* checking installed package size ... OK
* checking package directory ... OK
* checking DESCRIPTION meta-information ... OK
* checking top-level files ... OK
* checking for left-over files ... OK
* checking index information ... OK
* checking package subdirectories ... OK
* checking code files for non-ASCII characters ... OK
* checking R files for syntax errors ... OK
* checking whether the package can be loaded ... OK
* checking whether the package can be loaded with stated dependencies ... OK
* checking whether the package can be unloaded cleanly ... OK
* checking whether the namespace can be loaded with stated dependencies ... OK
* checking whether the namespace can be unloaded cleanly ... OK
* checking loading without being on the library search path ... OK
* checking whether startup messages can be suppressed ... OK
* checking dependencies in R code ... OK
* checking S3 generic/method consistency ... OK
* checking replacement functions ... OK
* checking foreign function calls ... OK
* checking R code for possible problems ... NOTE
Check_Dataset_Validity: no visible global function definition for
  ‘exprs’
OWAnova: no visible global function definition for ‘aov’
aggregateIterParallel: no visible binding for global variable ‘cond’
averageIntensities: no visible binding for global variable ‘condition’
averageIntensities: no visible binding for global variable ‘feature’
averageIntensities: no visible binding for global variable ‘intensity’
createMSnset: no visible global function definition for
  ‘installed.packages’
createMSnset: no visible binding for global variable ‘Prostar.loc’
createMSnset2: no visible global function definition for
  ‘installed.packages’
createMSnset2: no visible binding for global variable ‘Prostar.loc’
diffAnaVolcanoplot_rCharts: no visible binding for global variable ‘x’
diffAnaVolcanoplot_rCharts: no visible binding for global variable ‘y’
diffAnaVolcanoplot_rCharts: no visible binding for global variable ‘g’
display.CC.visNet: no visible binding for global variable
  ‘layout_nicely’
getTextForGOAnalysis: no visible binding for global variable
  ‘textGOParams’
getTextForGOAnalysis: no visible binding for global variable ‘input’
globalAdjPval: no visible global function definition for ‘stack’
heatmapForMissingValues: no visible binding for global variable ‘par’
limmaCompleteTest: no visible binding for global variable ‘A’
limmaCompleteTest: no visible binding for global variable ‘B’
limmaCompleteTest: no visible binding for global variable ‘P.Value’
pepa.test: no visible global function definition for ‘nodes<-’
testAnovaModels : <anonymous>: no visible global function definition
  for ‘TukeyHSD’
visualizeClusters: no visible binding for global variable
  ‘adjusted_pvalues’
visualizeClusters: no visible binding for global variable ‘Condition’
visualizeClusters: no visible binding for global variable ‘Intensity’
visualizeClusters: no visible binding for global variable
  ‘FDR_threshold’
visualizeClusters: no visible binding for global variable ‘feature’
wrapperClassic1wayAnova: no visible binding for global variable
  ‘Pr(>F)1’
wrapperRunClustering: no visible global function definition for ‘str_c’
Undefined global functions or variables:
  A B Condition FDR_threshold Intensity P.Value Pr(>F)1 Prostar.loc
  TukeyHSD adjusted_pvalues aov cond condition exprs feature g input
  installed.packages intensity layout_nicely nodes<- par stack str_c
  textGOParams x y
Consider adding
  importFrom("graphics", "par")
  importFrom("stats", "TukeyHSD", "aov")
  importFrom("utils", "installed.packages", "stack")
to your NAMESPACE file.
* checking Rd files ... OK
* checking Rd metadata ... OK
* checking Rd cross-references ... OK
* checking for missing documentation entries ... OK
* checking for code/documentation mismatches ... OK
* checking Rd \usage sections ... OK
* checking Rd contents ... OK
* checking for unstated dependencies in examples ... OK
* checking examples ... OK
Examples with CPU (user + system) or elapsed time > 5s
                                   user system elapsed
wrapper.compareNormalizationD_HC 55.000 13.187  70.045
wrapper.dapar.impute.mi          20.551  0.605  21.274
barplotEnrichGO_HC                8.709  0.914   9.868
barplotGroupGO_HC                 6.720  0.379   7.137
scatterplotEnrichGO_HC            5.238  0.279   5.550
group_GO                          5.313  0.179   5.545
enrich_GO                         5.219  0.255   5.523
* checking for unstated dependencies in ‘tests’ ... OK
* checking tests ...
  Running ‘testthat.R’
 OK
* checking PDF version of manual ... OK
* DONE

Status: 1 NOTE
See
  ‘/home/biocbuild/bbs-3.21-bioc/meat/DAPAR.Rcheck/00check.log’
for details.


Installation output

DAPAR.Rcheck/00install.out

##############################################################################
##############################################################################
###
### Running command:
###
###   /home/biocbuild/R/R/bin/R CMD INSTALL DAPAR
###
##############################################################################
##############################################################################


* installing to library ‘/home/biocbuild/R/R-4.5.0-devel_2024-11-24/site-library’
* installing *source* package ‘DAPAR’ ...
** using staged installation
** R
** inst
** byte-compile and prepare package for lazy loading
** help
*** installing help indices
** building package indices
** testing if installed package can be loaded from temporary location
** testing if installed package can be loaded from final location
** testing if installed package keeps a record of temporary installation path
* DONE (DAPAR)

Tests output

DAPAR.Rcheck/tests/testthat.Rout


R Under development (unstable) (2024-11-24 r87369) -- "Unsuffered Consequences"
Copyright (C) 2024 The R Foundation for Statistical Computing
Platform: aarch64-unknown-linux-gnu

R is free software and comes with ABSOLUTELY NO WARRANTY.
You are welcome to redistribute it under certain conditions.
Type 'license()' or 'licence()' for distribution details.

R is a collaborative project with many contributors.
Type 'contributors()' for more information and
'citation()' on how to cite R or R packages in publications.

Type 'demo()' for some demos, 'help()' for on-line help, or
'help.start()' for an HTML browser interface to help.
Type 'q()' to quit R.

> library(testthat)
> library(DAPAR)

This is the 'DAPAR' version 1.39.0.

  To get started, visit
    http://www.prostar-proteomics.org/


> 
> test_check("DAPAR")

 Iterations: 

 1 / 1  - Imputation MNAR OK - 
Imputation MCAR in progress - 
3 % - 6 % - 9 % - 12 % - 15 % - 18 % - 21 % - 24 % - 27 % - 30 % - 33 % - 36 % - 39 % - 42 % - 45 % - 48 % - 51 % - 54 % - 57 % - 60 % - 63 % - 66 % - 69 % - 72 % - 75 % - 78 % - 81 % - 84 % - 87 % - 90 % - 93 % - 96 % - 99 % - 
 Iterations: 

 1 / 1  - Imputation MNAR OK - 
Imputation MCAR in progress - 
3 % - 6 % - 9 % - 12 % - 15 % - 18 % - 21 % - 24 % - 27 % - 30 % - 33 % - 36 % - 39 % - 42 % - 45 % - 48 % - 51 % - 54 % - 57 % - 60 % - 63 % - 66 % - 69 % - 72 % - 75 % - 78 % - 81 % - 84 % - 87 % - 90 % - 93 % - 96 % - 99 % - 
 Imputation in condition  1 ...
 In progress: 10 % - 20 % - 30 % - 40 % - 50 % - 60 % - 70 % - 80 % - 90 % - 100 % - 
 Imputation in condition  2 ...
 In progress: 10 % - 20 % - 30 % - 40 % - 50 % - 60 % - 70 % - 80 % - 90 % - 100 % - [ FAIL 0 | WARN 18 | SKIP 0 | PASS 66 ]

[ FAIL 0 | WARN 18 | SKIP 0 | PASS 66 ]
> 
> proc.time()
   user  system elapsed 
 38.133   0.919  39.601 

Example timings

DAPAR.Rcheck/DAPAR-Ex.timings

nameusersystemelapsed
AggregateMetacell0.4170.0240.443
BuildAdjacencyMatrix0.3110.0040.316
BuildColumnToProteinDataset0.3950.0200.416
BuildMetaCell0.6700.0200.697
CVDistD_HC4.2020.2474.513
Children0.0060.0000.006
CountPep0.3250.0000.327
ExtendPalette0.0370.0000.039
GOAnalysisSave000
GetCC2.7160.1202.843
GetColorsForConditions0.2510.0080.258
GetDetailedNbPeptides0.2840.0040.288
GetDetailedNbPeptidesUsed000
GetIndices_BasedOnConditions0.280.000.28
GetIndices_MetacellFiltering0.2850.0000.286
GetIndices_WholeLine0.2690.0080.278
GetIndices_WholeMatrix0.2770.0000.278
GetKeyId0.2440.0120.256
GetMatAdj0.3260.0040.331
GetMetacell000
GetMetacellTags0.2710.0160.288
GetNbPeptidesUsed0.2750.0080.283
GetNbTags000
GetSoftAvailables0.0000.0000.001
GetTypeofData0.2460.0120.259
Get_AllComparisons0.2720.0080.283
GlobalQuantileAlignment0.2900.0000.294
GraphPepProt0.2860.0040.290
LH0000
LH0.lm000
LH1000
LH1.lm0.0000.0000.001
LOESS1.6820.0081.693
MeanCentering0.3120.0040.317
MetaCellFiltering0.4960.0040.502
MetacellFilteringScope000
Metacell_DIA_NN0.5750.0000.576
Metacell_generic0.4840.0000.485
Metacell_maxquant0.5370.0040.542
Metacell_proline0.4860.0200.507
NumericalFiltering0.3260.0000.327
NumericalgetIndicesOfLinesToRemove0.2720.0040.277
OWAnova0.0080.0000.008
QuantileCentering0.2640.0000.264
SetCC2.5640.1152.686
SetMatAdj0.3360.0000.337
Set_POV_MEC_tags0.2840.0000.285
StringBasedFiltering0.3160.0040.320
StringBasedFiltering20.3100.0040.315
SumByColumns1.6250.0281.657
SymFilteringOperators000
UpdateMetacellAfterImputation0.2950.0000.295
aggregateIter0.5250.0000.526
aggregateIterParallel000
aggregateMean0.3860.0080.395
aggregateSum0.4140.0040.419
aggregateTopn0.3750.0080.383
applyAnovasOnProteins0.0870.0000.087
averageIntensities0.5150.0680.624
barplotEnrichGO_HC8.7090.9149.868
barplotGroupGO_HC6.7200.3797.137
boxPlotD_HC0.3290.0320.362
buildGraph1.7180.0401.761
check.conditions0.2450.0040.250
check.design0.2510.0000.251
checkClusterability3.2110.8574.164
classic1wayAnova000
compareNormalizationD_HC0.1220.0160.137
compute.selection.table0.8370.0440.895
compute_t_tests1.4310.1121.547
corrMatrixD_HC0.4060.0280.435
createMSnset1.9580.0922.056
createMSnset21.9890.0512.048
dapar_hc_ExportMenu0.1710.0270.201
dapar_hc_chart0.0820.0040.089
deleteLinesFromIndices0.3150.0000.319
densityPlotD_HC3.1170.5233.656
diffAnaComputeAdjustedPValues0.1630.0040.168
diffAnaComputeFDR000
diffAnaGetSignificant0.2680.0200.288
diffAnaSave0.2300.0360.267
diffAnaVolcanoplot0.1560.0120.171
diffAnaVolcanoplot_rCharts0.3860.0660.465
display.CC.visNet1.8760.0791.968
enrich_GO5.2190.2555.523
finalizeAggregation000
findMECBlock0.3050.0080.314
formatHSDResults000
formatLimmaResult0.1490.0080.159
formatPHResults000
formatPHTResults000
fudge2LRT000
get.pep.prot.cc1.7930.0631.860
getDesignLevel0.2480.0040.252
getIndicesConditions0.2450.0040.250
getIndicesOfLinesToRemove0.2720.0040.277
getListNbValuesInLines0.2470.0000.246
getNumberOf0.2740.0000.276
getNumberOfEmptyLines0.2920.0000.294
getPourcentageOfMV0.2750.0040.280
getProcessingInfo0.2490.0000.249
getProteinsStats0.2870.0040.293
getQuantile4Imp0.0580.0000.058
getTextForAggregation000
getTextForAnaDiff0.0010.0000.000
getTextForFiltering0.0010.0000.000
getTextForGOAnalysis000
getTextForHypothesisTest0.0000.0000.001
getTextForNewDataset0.0000.0030.002
getTextForNormalization0.0000.0010.000
getTextForpeptideImputation000
getTextForproteinImputation0.0000.0000.001
globalAdjPval0.4830.0400.532
group_GO5.3130.1795.545
hc_logFC_DensityPlot0.6300.1730.835
hc_mvTypePlot20.9410.1571.129
heatmapD0.5780.0170.605
heatmapForMissingValues0.1690.0120.184
histPValue_HC0.2210.0280.255
impute.pa20.3190.0190.342
inner.aggregate.iter0.3510.0000.354
inner.aggregate.topn0.3720.0080.381
inner.mean0.3030.0040.308
inner.sum0.3040.0050.309
is.subset0.0000.0010.001
limmaCompleteTest1.7800.0541.848
listSheets000
make.contrast0.2750.0000.277
make.design.10.4470.0040.453
make.design.20.2670.0040.272
make.design.30.2710.0000.272
make.design0.2650.0040.270
match.metacell0.2880.0120.301
metacell.def0.0030.0030.006
metacellHisto_HC0.3410.0120.355
metacellPerLinesHistoPerCondition_HC0.4740.0350.515
metacellPerLinesHisto_HC0.6390.0760.725
metacombine0.1850.0080.195
mvImage2.7690.1352.937
my_hc_ExportMenu0.2020.0440.250
my_hc_chart0.1760.0190.198
nonzero0.0240.0000.025
normalizeMethods.dapar000
pepa.test0.3030.0040.308
pkgs.require0.0000.0000.001
plotJitter1.8740.0121.890
plotJitter_rCharts1.7630.0801.847
plotPCA_Eigen0.3440.0160.363
plotPCA_Eigen_hc0.2520.0000.253
plotPCA_Ind0.2620.0000.265
plotPCA_Var0.2530.0000.254
postHocTest0.0010.0000.000
proportionConRev_HC0.0560.0160.073
rbindMSnset0.3800.0080.388
reIntroduceMEC0.3300.0040.334
readExcel0.0000.0000.001
removeLines0.3070.0040.312
samLRT000
saveParameters0.2520.0040.257
scatterplotEnrichGO_HC5.2380.2795.550
search.metacell.tags0.0110.0080.020
separateAdjPval0.1660.0120.178
splitAdjacencyMat0.3010.0120.315
test.design0.2800.0000.281
testAnovaModels0.0890.0120.103
thresholdpval4fdr000
translatedRandomBeta0.0010.0030.002
univ_AnnotDbPkg0.2100.0290.242
violinPlotD0.3390.0280.376
visualizeClusters1.6000.2021.840
vsn0.6950.0080.706
wrapper.CVDistD_HC2.0210.3562.387
wrapper.compareNormalizationD_HC55.00013.18770.045
wrapper.corrMatrixD_HC0.4060.0230.431
wrapper.dapar.impute.mi20.551 0.60521.274
wrapper.heatmapD0.5270.0070.535
wrapper.impute.KNN0.3000.0080.310
wrapper.impute.detQuant0.3500.0000.352
wrapper.impute.fixedValue0.3350.0200.358
wrapper.impute.mle0.3020.0040.307
wrapper.impute.pa0.1110.0080.121
wrapper.impute.pa20.2820.0310.316
wrapper.impute.slsa0.4750.0270.507
wrapper.mvImage0.1440.0160.161
wrapper.normalizeD0.2660.0080.275
wrapper.pca0.2000.0080.209
wrapperCalibrationPlot0.1760.0240.203
wrapperClassic1wayAnova000
wrapperRunClustering2.5280.2352.798
write.excel0.7260.0680.810
writeMSnsetToCSV0.2730.0080.291
writeMSnsetToExcel1.0160.2491.292