Back to Multiple platform build/check report for BioC 3.21:   simplified   long
ABC[D]EFGHIJKLMNOPQRSTUVWXYZ

This page was generated on 2025-02-17 11:42 -0500 (Mon, 17 Feb 2025).

HostnameOSArch (*)R versionInstalled pkgs
nebbiolo1Linux (Ubuntu 24.04.1 LTS)x86_64R Under development (unstable) (2025-01-20 r87609) -- "Unsuffered Consequences" 4720
palomino7Windows Server 2022 Datacenterx64R Under development (unstable) (2025-01-21 r87610 ucrt) -- "Unsuffered Consequences" 4482
lconwaymacOS 12.7.1 Montereyx86_64R Under development (unstable) (2025-01-22 r87618) -- "Unsuffered Consequences" 4493
kjohnson3macOS 13.7.1 Venturaarm64R Under development (unstable) (2025-01-20 r87609) -- "Unsuffered Consequences" 4446
Click on any hostname to see more info about the system (e.g. compilers)      (*) as reported by 'uname -p', except on Windows and Mac OS X

Package 503/2295HostnameOS / ArchINSTALLBUILDCHECKBUILD BIN
DAPAR 1.39.0  (landing page)
Samuel Wieczorek
Snapshot Date: 2025-02-16 13:40 -0500 (Sun, 16 Feb 2025)
git_url: https://git.bioconductor.org/packages/DAPAR
git_branch: devel
git_last_commit: 2500d2a
git_last_commit_date: 2024-10-29 10:04:09 -0500 (Tue, 29 Oct 2024)
nebbiolo1Linux (Ubuntu 24.04.1 LTS) / x86_64  OK    OK    OK  UNNEEDED, same version is already published
palomino7Windows Server 2022 Datacenter / x64  OK    OK    OK    OK  UNNEEDED, same version is already published
lconwaymacOS 12.7.1 Monterey / x86_64  OK    OK    OK    OK  UNNEEDED, same version is already published
kjohnson3macOS 13.7.1 Ventura / arm64  OK    OK    OK    OK  UNNEEDED, same version is already published


CHECK results for DAPAR on lconway

To the developers/maintainers of the DAPAR package:
- Allow up to 24 hours (and sometimes 48 hours) for your latest push to git@git.bioconductor.org:packages/DAPAR.git to reflect on this report. See Troubleshooting Build Report for more information.
- Use the following Renviron settings to reproduce errors and warnings.
- If 'R CMD check' started to fail recently on the Linux builder(s) over a missing dependency, add the missing dependency to 'Suggests:' in your DESCRIPTION file. See Renviron.bioc for more information.

raw results


Summary

Package: DAPAR
Version: 1.39.0
Command: /Library/Frameworks/R.framework/Resources/bin/R CMD check --install=check:DAPAR.install-out.txt --library=/Library/Frameworks/R.framework/Resources/library --no-vignettes --timings DAPAR_1.39.0.tar.gz
StartedAt: 2025-02-16 19:47:25 -0500 (Sun, 16 Feb 2025)
EndedAt: 2025-02-16 19:57:09 -0500 (Sun, 16 Feb 2025)
EllapsedTime: 583.5 seconds
RetCode: 0
Status:   OK  
CheckDir: DAPAR.Rcheck
Warnings: 0

Command output

##############################################################################
##############################################################################
###
### Running command:
###
###   /Library/Frameworks/R.framework/Resources/bin/R CMD check --install=check:DAPAR.install-out.txt --library=/Library/Frameworks/R.framework/Resources/library --no-vignettes --timings DAPAR_1.39.0.tar.gz
###
##############################################################################
##############################################################################


* using log directory ‘/Users/biocbuild/bbs-3.21-bioc/meat/DAPAR.Rcheck’
* using R Under development (unstable) (2025-01-22 r87618)
* using platform: x86_64-apple-darwin20
* R was compiled by
    Apple clang version 14.0.0 (clang-1400.0.29.202)
    GNU Fortran (GCC) 14.2.0
* running under: macOS Monterey 12.7.6
* using session charset: UTF-8
* using option ‘--no-vignettes’
* checking for file ‘DAPAR/DESCRIPTION’ ... OK
* checking extension type ... Package
* this is package ‘DAPAR’ version ‘1.39.0’
* package encoding: UTF-8
* checking package namespace information ... OK
* checking package dependencies ... INFO
Vignette dependency required without any vignettes: ‘knitr’
* checking if this is a source package ... OK
* checking if there is a namespace ... OK
* checking for hidden files and directories ... OK
* checking for portable file names ... OK
* checking for sufficient/correct file permissions ... OK
* checking whether package ‘DAPAR’ can be installed ... OK
* checking installed package size ... OK
* checking package directory ... OK
* checking DESCRIPTION meta-information ... OK
* checking top-level files ... OK
* checking for left-over files ... OK
* checking index information ... OK
* checking package subdirectories ... OK
* checking code files for non-ASCII characters ... OK
* checking R files for syntax errors ... OK
* checking whether the package can be loaded ... OK
* checking whether the package can be loaded with stated dependencies ... OK
* checking whether the package can be unloaded cleanly ... OK
* checking whether the namespace can be loaded with stated dependencies ... OK
* checking whether the namespace can be unloaded cleanly ... OK
* checking whether startup messages can be suppressed ... OK
* checking dependencies in R code ... OK
* checking S3 generic/method consistency ... OK
* checking replacement functions ... OK
* checking foreign function calls ... OK
* checking R code for possible problems ... NOTE
Check_Dataset_Validity: no visible global function definition for
  ‘exprs’
OWAnova: no visible global function definition for ‘aov’
aggregateIterParallel: no visible binding for global variable ‘cond’
averageIntensities: no visible binding for global variable ‘condition’
averageIntensities: no visible binding for global variable ‘feature’
averageIntensities: no visible binding for global variable ‘intensity’
createMSnset: no visible global function definition for
  ‘installed.packages’
createMSnset: no visible binding for global variable ‘Prostar.loc’
createMSnset2: no visible global function definition for
  ‘installed.packages’
createMSnset2: no visible binding for global variable ‘Prostar.loc’
diffAnaVolcanoplot_rCharts: no visible binding for global variable ‘x’
diffAnaVolcanoplot_rCharts: no visible binding for global variable ‘y’
diffAnaVolcanoplot_rCharts: no visible binding for global variable ‘g’
display.CC.visNet: no visible binding for global variable
  ‘layout_nicely’
getTextForGOAnalysis: no visible binding for global variable
  ‘textGOParams’
getTextForGOAnalysis: no visible binding for global variable ‘input’
globalAdjPval: no visible global function definition for ‘stack’
heatmapForMissingValues: no visible binding for global variable ‘par’
limmaCompleteTest: no visible binding for global variable ‘A’
limmaCompleteTest: no visible binding for global variable ‘B’
limmaCompleteTest: no visible binding for global variable ‘P.Value’
pepa.test: no visible global function definition for ‘nodes<-’
testAnovaModels : <anonymous>: no visible global function definition
  for ‘TukeyHSD’
visualizeClusters: no visible binding for global variable
  ‘adjusted_pvalues’
visualizeClusters: no visible binding for global variable ‘Condition’
visualizeClusters: no visible binding for global variable ‘Intensity’
visualizeClusters: no visible binding for global variable
  ‘FDR_threshold’
visualizeClusters: no visible binding for global variable ‘feature’
wrapperClassic1wayAnova: no visible binding for global variable
  ‘Pr(>F)1’
wrapperRunClustering: no visible global function definition for ‘str_c’
Undefined global functions or variables:
  A B Condition FDR_threshold Intensity P.Value Pr(>F)1 Prostar.loc
  TukeyHSD adjusted_pvalues aov cond condition exprs feature g input
  installed.packages intensity layout_nicely nodes<- par stack str_c
  textGOParams x y
Consider adding
  importFrom("graphics", "par")
  importFrom("stats", "TukeyHSD", "aov")
  importFrom("utils", "installed.packages", "stack")
to your NAMESPACE file.
* checking Rd files ... OK
* checking Rd metadata ... OK
* checking Rd cross-references ... OK
* checking for missing documentation entries ... OK
* checking for code/documentation mismatches ... OK
* checking Rd \usage sections ... OK
* checking Rd contents ... OK
* checking for unstated dependencies in examples ... OK
* checking examples ... OK
Examples with CPU (user + system) or elapsed time > 5s
                                   user system elapsed
wrapper.compareNormalizationD_HC 61.367 30.668  91.932
wrapper.dapar.impute.mi          15.482  1.225  16.862
barplotEnrichGO_HC                9.176  2.333  11.744
group_GO                          5.258  0.732   6.044
barplotGroupGO_HC                 5.159  0.725   5.941
checkClusterability               3.539  2.304   5.820
enrich_GO                         5.118  0.691   5.872
scatterplotEnrichGO_HC            4.974  0.658   5.697
densityPlotD_HC                   3.383  1.650   5.058
* checking for unstated dependencies in ‘tests’ ... OK
* checking tests ...
  Running ‘testthat.R’
 OK
* checking PDF version of manual ... OK
* DONE

Status: 1 NOTE
See
  ‘/Users/biocbuild/bbs-3.21-bioc/meat/DAPAR.Rcheck/00check.log’
for details.


Installation output

DAPAR.Rcheck/00install.out

##############################################################################
##############################################################################
###
### Running command:
###
###   /Library/Frameworks/R.framework/Resources/bin/R CMD INSTALL DAPAR
###
##############################################################################
##############################################################################


* installing to library ‘/Library/Frameworks/R.framework/Versions/4.5-x86_64/Resources/library’
* installing *source* package ‘DAPAR’ ...
** this is package ‘DAPAR’ version ‘1.39.0’
** using staged installation
** R
** inst
** byte-compile and prepare package for lazy loading
** help
*** installing help indices
** building package indices
** testing if installed package can be loaded from temporary location
** testing if installed package can be loaded from final location
** testing if installed package keeps a record of temporary installation path
* DONE (DAPAR)

Tests output

DAPAR.Rcheck/tests/testthat.Rout


R Under development (unstable) (2025-01-22 r87618) -- "Unsuffered Consequences"
Copyright (C) 2025 The R Foundation for Statistical Computing
Platform: x86_64-apple-darwin20

R is free software and comes with ABSOLUTELY NO WARRANTY.
You are welcome to redistribute it under certain conditions.
Type 'license()' or 'licence()' for distribution details.

R is a collaborative project with many contributors.
Type 'contributors()' for more information and
'citation()' on how to cite R or R packages in publications.

Type 'demo()' for some demos, 'help()' for on-line help, or
'help.start()' for an HTML browser interface to help.
Type 'q()' to quit R.

> library(testthat)
> library(DAPAR)

This is the 'DAPAR' version 1.39.0.

  To get started, visit
    http://www.prostar-proteomics.org/


> 
> test_check("DAPAR")

 Iterations: 

 1 / 1  - Imputation MNAR OK - 
Imputation MCAR in progress - 
3 % - 6 % - 9 % - 12 % - 15 % - 18 % - 21 % - 24 % - 27 % - 30 % - 33 % - 36 % - 39 % - 42 % - 45 % - 48 % - 51 % - 54 % - 57 % - 60 % - 63 % - 66 % - 69 % - 72 % - 75 % - 78 % - 81 % - 84 % - 87 % - 90 % - 93 % - 96 % - 99 % - 
 Iterations: 

 1 / 1  - Imputation MNAR OK - 
Imputation MCAR in progress - 
3 % - 6 % - 9 % - 12 % - 15 % - 18 % - 21 % - 24 % - 27 % - 30 % - 33 % - 36 % - 39 % - 42 % - 45 % - 48 % - 51 % - 54 % - 57 % - 60 % - 63 % - 66 % - 69 % - 72 % - 75 % - 78 % - 81 % - 84 % - 87 % - 90 % - 93 % - 96 % - 99 % - 
 Imputation in condition  1 ...
 In progress: 10 % - 20 % - 30 % - 40 % - 50 % - 60 % - 70 % - 80 % - 90 % - 100 % - 
 Imputation in condition  2 ...
 In progress: 10 % - 20 % - 30 % - 40 % - 50 % - 60 % - 70 % - 80 % - 90 % - 100 % - [ FAIL 0 | WARN 17 | SKIP 0 | PASS 66 ]

[ FAIL 0 | WARN 17 | SKIP 0 | PASS 66 ]
> 
> proc.time()
   user  system elapsed 
 33.154   1.581  38.382 

Example timings

DAPAR.Rcheck/DAPAR-Ex.timings

nameusersystemelapsed
AggregateMetacell0.4600.0170.485
BuildAdjacencyMatrix0.3040.0100.317
BuildColumnToProteinDataset0.4190.0080.431
BuildMetaCell0.6390.0280.675
CVDistD_HC2.9700.1953.195
Children0.0050.0000.005
CountPep0.3320.0050.339
ExtendPalette0.0260.0020.028
GOAnalysisSave000
GetCC2.1870.0222.224
GetColorsForConditions0.2620.0030.266
GetDetailedNbPeptides0.2920.0030.300
GetDetailedNbPeptidesUsed0.0000.0000.001
GetIndices_BasedOnConditions0.3050.0040.312
GetIndices_MetacellFiltering0.3100.0050.318
GetIndices_WholeLine0.2880.0030.292
GetIndices_WholeMatrix0.2880.0040.292
GetKeyId0.2750.0050.280
GetMatAdj0.3370.0050.342
GetMetacell000
GetMetacellTags0.3170.0050.324
GetNbPeptidesUsed0.3100.0070.322
GetNbTags000
GetSoftAvailables0.0000.0000.001
GetTypeofData0.2710.0040.276
Get_AllComparisons0.2220.0150.238
GlobalQuantileAlignment0.3020.0040.308
GraphPepProt0.3080.0060.315
LH0000
LH0.lm000
LH1000
LH1.lm000
LOESS0.9630.0130.979
MeanCentering0.3110.0160.329
MetaCellFiltering0.4220.0040.428
MetacellFilteringScope000
Metacell_DIA_NN0.5620.0100.575
Metacell_generic0.4530.0140.470
Metacell_maxquant0.5050.0180.526
Metacell_proline0.4980.0130.514
NumericalFiltering0.3370.0040.343
NumericalgetIndicesOfLinesToRemove0.2800.0060.294
OWAnova0.0050.0010.005
QuantileCentering0.3020.0080.312
SetCC2.0440.0142.063
SetMatAdj0.3070.0040.311
Set_POV_MEC_tags0.3060.0040.311
StringBasedFiltering0.2930.0040.298
StringBasedFiltering20.3050.0040.310
SumByColumns1.0990.0161.120
SymFilteringOperators0.0000.0000.001
UpdateMetacellAfterImputation0.2920.0040.297
aggregateIter0.4980.0070.508
aggregateIterParallel000
aggregateMean0.3570.0050.364
aggregateSum0.3760.0050.382
aggregateTopn0.3360.0050.342
applyAnovasOnProteins0.0880.0020.091
averageIntensities0.5980.1330.736
barplotEnrichGO_HC 9.176 2.33311.744
barplotGroupGO_HC5.1590.7255.941
boxPlotD_HC0.2840.0980.383
buildGraph1.4880.0421.536
check.conditions0.2330.0040.238
check.design0.2510.0040.254
checkClusterability3.5392.3045.820
classic1wayAnova000
compareNormalizationD_HC0.1230.0680.203
compute.selection.table0.7050.1550.869
compute_t_tests1.1650.2631.435
corrMatrixD_HC0.3510.0840.437
createMSnset1.9020.0972.012
createMSnset21.8420.1171.969
dapar_hc_ExportMenu0.1500.1700.327
dapar_hc_chart0.0670.0560.124
deleteLinesFromIndices0.3340.0200.357
densityPlotD_HC3.3831.6505.058
diffAnaComputeAdjustedPValues0.1550.0390.197
diffAnaComputeFDR0.0000.0000.001
diffAnaGetSignificant0.2510.0620.316
diffAnaSave0.2390.0540.294
diffAnaVolcanoplot0.1490.0250.175
diffAnaVolcanoplot_rCharts0.3710.1280.501
display.CC.visNet1.5260.1211.661
enrich_GO5.1180.6915.872
finalizeAggregation0.0000.0000.001
findMECBlock0.3170.0130.331
formatHSDResults0.0000.0000.001
formatLimmaResult0.1510.0260.177
formatPHResults0.0000.0010.001
formatPHTResults000
fudge2LRT000
get.pep.prot.cc1.4730.0381.517
getDesignLevel0.2650.0040.270
getIndicesConditions0.2620.0040.268
getIndicesOfLinesToRemove0.3020.0140.319
getListNbValuesInLines0.2690.0040.273
getNumberOf0.3010.0130.316
getNumberOfEmptyLines0.2970.0090.314
getPourcentageOfMV0.3010.0140.317
getProcessingInfo0.2650.0040.270
getProteinsStats0.2940.0150.311
getQuantile4Imp0.0600.0020.063
getTextForAggregation000
getTextForAnaDiff0.0000.0000.001
getTextForFiltering000
getTextForGOAnalysis0.0000.0000.001
getTextForHypothesisTest0.0010.0000.001
getTextForNewDataset0.0020.0000.002
getTextForNormalization0.0000.0000.001
getTextForpeptideImputation000
getTextForproteinImputation0.0000.0000.001
globalAdjPval0.3960.0490.447
group_GO5.2580.7326.044
hc_logFC_DensityPlot0.8160.4071.219
hc_mvTypePlot21.0810.4051.484
heatmapD0.6120.0670.684
heatmapForMissingValues0.1710.0310.204
histPValue_HC0.2440.1040.352
impute.pa20.3900.0310.422
inner.aggregate.iter0.4050.0310.439
inner.aggregate.topn0.4660.0270.501
inner.mean0.3720.0160.395
inner.sum0.3070.0120.322
is.subset000
limmaCompleteTest1.4940.0741.579
listSheets0.0000.0000.001
make.contrast0.3000.0050.306
make.design.10.4640.0220.489
make.design.20.2920.0040.297
make.design.30.2860.0040.290
make.design0.2830.0040.288
match.metacell0.3030.0100.314
metacell.def0.0060.0020.008
metacellHisto_HC0.3650.0680.435
metacellPerLinesHistoPerCondition_HC0.4870.1210.610
metacellPerLinesHisto_HC0.6220.3100.938
metacombine0.1880.0160.205
mvImage2.2240.1902.429
my_hc_ExportMenu0.1970.1800.381
my_hc_chart0.1570.1710.333
nonzero0.0240.0020.026
normalizeMethods.dapar0.0010.0000.000
pepa.test0.3340.0120.348
pkgs.require000
plotJitter1.6080.0711.692
plotJitter_rCharts1.4420.0961.551
plotPCA_Eigen0.4120.0490.466
plotPCA_Eigen_hc0.2800.0050.290
plotPCA_Ind0.3030.0070.311
plotPCA_Var0.2900.0050.296
postHocTest0.0000.0000.001
proportionConRev_HC0.0540.0580.114
rbindMSnset0.4120.0410.455
reIntroduceMEC0.3640.0250.390
readExcel0.0010.0000.001
removeLines0.3310.0210.353
samLRT000
saveParameters0.3000.0060.310
scatterplotEnrichGO_HC4.9740.6585.697
search.metacell.tags0.0070.0020.010
separateAdjPval0.1570.0150.174
splitAdjacencyMat0.3220.0140.340
test.design0.3160.0050.322
testAnovaModels0.0950.0120.107
thresholdpval4fdr0.0000.0010.001
translatedRandomBeta0.0020.0070.009
univ_AnnotDbPkg0.2170.0680.289
violinPlotD0.2990.0280.331
visualizeClusters1.3300.2281.569
vsn0.6340.0210.659
wrapper.CVDistD_HC2.2891.1673.461
wrapper.compareNormalizationD_HC61.36730.66891.932
wrapper.corrMatrixD_HC0.4050.0820.494
wrapper.dapar.impute.mi15.482 1.22516.862
wrapper.heatmapD0.4730.0340.509
wrapper.impute.KNN0.3090.0170.326
wrapper.impute.detQuant0.3450.0280.372
wrapper.impute.fixedValue0.3980.0300.433
wrapper.impute.mle0.3340.0200.357
wrapper.impute.pa0.1650.0360.209
wrapper.impute.pa20.3310.0240.356
wrapper.impute.slsa0.4930.0390.534
wrapper.mvImage0.1430.0240.166
wrapper.normalizeD0.2800.0050.286
wrapper.pca0.1390.0240.165
wrapperCalibrationPlot0.1780.0320.216
wrapperClassic1wayAnova0.0000.0000.001
wrapperRunClustering2.4440.4692.950
write.excel0.8440.1731.027
writeMSnsetToCSV0.3130.0230.348
writeMSnsetToExcel0.9890.2951.308