| Back to Multiple platform build/check report for BioC 3.22: simplified long |
|
This page was generated on 2025-10-25 12:06 -0400 (Sat, 25 Oct 2025).
| Hostname | OS | Arch (*) | R version | Installed pkgs |
|---|---|---|---|---|
| nebbiolo2 | Linux (Ubuntu 24.04.3 LTS) | x86_64 | 4.5.1 Patched (2025-08-23 r88802) -- "Great Square Root" | 4901 |
| lconway | macOS 12.7.6 Monterey | x86_64 | 4.5.1 Patched (2025-09-10 r88807) -- "Great Square Root" | 4691 |
| kjohnson3 | macOS 13.7.7 Ventura | arm64 | 4.5.1 Patched (2025-09-10 r88807) -- "Great Square Root" | 4637 |
| taishan | Linux (openEuler 24.03 LTS) | aarch64 | 4.5.0 (2025-04-11) -- "How About a Twenty-Six" | 4658 |
| Click on any hostname to see more info about the system (e.g. compilers) (*) as reported by 'uname -p', except on Windows and Mac OS X | ||||
| Package 523/2361 | Hostname | OS / Arch | INSTALL | BUILD | CHECK | BUILD BIN | ||||||||
| DAPAR 1.41.0 (landing page) Samuel Wieczorek
| nebbiolo2 | Linux (Ubuntu 24.04.3 LTS) / x86_64 | OK | OK | OK | |||||||||
| lconway | macOS 12.7.6 Monterey / x86_64 | OK | OK | OK | OK | |||||||||
| kjohnson3 | macOS 13.7.7 Ventura / arm64 | OK | OK | OK | OK | |||||||||
| taishan | Linux (openEuler 24.03 LTS) / aarch64 | OK | NA | NA | ||||||||||
|
To the developers/maintainers of the DAPAR package: - Allow up to 24 hours (and sometimes 48 hours) for your latest push to git@git.bioconductor.org:packages/DAPAR.git to reflect on this report. See Troubleshooting Build Report for more information. - Use the following Renviron settings to reproduce errors and warnings. - If 'R CMD check' started to fail recently on the Linux builder(s) over a missing dependency, add the missing dependency to 'Suggests:' in your DESCRIPTION file. See Renviron.bioc for more information. |
| Package: DAPAR |
| Version: 1.41.0 |
| Command: /Library/Frameworks/R.framework/Resources/bin/R CMD check --install=check:DAPAR.install-out.txt --library=/Library/Frameworks/R.framework/Resources/library --no-vignettes --timings DAPAR_1.41.0.tar.gz |
| StartedAt: 2025-10-24 19:19:36 -0400 (Fri, 24 Oct 2025) |
| EndedAt: 2025-10-24 19:23:46 -0400 (Fri, 24 Oct 2025) |
| EllapsedTime: 249.8 seconds |
| RetCode: 0 |
| Status: OK |
| CheckDir: DAPAR.Rcheck |
| Warnings: 0 |
##############################################################################
##############################################################################
###
### Running command:
###
### /Library/Frameworks/R.framework/Resources/bin/R CMD check --install=check:DAPAR.install-out.txt --library=/Library/Frameworks/R.framework/Resources/library --no-vignettes --timings DAPAR_1.41.0.tar.gz
###
##############################################################################
##############################################################################
* using log directory ‘/Users/biocbuild/bbs-3.22-bioc/meat/DAPAR.Rcheck’
* using R version 4.5.1 Patched (2025-09-10 r88807)
* using platform: aarch64-apple-darwin20
* R was compiled by
Apple clang version 16.0.0 (clang-1600.0.26.6)
GNU Fortran (GCC) 14.2.0
* running under: macOS Ventura 13.7.7
* using session charset: UTF-8
* using option ‘--no-vignettes’
* checking for file ‘DAPAR/DESCRIPTION’ ... OK
* checking extension type ... Package
* this is package ‘DAPAR’ version ‘1.41.0’
* package encoding: UTF-8
* checking package namespace information ... OK
* checking package dependencies ... INFO
Vignette dependency required without any vignettes: ‘knitr’
* checking if this is a source package ... OK
* checking if there is a namespace ... OK
* checking for hidden files and directories ... OK
* checking for portable file names ... OK
* checking for sufficient/correct file permissions ... OK
* checking whether package ‘DAPAR’ can be installed ... OK
* checking installed package size ... OK
* checking package directory ... OK
* checking DESCRIPTION meta-information ... OK
* checking top-level files ... OK
* checking for left-over files ... OK
* checking index information ... OK
* checking package subdirectories ... OK
* checking code files for non-ASCII characters ... OK
* checking R files for syntax errors ... OK
* checking whether the package can be loaded ... OK
* checking whether the package can be loaded with stated dependencies ... OK
* checking whether the package can be unloaded cleanly ... OK
* checking whether the namespace can be loaded with stated dependencies ... OK
* checking whether the namespace can be unloaded cleanly ... OK
* checking whether startup messages can be suppressed ... OK
* checking dependencies in R code ... OK
* checking S3 generic/method consistency ... OK
* checking replacement functions ... OK
* checking foreign function calls ... OK
* checking R code for possible problems ... NOTE
Check_Dataset_Validity: no visible global function definition for
‘exprs’
OWAnova: no visible global function definition for ‘aov’
aggregateIterParallel: no visible binding for global variable ‘cond’
averageIntensities: no visible binding for global variable ‘condition’
averageIntensities: no visible binding for global variable ‘feature’
averageIntensities: no visible binding for global variable ‘intensity’
createMSnset: no visible global function definition for
‘installed.packages’
createMSnset: no visible binding for global variable ‘Prostar.loc’
createMSnset2: no visible global function definition for
‘installed.packages’
createMSnset2: no visible binding for global variable ‘Prostar.loc’
diffAnaVolcanoplot_rCharts: no visible binding for global variable ‘x’
diffAnaVolcanoplot_rCharts: no visible binding for global variable ‘y’
diffAnaVolcanoplot_rCharts: no visible binding for global variable ‘g’
display.CC.visNet: no visible binding for global variable
‘layout_nicely’
getTextForGOAnalysis: no visible binding for global variable
‘textGOParams’
getTextForGOAnalysis: no visible binding for global variable ‘input’
globalAdjPval: no visible global function definition for ‘stack’
heatmapForMissingValues: no visible binding for global variable ‘par’
limmaCompleteTest: no visible binding for global variable ‘A’
limmaCompleteTest: no visible binding for global variable ‘B’
limmaCompleteTest: no visible binding for global variable ‘P.Value’
pepa.test: no visible global function definition for ‘nodes<-’
testAnovaModels : <anonymous>: no visible global function definition
for ‘TukeyHSD’
visualizeClusters: no visible binding for global variable
‘adjusted_pvalues’
visualizeClusters: no visible binding for global variable ‘Condition’
visualizeClusters: no visible binding for global variable ‘Intensity’
visualizeClusters: no visible binding for global variable
‘FDR_threshold’
visualizeClusters: no visible binding for global variable ‘feature’
wrapperClassic1wayAnova: no visible binding for global variable
‘Pr(>F)1’
wrapperRunClustering: no visible global function definition for ‘str_c’
Undefined global functions or variables:
A B Condition FDR_threshold Intensity P.Value Pr(>F)1 Prostar.loc
TukeyHSD adjusted_pvalues aov cond condition exprs feature g input
installed.packages intensity layout_nicely nodes<- par stack str_c
textGOParams x y
Consider adding
importFrom("graphics", "par")
importFrom("stats", "TukeyHSD", "aov")
importFrom("utils", "installed.packages", "stack")
to your NAMESPACE file.
* checking Rd files ... OK
* checking Rd metadata ... OK
* checking Rd cross-references ... OK
* checking for missing documentation entries ... OK
* checking for code/documentation mismatches ... OK
* checking Rd \usage sections ... OK
* checking Rd contents ... OK
* checking for unstated dependencies in examples ... OK
* checking examples ... OK
Examples with CPU (user + system) or elapsed time > 5s
user system elapsed
wrapper.compareNormalizationD_HC 14.641 9.042 58.025
wrapper.dapar.impute.mi 5.357 0.724 7.117
* checking for unstated dependencies in ‘tests’ ... OK
* checking tests ...
Running ‘testthat.R’
OK
* checking PDF version of manual ... OK
* DONE
Status: 1 NOTE
See
‘/Users/biocbuild/bbs-3.22-bioc/meat/DAPAR.Rcheck/00check.log’
for details.
DAPAR.Rcheck/00install.out
############################################################################## ############################################################################## ### ### Running command: ### ### /Library/Frameworks/R.framework/Resources/bin/R CMD INSTALL DAPAR ### ############################################################################## ############################################################################## * installing to library ‘/Library/Frameworks/R.framework/Versions/4.5-arm64/Resources/library’ * installing *source* package ‘DAPAR’ ... ** this is package ‘DAPAR’ version ‘1.41.0’ ** using staged installation ** R ** inst ** byte-compile and prepare package for lazy loading ** help *** installing help indices ** building package indices ** testing if installed package can be loaded from temporary location ** testing if installed package can be loaded from final location ** testing if installed package keeps a record of temporary installation path * DONE (DAPAR)
DAPAR.Rcheck/tests/testthat.Rout
R version 4.5.1 Patched (2025-09-10 r88807) -- "Great Square Root"
Copyright (C) 2025 The R Foundation for Statistical Computing
Platform: aarch64-apple-darwin20
R is free software and comes with ABSOLUTELY NO WARRANTY.
You are welcome to redistribute it under certain conditions.
Type 'license()' or 'licence()' for distribution details.
R is a collaborative project with many contributors.
Type 'contributors()' for more information and
'citation()' on how to cite R or R packages in publications.
Type 'demo()' for some demos, 'help()' for on-line help, or
'help.start()' for an HTML browser interface to help.
Type 'q()' to quit R.
> library(testthat)
> library(DAPAR)
This is the 'DAPAR' version 1.41.0.
To get started, visit
http://www.prostar-proteomics.org/
>
> test_check("DAPAR")
Iterations:
1 / 1 - Imputation MNAR OK -
Imputation MCAR in progress -
3 % - 6 % - 9 % - 12 % - 15 % - 18 % - 21 % - 24 % - 27 % - 30 % - 33 % - 36 % - 39 % - 42 % - 45 % - 48 % - 51 % - 54 % - 57 % - 60 % - 63 % - 66 % - 69 % - 72 % - 75 % - 78 % - 81 % - 84 % - 87 % - 90 % - 93 % - 96 % - 99 % -
Iterations:
1 / 1 - Imputation MNAR OK -
Imputation MCAR in progress -
3 % - 6 % - 9 % - 12 % - 15 % - 18 % - 21 % - 24 % - 27 % - 30 % - 33 % - 36 % - 39 % - 42 % - 45 % - 48 % - 51 % - 54 % - 57 % - 60 % - 63 % - 66 % - 69 % - 72 % - 75 % - 78 % - 81 % - 84 % - 87 % - 90 % - 93 % - 96 % - 99 % -
Imputation in condition 1 ...
In progress: 10 % - 20 % - 30 % - 40 % - 50 % - 60 % - 70 % - 80 % - 90 % - 100 % -
Imputation in condition 2 ...
In progress: 10 % - 20 % - 30 % - 40 % - 50 % - 60 % - 70 % - 80 % - 90 % - 100 % - [ FAIL 0 | WARN 17 | SKIP 0 | PASS 66 ]
[ FAIL 0 | WARN 17 | SKIP 0 | PASS 66 ]
>
> proc.time()
user system elapsed
12.676 0.771 13.662
DAPAR.Rcheck/DAPAR-Ex.timings
| name | user | system | elapsed | |
| AggregateMetacell | 0.239 | 0.005 | 0.247 | |
| BuildAdjacencyMatrix | 0.193 | 0.002 | 0.195 | |
| BuildColumnToProteinDataset | 0.213 | 0.003 | 0.215 | |
| BuildMetaCell | 0.656 | 0.011 | 0.667 | |
| CVDistD_HC | 0.725 | 0.055 | 0.833 | |
| Children | 0.001 | 0.000 | 0.002 | |
| CountPep | 0.205 | 0.003 | 0.208 | |
| ExtendPalette | 0.007 | 0.000 | 0.008 | |
| GOAnalysisSave | 0 | 0 | 0 | |
| GetCC | 1.062 | 0.019 | 1.084 | |
| GetColorsForConditions | 0.181 | 0.002 | 0.184 | |
| GetDetailedNbPeptides | 0.192 | 0.002 | 0.195 | |
| GetDetailedNbPeptidesUsed | 0 | 0 | 0 | |
| GetIndices_BasedOnConditions | 0.187 | 0.001 | 0.189 | |
| GetIndices_MetacellFiltering | 0.189 | 0.001 | 0.190 | |
| GetIndices_WholeLine | 0.190 | 0.002 | 0.192 | |
| GetIndices_WholeMatrix | 0.187 | 0.002 | 0.189 | |
| GetKeyId | 0.185 | 0.002 | 0.188 | |
| GetMatAdj | 0.198 | 0.002 | 0.200 | |
| GetMetacell | 0 | 0 | 0 | |
| GetMetacellTags | 0.188 | 0.002 | 0.190 | |
| GetNbPeptidesUsed | 0.188 | 0.002 | 0.200 | |
| GetNbTags | 0 | 0 | 0 | |
| GetSoftAvailables | 0.000 | 0.000 | 0.001 | |
| GetTypeofData | 0.179 | 0.002 | 0.181 | |
| Get_AllComparisons | 0.103 | 0.005 | 0.108 | |
| GlobalQuantileAlignment | 0.198 | 0.002 | 0.200 | |
| GraphPepProt | 0.190 | 0.003 | 0.193 | |
| LH0 | 0 | 0 | 0 | |
| LH0.lm | 0 | 0 | 0 | |
| LH1 | 0 | 0 | 0 | |
| LH1.lm | 0 | 0 | 0 | |
| LOESS | 0.482 | 0.010 | 0.493 | |
| MeanCentering | 0.184 | 0.003 | 0.187 | |
| MetaCellFiltering | 0.235 | 0.002 | 0.238 | |
| MetacellFilteringScope | 0.000 | 0.001 | 0.000 | |
| Metacell_DIA_NN | 0.218 | 0.007 | 0.227 | |
| Metacell_generic | 0.186 | 0.008 | 0.195 | |
| Metacell_maxquant | 0.181 | 0.005 | 0.198 | |
| Metacell_proline | 0.171 | 0.007 | 0.178 | |
| NumericalFiltering | 0.194 | 0.002 | 0.196 | |
| NumericalgetIndicesOfLinesToRemove | 0.198 | 0.005 | 0.204 | |
| OWAnova | 0.002 | 0.000 | 0.003 | |
| QuantileCentering | 0.180 | 0.003 | 0.183 | |
| SetCC | 1.061 | 0.005 | 1.067 | |
| SetMatAdj | 0.190 | 0.002 | 0.193 | |
| Set_POV_MEC_tags | 0.182 | 0.003 | 0.185 | |
| StringBasedFiltering | 0.190 | 0.002 | 0.193 | |
| StringBasedFiltering2 | 0.190 | 0.001 | 0.192 | |
| SumByColumns | 0.460 | 0.021 | 0.482 | |
| SymFilteringOperators | 0 | 0 | 0 | |
| UpdateMetacellAfterImputation | 0.184 | 0.002 | 0.186 | |
| aggregateIter | 0.225 | 0.002 | 0.229 | |
| aggregateIterParallel | 0 | 0 | 0 | |
| aggregateMean | 0.202 | 0.002 | 0.206 | |
| aggregateSum | 0.211 | 0.003 | 0.215 | |
| aggregateTopn | 0.204 | 0.004 | 0.207 | |
| applyAnovasOnProteins | 0.059 | 0.001 | 0.059 | |
| averageIntensities | 0.220 | 0.035 | 0.347 | |
| barplotEnrichGO_HC | 3.215 | 0.568 | 4.159 | |
| barplotGroupGO_HC | 1.833 | 0.309 | 2.286 | |
| boxPlotD_HC | 0.107 | 0.040 | 0.157 | |
| buildGraph | 0.715 | 0.019 | 0.737 | |
| check.conditions | 0.174 | 0.002 | 0.178 | |
| check.design | 0.184 | 0.003 | 0.189 | |
| checkClusterability | 0.866 | 0.580 | 1.700 | |
| classic1wayAnova | 0.001 | 0.000 | 0.000 | |
| compareNormalizationD_HC | 0.067 | 0.014 | 0.094 | |
| compute.selection.table | 0.268 | 0.072 | 0.337 | |
| compute_t_tests | 0.342 | 0.063 | 0.404 | |
| corrMatrixD_HC | 0.208 | 0.027 | 0.235 | |
| createMSnset | 0.687 | 0.052 | 0.738 | |
| createMSnset2 | 0.626 | 0.036 | 0.667 | |
| dapar_hc_ExportMenu | 0.039 | 0.044 | 0.136 | |
| dapar_hc_chart | 0.018 | 0.015 | 0.052 | |
| deleteLinesFromIndices | 0.208 | 0.006 | 0.232 | |
| densityPlotD_HC | 0.886 | 0.522 | 1.429 | |
| diffAnaComputeAdjustedPValues | 0.091 | 0.015 | 0.109 | |
| diffAnaComputeFDR | 0 | 0 | 0 | |
| diffAnaGetSignificant | 0.099 | 0.017 | 0.116 | |
| diffAnaSave | 0.112 | 0.025 | 0.136 | |
| diffAnaVolcanoplot | 0.084 | 0.011 | 0.095 | |
| diffAnaVolcanoplot_rCharts | 0.152 | 0.051 | 0.201 | |
| display.CC.visNet | 0.764 | 0.025 | 0.797 | |
| enrich_GO | 1.796 | 0.223 | 2.065 | |
| finalizeAggregation | 0 | 0 | 0 | |
| findMECBlock | 0.202 | 0.006 | 0.209 | |
| formatHSDResults | 0 | 0 | 0 | |
| formatLimmaResult | 0.074 | 0.008 | 0.082 | |
| formatPHResults | 0 | 0 | 0 | |
| formatPHTResults | 0 | 0 | 0 | |
| fudge2LRT | 0 | 0 | 0 | |
| get.pep.prot.cc | 0.763 | 0.016 | 0.782 | |
| getDesignLevel | 0.176 | 0.002 | 0.178 | |
| getIndicesConditions | 0.179 | 0.002 | 0.182 | |
| getIndicesOfLinesToRemove | 0.191 | 0.006 | 0.198 | |
| getListNbValuesInLines | 0.176 | 0.001 | 0.179 | |
| getNumberOf | 0.183 | 0.004 | 0.188 | |
| getNumberOfEmptyLines | 0.186 | 0.003 | 0.189 | |
| getPourcentageOfMV | 0.185 | 0.007 | 0.193 | |
| getProcessingInfo | 0.178 | 0.002 | 0.180 | |
| getProteinsStats | 0.189 | 0.007 | 0.199 | |
| getQuantile4Imp | 0.054 | 0.001 | 0.056 | |
| getTextForAggregation | 0 | 0 | 0 | |
| getTextForAnaDiff | 0 | 0 | 0 | |
| getTextForFiltering | 0.000 | 0.000 | 0.001 | |
| getTextForGOAnalysis | 0 | 0 | 0 | |
| getTextForHypothesisTest | 0 | 0 | 0 | |
| getTextForNewDataset | 0.001 | 0.000 | 0.001 | |
| getTextForNormalization | 0 | 0 | 0 | |
| getTextForpeptideImputation | 0 | 0 | 0 | |
| getTextForproteinImputation | 0.001 | 0.000 | 0.000 | |
| globalAdjPval | 0.145 | 0.016 | 0.165 | |
| group_GO | 1.775 | 0.222 | 2.037 | |
| hc_logFC_DensityPlot | 0.227 | 0.078 | 0.321 | |
| hc_mvTypePlot2 | 0.309 | 0.085 | 0.430 | |
| heatmapD | 0.293 | 0.021 | 0.317 | |
| heatmapForMissingValues | 0.090 | 0.007 | 0.097 | |
| histPValue_HC | 0.109 | 0.028 | 0.138 | |
| impute.pa2 | 0.204 | 0.009 | 0.212 | |
| inner.aggregate.iter | 0.211 | 0.010 | 0.221 | |
| inner.aggregate.topn | 0.201 | 0.006 | 0.208 | |
| inner.mean | 0.197 | 0.006 | 0.203 | |
| inner.sum | 0.201 | 0.005 | 0.206 | |
| is.subset | 0.000 | 0.000 | 0.001 | |
| limmaCompleteTest | 0.479 | 0.024 | 0.503 | |
| listSheets | 0 | 0 | 0 | |
| make.contrast | 0.191 | 0.002 | 0.193 | |
| make.design.1 | 0.190 | 0.002 | 0.193 | |
| make.design.2 | 0.196 | 0.002 | 0.200 | |
| make.design.3 | 0.192 | 0.003 | 0.198 | |
| make.design | 0.192 | 0.002 | 0.195 | |
| match.metacell | 0.198 | 0.007 | 0.206 | |
| metacell.def | 0.002 | 0.001 | 0.003 | |
| metacellHisto_HC | 0.220 | 0.022 | 0.245 | |
| metacellPerLinesHistoPerCondition_HC | 0.240 | 0.030 | 0.272 | |
| metacellPerLinesHisto_HC | 0.272 | 0.083 | 0.411 | |
| metacombine | 0.051 | 0.004 | 0.055 | |
| mvImage | 0.723 | 0.055 | 0.786 | |
| my_hc_ExportMenu | 0.040 | 0.047 | 0.091 | |
| my_hc_chart | 0.039 | 0.037 | 0.078 | |
| nonzero | 0.009 | 0.000 | 0.009 | |
| normalizeMethods.dapar | 0 | 0 | 0 | |
| pepa.test | 0.200 | 0.003 | 0.203 | |
| pkgs.require | 0 | 0 | 0 | |
| plotJitter | 0.745 | 0.011 | 0.756 | |
| plotJitter_rCharts | 0.701 | 0.027 | 0.741 | |
| plotPCA_Eigen | 0.214 | 0.011 | 0.227 | |
| plotPCA_Eigen_hc | 0.179 | 0.002 | 0.180 | |
| plotPCA_Ind | 0.180 | 0.002 | 0.181 | |
| plotPCA_Var | 0.181 | 0.002 | 0.183 | |
| postHocTest | 0 | 0 | 0 | |
| proportionConRev_HC | 0.014 | 0.016 | 0.031 | |
| rbindMSnset | 0.219 | 0.021 | 0.246 | |
| reIntroduceMEC | 0.195 | 0.015 | 0.214 | |
| readExcel | 0 | 0 | 0 | |
| removeLines | 0.195 | 0.011 | 0.209 | |
| samLRT | 0 | 0 | 0 | |
| saveParameters | 0.179 | 0.003 | 0.183 | |
| scatterplotEnrichGO_HC | 2.420 | 0.309 | 2.822 | |
| search.metacell.tags | 0.005 | 0.002 | 0.008 | |
| separateAdjPval | 0.108 | 0.008 | 0.117 | |
| splitAdjacencyMat | 0.219 | 0.006 | 0.227 | |
| test.design | 0.270 | 0.006 | 0.278 | |
| testAnovaModels | 0.071 | 0.007 | 0.080 | |
| thresholdpval4fdr | 0 | 0 | 0 | |
| translatedRandomBeta | 0.001 | 0.004 | 0.011 | |
| univ_AnnotDbPkg | 0.069 | 0.021 | 0.128 | |
| violinPlotD | 0.109 | 0.006 | 0.116 | |
| visualizeClusters | 0.447 | 0.076 | 1.023 | |
| vsn | 0.289 | 0.011 | 0.364 | |
| wrapper.CVDistD_HC | 0.668 | 0.350 | 2.721 | |
| wrapper.compareNormalizationD_HC | 14.641 | 9.042 | 58.025 | |
| wrapper.corrMatrixD_HC | 0.271 | 0.040 | 0.313 | |
| wrapper.dapar.impute.mi | 5.357 | 0.724 | 7.117 | |
| wrapper.heatmapD | 0.265 | 0.019 | 0.294 | |
| wrapper.impute.KNN | 0.196 | 0.009 | 0.208 | |
| wrapper.impute.detQuant | 0.203 | 0.017 | 0.224 | |
| wrapper.impute.fixedValue | 0.205 | 0.009 | 0.234 | |
| wrapper.impute.mle | 0.191 | 0.009 | 0.204 | |
| wrapper.impute.pa | 0.065 | 0.010 | 0.077 | |
| wrapper.impute.pa2 | 0.197 | 0.014 | 0.215 | |
| wrapper.impute.slsa | 0.236 | 0.023 | 0.265 | |
| wrapper.mvImage | 0.071 | 0.012 | 0.088 | |
| wrapper.normalizeD | 0.184 | 0.003 | 0.188 | |
| wrapper.pca | 0.068 | 0.012 | 0.085 | |
| wrapperCalibrationPlot | 0.099 | 0.021 | 0.125 | |
| wrapperClassic1wayAnova | 0 | 0 | 0 | |
| wrapperRunClustering | 0.674 | 0.207 | 0.931 | |
| write.excel | 0.299 | 0.042 | 0.346 | |
| writeMSnsetToCSV | 0.192 | 0.009 | 0.200 | |
| writeMSnsetToExcel | 0.378 | 0.113 | 0.486 | |