Back to Multiple platform build/check report for BioC 3.22:   simplified   long
[A]BCDEFGHIJKLMNOPQRSTUVWXYZ

This page was generated on 2025-10-15 12:03 -0400 (Wed, 15 Oct 2025).

HostnameOSArch (*)R versionInstalled pkgs
nebbiolo2Linux (Ubuntu 24.04.3 LTS)x86_644.5.1 Patched (2025-08-23 r88802) -- "Great Square Root" 4866
lconwaymacOS 12.7.6 Montereyx86_644.5.1 Patched (2025-09-10 r88807) -- "Great Square Root" 4653
kjohnson3macOS 13.7.7 Venturaarm644.5.1 Patched (2025-09-10 r88807) -- "Great Square Root" 4598
taishanLinux (openEuler 24.03 LTS)aarch644.5.0 (2025-04-11) -- "How About a Twenty-Six" 4610
Click on any hostname to see more info about the system (e.g. compilers)      (*) as reported by 'uname -p', except on Windows and Mac OS X

Package 59/2346HostnameOS / ArchINSTALLBUILDCHECKBUILD BIN
AlpsNMR 4.11.1  (landing page)
Sergio Oller Moreno
Snapshot Date: 2025-10-14 13:45 -0400 (Tue, 14 Oct 2025)
git_url: https://git.bioconductor.org/packages/AlpsNMR
git_branch: devel
git_last_commit: 205bd1b
git_last_commit_date: 2025-09-24 17:19:41 -0400 (Wed, 24 Sep 2025)
nebbiolo2Linux (Ubuntu 24.04.3 LTS) / x86_64  OK    OK    OK  UNNEEDED, same version is already published
lconwaymacOS 12.7.6 Monterey / x86_64  OK    OK    OK    OK  UNNEEDED, same version is already published
kjohnson3macOS 13.7.7 Ventura / arm64  OK    OK    OK    OK  UNNEEDED, same version is already published
taishanLinux (openEuler 24.03 LTS) / aarch64  OK    ERROR  skipped


CHECK results for AlpsNMR on nebbiolo2

To the developers/maintainers of the AlpsNMR package:
- Allow up to 24 hours (and sometimes 48 hours) for your latest push to git@git.bioconductor.org:packages/AlpsNMR.git to reflect on this report. See Troubleshooting Build Report for more information.
- Use the following Renviron settings to reproduce errors and warnings.
- If 'R CMD check' started to fail recently on the Linux builder(s) over a missing dependency, add the missing dependency to 'Suggests:' in your DESCRIPTION file. See Renviron.bioc for more information.

raw results


Summary

Package: AlpsNMR
Version: 4.11.1
Command: /home/biocbuild/bbs-3.22-bioc/R/bin/R CMD check --install=check:AlpsNMR.install-out.txt --library=/home/biocbuild/bbs-3.22-bioc/R/site-library --timings AlpsNMR_4.11.1.tar.gz
StartedAt: 2025-10-14 20:59:37 -0400 (Tue, 14 Oct 2025)
EndedAt: 2025-10-14 21:04:22 -0400 (Tue, 14 Oct 2025)
EllapsedTime: 284.3 seconds
RetCode: 0
Status:   OK  
CheckDir: AlpsNMR.Rcheck
Warnings: 0

Command output

##############################################################################
##############################################################################
###
### Running command:
###
###   /home/biocbuild/bbs-3.22-bioc/R/bin/R CMD check --install=check:AlpsNMR.install-out.txt --library=/home/biocbuild/bbs-3.22-bioc/R/site-library --timings AlpsNMR_4.11.1.tar.gz
###
##############################################################################
##############################################################################


* using log directory ‘/home/biocbuild/bbs-3.22-bioc/meat/AlpsNMR.Rcheck’
* using R version 4.5.1 Patched (2025-08-23 r88802)
* using platform: x86_64-pc-linux-gnu
* R was compiled by
    gcc (Ubuntu 13.3.0-6ubuntu2~24.04) 13.3.0
    GNU Fortran (Ubuntu 13.3.0-6ubuntu2~24.04) 13.3.0
* running under: Ubuntu 24.04.3 LTS
* using session charset: UTF-8
* checking for file ‘AlpsNMR/DESCRIPTION’ ... OK
* checking extension type ... Package
* this is package ‘AlpsNMR’ version ‘4.11.1’
* package encoding: UTF-8
* checking package namespace information ... OK
* checking package dependencies ... INFO
Imports includes 26 non-default packages.
Importing from so many packages makes the package vulnerable to any of
them becoming unavailable.  Move as many as possible to Suggests and
use conditionally.
* checking if this is a source package ... OK
* checking if there is a namespace ... OK
* checking for hidden files and directories ... OK
* checking for portable file names ... OK
* checking for sufficient/correct file permissions ... OK
* checking whether package ‘AlpsNMR’ can be installed ... OK
* checking installed package size ... OK
* checking package directory ... OK
* checking ‘build’ directory ... OK
* checking DESCRIPTION meta-information ... OK
* checking top-level files ... OK
* checking for left-over files ... OK
* checking index information ... OK
* checking package subdirectories ... OK
* checking code files for non-ASCII characters ... OK
* checking R files for syntax errors ... OK
* checking whether the package can be loaded ... OK
* checking whether the package can be loaded with stated dependencies ... OK
* checking whether the package can be unloaded cleanly ... OK
* checking whether the namespace can be loaded with stated dependencies ... OK
* checking whether the namespace can be unloaded cleanly ... OK
* checking loading without being on the library search path ... OK
* checking dependencies in R code ... OK
* checking S3 generic/method consistency ... OK
* checking replacement functions ... OK
* checking foreign function calls ... OK
* checking R code for possible problems ... OK
* checking Rd files ... OK
* checking Rd metadata ... OK
* checking Rd cross-references ... NOTE
Non-topic package-anchored link(s) in Rd file 'reexports.Rd':
  ‘[magrittr:pipe]{%>%}’

See section 'Cross-references' in the 'Writing R Extensions' manual.

Found the following Rd file(s) with Rd \link{} targets missing package
anchors:
  filter.nmr_dataset_family.Rd: dplyr
Please provide package anchors for all Rd \link{} targets not in the
package itself and the base packages.
* checking for missing documentation entries ... OK
* checking for code/documentation mismatches ... OK
* checking Rd \usage sections ... OK
* checking Rd contents ... OK
* checking for unstated dependencies in examples ... OK
* checking contents of ‘data’ directory ... OK
* checking data for non-ASCII characters ... OK
* checking data for ASCII and uncompressed saves ... OK
* checking files in ‘vignettes’ ... OK
* checking examples ... OK
Examples with CPU (user + system) or elapsed time > 5s
                                     user system elapsed
Peak_detection                      7.471  1.798   6.835
nmr_interpolate_1D                  4.360  3.405   3.984
SummarizedExperiment_to_nmr_data_1r 6.619  1.006   7.013
nmr_pca_outliers_robust             4.781  1.233   5.195
permutation_test_plot               3.235  2.234   1.668
* checking for unstated dependencies in ‘tests’ ... OK
* checking tests ...
  Running ‘testthat.R’
 OK
* checking for unstated dependencies in vignettes ... OK
* checking package vignettes ... OK
* checking re-building of vignette outputs ... OK
* checking PDF version of manual ... OK
* DONE

Status: 1 NOTE
See
  ‘/home/biocbuild/bbs-3.22-bioc/meat/AlpsNMR.Rcheck/00check.log’
for details.


Installation output

AlpsNMR.Rcheck/00install.out

##############################################################################
##############################################################################
###
### Running command:
###
###   /home/biocbuild/bbs-3.22-bioc/R/bin/R CMD INSTALL AlpsNMR
###
##############################################################################
##############################################################################


* installing to library ‘/home/biocbuild/bbs-3.22-bioc/R/site-library’
* installing *source* package ‘AlpsNMR’ ...
** this is package ‘AlpsNMR’ version ‘4.11.1’
** using staged installation
** R
** data
** inst
** byte-compile and prepare package for lazy loading
** help
*** installing help indices
*** copying figures
** building package indices
** installing vignettes
** testing if installed package can be loaded from temporary location
** testing if installed package can be loaded from final location
** testing if installed package keeps a record of temporary installation path
* DONE (AlpsNMR)

Tests output

AlpsNMR.Rcheck/tests/testthat.Rout


R version 4.5.1 Patched (2025-08-23 r88802) -- "Great Square Root"
Copyright (C) 2025 The R Foundation for Statistical Computing
Platform: x86_64-pc-linux-gnu

R is free software and comes with ABSOLUTELY NO WARRANTY.
You are welcome to redistribute it under certain conditions.
Type 'license()' or 'licence()' for distribution details.

R is a collaborative project with many contributors.
Type 'contributors()' for more information and
'citation()' on how to cite R or R packages in publications.

Type 'demo()' for some demos, 'help()' for on-line help, or
'help.start()' for an HTML browser interface to help.
Type 'q()' to quit R.

> library(testthat)
> library(AlpsNMR)

Attaching package: 'AlpsNMR'

The following object is masked from 'package:stats':

    filter

> 
> test_check("AlpsNMR")
[ FAIL 0 | WARN 0 | SKIP 1 | PASS 93 ]

══ Skipped tests (1) ═══════════════════════════════════════════════════════════
• On Bioconductor (1): 'test_rDolphin.R:2:5'

[ FAIL 0 | WARN 0 | SKIP 1 | PASS 93 ]
> 
> proc.time()
   user  system elapsed 
 20.927   7.373  20.241 

Example timings

AlpsNMR.Rcheck/AlpsNMR-Ex.timings

nameusersystemelapsed
AlpsNMR-package1.7530.3541.591
HMDB_blood0.0040.0020.005
HMDB_cell0.0020.0000.002
HMDB_urine0.0040.0000.004
Parameters_blood0.0010.0000.001
Parameters_cell0.0000.0010.002
Parameters_urine0.0010.0000.002
Peak_detection7.4711.7986.835
Pipelines0.0010.0000.001
ROI_blood0.0020.0010.003
ROI_cell0.0030.0000.002
ROI_urine0.0030.0000.002
SummarizedExperiment_to_nmr_data_1r6.6191.0067.013
SummarizedExperiment_to_nmr_dataset_peak_table1.0580.5450.943
bp_VIP_analysis1.4350.9650.935
bp_kfold_VIP_analysis0.7340.4610.514
download_MTBLS242000
file_lister0.0540.0150.069
files_to_rDolphin000
filter.nmr_dataset_family1.4620.6391.364
format.nmr_dataset0.6540.4550.497
format.nmr_dataset_1D0.7240.5190.595
format.nmr_dataset_peak_table0.7400.4520.591
get_integration_with_metadata0.0230.0070.031
hmdb0.0430.0020.045
is.nmr_dataset0.6410.5250.532
is.nmr_dataset_1D0.7660.6160.677
is.nmr_dataset_peak_table0.8690.5340.686
load_and_save_functions0.7730.7050.642
models_stability_plot_bootstrap0.0010.0000.001
models_stability_plot_plsda0.3710.4290.404
new_nmr_dataset0.0240.0440.002
new_nmr_dataset_1D0.0010.0000.001
new_nmr_dataset_peak_table0.7930.6020.689
nmr_autophase0.1920.0990.270
nmr_baseline_estimation0.0090.0000.009
nmr_baseline_removal0.0040.0000.004
nmr_baseline_threshold0.0010.0000.001
nmr_baseline_threshold_plot0.2860.0560.342
nmr_batman0.0030.0000.003
nmr_batman_options000
nmr_build_peak_table0.0310.0110.042
nmr_data0.0600.0270.088
nmr_data_1r_to_SummarizedExperiment0.9790.5870.911
nmr_data_analysis0.3790.5660.433
nmr_dataset0.0010.0000.001
nmr_dataset_1D0.0010.0000.001
nmr_dataset_peak_table_to_SummarizedExperiment0.9120.6010.835
nmr_exclude_region0.0050.0020.006
nmr_export_data_1r0.7220.5010.604
nmr_get_peak_distances0.0090.0000.009
nmr_identify_regions_blood0.0140.0000.015
nmr_identify_regions_cell0.0080.0010.009
nmr_identify_regions_urine0.0140.0000.014
nmr_integrate_regions0.0060.0010.008
nmr_interpolate_1D4.3603.4053.984
nmr_meta_add1.7151.1031.506
nmr_meta_export0.7350.5680.542
nmr_meta_get0.6700.4870.532
nmr_meta_get_column0.7180.5660.573
nmr_meta_groups0.6980.5020.547
nmr_normalize0.3340.0480.382
nmr_pca_build_model1.7581.3831.485
nmr_pca_outliers0.8730.6200.714
nmr_pca_outliers_filter1.0230.8100.927
nmr_pca_outliers_plot0.0000.0000.001
nmr_pca_outliers_robust4.7811.2335.195
nmr_pca_plots0.4900.0540.544
nmr_peak_clustering0.0710.0010.073
nmr_ppm_resolution0.0080.0000.008
nmr_read_bruker_fid000
nmr_read_samples1.3501.2081.100
nmr_zip_bruker_samples0.2550.0160.272
peaklist_accept_peaks0.0020.0010.004
permutation_test_model1.5731.1761.757
permutation_test_plot3.2352.2341.668
plot.nmr_dataset_1D0.0020.0000.002
plot_bootstrap_multimodel0.0030.0000.002
plot_interactive2.5331.4160.725
plot_plsda_multimodel0.1920.4210.331
plot_plsda_samples0.1230.1610.224
plot_vip_scores0.0020.0000.002
plot_webgl0.0020.0000.001
plsda_auroc_vip_compare0.5240.4350.765
plsda_auroc_vip_method000
ppm_resolution0.0020.0000.003
print.nmr_dataset0.7860.7680.643
print.nmr_dataset_1D0.7630.5570.647
print.nmr_dataset_peak_table0.8960.6580.868
random_subsampling0.0010.0020.004
save_files_to_rDolphin000
save_profiling_output000
sub-.nmr_dataset0.7570.7970.692
sub-.nmr_dataset_1D0.7450.7280.707
sub-.nmr_dataset_peak_table0.8110.6900.696
tidy.nmr_dataset_1D0.9340.6590.788
to_ASICS0.9170.2431.161
to_ChemoSpec1.1150.9831.000
validate_nmr_dataset1.8081.6201.539
validate_nmr_dataset_family0.7150.5960.602
validate_nmr_dataset_peak_table0.0010.0000.001
zzz0.0000.0002.001