| Back to Multiple platform build/check report for BioC 3.9 |
|
This page was generated on 2019-04-09 11:57:26 -0400 (Tue, 09 Apr 2019).
| Package 1194/1703 | Hostname | OS / Arch | INSTALL | BUILD | CHECK | BUILD BIN | ||||||
| plateCore 1.41.1 Errol Strain
| malbec2 | Linux (Ubuntu 18.04.2 LTS) / x86_64 | ERROR | ERROR | skipped | |||||||
| tokay2 | Windows Server 2012 R2 Standard / x64 | [ ERROR ] | ERROR | skipped | skipped | |||||||
| celaya2 | OS X 10.11.6 El Capitan / x86_64 | ERROR | ERROR | skipped | skipped | |||||||
| merida2 | OS X 10.11.6 El Capitan / x86_64 | OK | OK | WARNINGS | OK |
| Package: plateCore |
| Version: 1.41.1 |
| Command: C:\cygwin\bin\curl.exe -O https://malbec2.bioconductor.org/BBS/3.9/bioc/src/contrib/plateCore_1.41.1.tar.gz && rm -rf plateCore.buildbin-libdir && mkdir plateCore.buildbin-libdir && C:\Users\biocbuild\bbs-3.9-bioc\R\bin\R.exe CMD INSTALL --merge-multiarch --build --library=plateCore.buildbin-libdir plateCore_1.41.1.tar.gz && C:\Users\biocbuild\bbs-3.9-bioc\R\bin\R.exe CMD INSTALL plateCore_1.41.1.zip && rm plateCore_1.41.1.tar.gz plateCore_1.41.1.zip |
| StartedAt: 2019-04-08 19:56:49 -0400 (Mon, 08 Apr 2019) |
| EndedAt: 2019-04-08 19:56:57 -0400 (Mon, 08 Apr 2019) |
| EllapsedTime: 8.1 seconds |
| RetCode: 1 |
| Status: ERROR |
##############################################################################
##############################################################################
###
### Running command:
###
### C:\cygwin\bin\curl.exe -O https://malbec2.bioconductor.org/BBS/3.9/bioc/src/contrib/plateCore_1.41.1.tar.gz && rm -rf plateCore.buildbin-libdir && mkdir plateCore.buildbin-libdir && C:\Users\biocbuild\bbs-3.9-bioc\R\bin\R.exe CMD INSTALL --merge-multiarch --build --library=plateCore.buildbin-libdir plateCore_1.41.1.tar.gz && C:\Users\biocbuild\bbs-3.9-bioc\R\bin\R.exe CMD INSTALL plateCore_1.41.1.zip && rm plateCore_1.41.1.tar.gz plateCore_1.41.1.zip
###
##############################################################################
##############################################################################
% Total % Received % Xferd Average Speed Time Time Time Current
Dload Upload Total Spent Left Speed
0 0 0 0 0 0 0 0 --:--:-- --:--:-- --:--:-- 0
0 0 0 0 0 0 0 0 --:--:-- --:--:-- --:--:-- 0
100 2301k 100 2301k 0 0 23.9M 0 --:--:-- --:--:-- --:--:-- 25.8M
install for i386
* installing *source* package 'plateCore' ...
** R
** data
** byte-compile and prepare package for lazy loading
No methods found in package 'flowStats' for request: '%on%' when loading 'plateCore'
Error in reconcilePropertiesAndPrototype(name, slots, prototype, superClasses, :
The prototype for class "flowPlate" has undefined slot(s): 'plateConfig'
Error: unable to load R code in package 'plateCore'
Execution halted
ERROR: lazy loading failed for package 'plateCore'
* removing 'C:/Users/biocbuild/bbs-3.9-bioc/meat/plateCore.buildbin-libdir/plateCore'