| Back to Multiple platform build/check report for BioC 3.9 |
|
This page was generated on 2019-04-09 12:57:27 -0400 (Tue, 09 Apr 2019).
| Package 1194/1703 | Hostname | OS / Arch | INSTALL | BUILD | CHECK | BUILD BIN | ||||||
| plateCore 1.41.1 Errol Strain
| malbec2 | Linux (Ubuntu 18.04.2 LTS) / x86_64 | ERROR | ERROR | skipped | |||||||
| tokay2 | Windows Server 2012 R2 Standard / x64 | ERROR | ERROR | skipped | skipped | |||||||
| celaya2 | OS X 10.11.6 El Capitan / x86_64 | ERROR | [ ERROR ] | skipped | skipped | |||||||
| merida2 | OS X 10.11.6 El Capitan / x86_64 | OK | OK | WARNINGS | OK |
| Package: plateCore |
| Version: 1.41.1 |
| Command: /Library/Frameworks/R.framework/Versions/Current/Resources/bin/R CMD build --keep-empty-dirs --no-resave-data plateCore |
| StartedAt: 2019-04-08 19:46:01 -0400 (Mon, 08 Apr 2019) |
| EndedAt: 2019-04-08 19:46:12 -0400 (Mon, 08 Apr 2019) |
| EllapsedTime: 11.2 seconds |
| RetCode: 1 |
| Status: ERROR |
| PackageFile: None |
| PackageFileSize: NA |
##############################################################################
##############################################################################
###
### Running command:
###
### /Library/Frameworks/R.framework/Versions/Current/Resources/bin/R CMD build --keep-empty-dirs --no-resave-data plateCore
###
##############################################################################
##############################################################################
* checking for file ‘plateCore/DESCRIPTION’ ... OK
* preparing ‘plateCore’:
* checking DESCRIPTION meta-information ... OK
* installing the package to build vignettes
-----------------------------------
* installing *source* package ‘plateCore’ ...
** using staged installation
** R
** data
** byte-compile and prepare package for lazy loading
No methods found in package ‘flowStats’ for request: ‘%on%’ when loading ‘plateCore’
Error in reconcilePropertiesAndPrototype(name, slots, prototype, superClasses, :
The prototype for class “flowPlate” has undefined slot(s): 'plateConfig'
Error: unable to load R code in package ‘plateCore’
Execution halted
ERROR: lazy loading failed for package ‘plateCore’
* removing ‘/private/tmp/Rtmp0qk6AU/Rinstb1202cf3d472/plateCore’
-----------------------------------
ERROR: package installation failed