| Back to Multiple platform build/check report for BioC 3.9 |
|
This page was generated on 2019-04-09 11:57:26 -0400 (Tue, 09 Apr 2019).
| Package 1194/1703 | Hostname | OS / Arch | INSTALL | BUILD | CHECK | BUILD BIN | ||||||
| plateCore 1.41.1 Errol Strain
| malbec2 | Linux (Ubuntu 18.04.2 LTS) / x86_64 | ERROR | ERROR | skipped | |||||||
| tokay2 | Windows Server 2012 R2 Standard / x64 | ERROR | [ ERROR ] | skipped | skipped | |||||||
| celaya2 | OS X 10.11.6 El Capitan / x86_64 | ERROR | ERROR | skipped | skipped | |||||||
| merida2 | OS X 10.11.6 El Capitan / x86_64 | OK | OK | WARNINGS | OK |
| Package: plateCore |
| Version: 1.41.1 |
| Command: chmod a+r plateCore -R && C:\Users\biocbuild\bbs-3.9-bioc\R\bin\R.exe CMD build --keep-empty-dirs --no-resave-data plateCore |
| StartedAt: 2019-04-08 21:18:34 -0400 (Mon, 08 Apr 2019) |
| EndedAt: 2019-04-08 21:19:01 -0400 (Mon, 08 Apr 2019) |
| EllapsedTime: 27.2 seconds |
| RetCode: 1 |
| Status: ERROR |
| PackageFile: plateCore_1.41.1.tar.gz |
| PackageFileSize: 2.247 MiB |
##############################################################################
##############################################################################
###
### Running command:
###
### chmod a+r plateCore -R && C:\Users\biocbuild\bbs-3.9-bioc\R\bin\R.exe CMD build --keep-empty-dirs --no-resave-data plateCore
###
##############################################################################
##############################################################################
* checking for file 'plateCore/DESCRIPTION' ... OK
* preparing 'plateCore':
* checking DESCRIPTION meta-information ... OK
* installing the package to build vignettes
-----------------------------------
* installing *source* package 'plateCore' ...
** R
** data
** byte-compile and prepare package for lazy loading
No methods found in package 'flowStats' for request: '%on%' when loading 'plateCore'
Error in reconcilePropertiesAndPrototype(name, slots, prototype, superClasses, :
The prototype for class "flowPlate" has undefined slot(s): 'plateConfig'
Error: unable to load R code in package 'plateCore'
Execution halted
ERROR: lazy loading failed for package 'plateCore'
* removing 'C:/Users/biocbuild/bbs-3.9-bioc/tmpdir/Rtmp6NqAWR/Rinst19fc48ef101e/plateCore'
-----------------------------------
ERROR: package installation failed