| Back to Multiple platform build/check report for BioC 3.9 |
|
This page was generated on 2019-03-11 11:30:00 -0400 (Mon, 11 Mar 2019).
| Package 1574/1676 | Hostname | OS / Arch | INSTALL | BUILD | CHECK | BUILD BIN | ||||||
| TCseq 1.7.1 Mengjun Wu
| malbec2 | Linux (Ubuntu 18.04.1 LTS) / x86_64 | OK | OK | WARNINGS | |||||||
| tokay2 | Windows Server 2012 R2 Standard / x64 | OK | OK | OK | [ OK ] | |||||||
| merida2 | OS X 10.11.6 El Capitan / x86_64 | OK | OK | OK | OK | |||||||
| celaya2 | OS X 10.11.6 El Capitan / x86_64 | OK | OK | WARNINGS | OK |
| Package: TCseq |
| Version: 1.7.1 |
| Command: rm -rf TCseq.buildbin-libdir && mkdir TCseq.buildbin-libdir && C:\Users\biocbuild\bbs-3.9-bioc\R\bin\R.exe CMD INSTALL --merge-multiarch --build --library=TCseq.buildbin-libdir TCseq_1.7.1.tar.gz |
| StartedAt: 2019-03-11 09:13:14 -0400 (Mon, 11 Mar 2019) |
| EndedAt: 2019-03-11 09:14:03 -0400 (Mon, 11 Mar 2019) |
| EllapsedTime: 49.3 seconds |
| RetCode: 0 |
| Status: OK |
| PackageFile: TCseq_1.7.1.zip |
| PackageFileSize: 818.5 KiB |
##############################################################################
##############################################################################
###
### Running command:
###
### rm -rf TCseq.buildbin-libdir && mkdir TCseq.buildbin-libdir && C:\Users\biocbuild\bbs-3.9-bioc\R\bin\R.exe CMD INSTALL --merge-multiarch --build --library=TCseq.buildbin-libdir TCseq_1.7.1.tar.gz
###
##############################################################################
##############################################################################
install for i386
* installing *source* package 'TCseq' ...
** R
** data
*** moving datasets to lazyload DB
** inst
** byte-compile and prepare package for lazy loading
** help
*** installing help indices
converting help for package 'TCseq'
finding HTML links ... done
DBanalysis html
finding level-2 HTML links ... done
DBresult html
TCA html
TCA.accessors html
clust-class html
clust.accessors html
countReads html
counts html
countsTable html
experiment html
experiment_BAMfile html
genomicIntervals html
peakreference html
tca_ATAC html
timeclust html
timeclustplot html
timecourseTable html
** building package indices
** installing vignettes
** testing if installed package can be loaded
install for x64
* installing *source* package 'TCseq' ...
** testing if installed package can be loaded
* MD5 sums
packaged installation of 'TCseq' as TCseq_1.7.1.zip
* DONE (TCseq)