| Back to Multiple platform build/check report for BioC 3.9 |
|
This page was generated on 2019-04-09 12:28:39 -0400 (Tue, 09 Apr 2019).
| Package 1599/1703 | Hostname | OS / Arch | INSTALL | BUILD | CHECK | BUILD BIN | ||||||
| TCseq 1.7.1 Mengjun Wu
| malbec2 | Linux (Ubuntu 18.04.2 LTS) / x86_64 | ERROR | ERROR | skipped | |||||||
| tokay2 | Windows Server 2012 R2 Standard / x64 | [ ERROR ] | ERROR | skipped | skipped | |||||||
| celaya2 | OS X 10.11.6 El Capitan / x86_64 | ERROR | ERROR | skipped | skipped | |||||||
| merida2 | OS X 10.11.6 El Capitan / x86_64 | OK | OK | OK | OK |
| Package: TCseq |
| Version: 1.7.1 |
| Command: C:\cygwin\bin\curl.exe -O https://malbec2.bioconductor.org/BBS/3.9/bioc/src/contrib/TCseq_1.7.1.tar.gz && rm -rf TCseq.buildbin-libdir && mkdir TCseq.buildbin-libdir && C:\Users\biocbuild\bbs-3.9-bioc\R\bin\R.exe CMD INSTALL --merge-multiarch --build --library=TCseq.buildbin-libdir TCseq_1.7.1.tar.gz && C:\Users\biocbuild\bbs-3.9-bioc\R\bin\R.exe CMD INSTALL TCseq_1.7.1.zip && rm TCseq_1.7.1.tar.gz TCseq_1.7.1.zip |
| StartedAt: 2019-04-08 20:16:14 -0400 (Mon, 08 Apr 2019) |
| EndedAt: 2019-04-08 20:16:24 -0400 (Mon, 08 Apr 2019) |
| EllapsedTime: 10.1 seconds |
| RetCode: 1 |
| Status: ERROR |
##############################################################################
##############################################################################
###
### Running command:
###
### C:\cygwin\bin\curl.exe -O https://malbec2.bioconductor.org/BBS/3.9/bioc/src/contrib/TCseq_1.7.1.tar.gz && rm -rf TCseq.buildbin-libdir && mkdir TCseq.buildbin-libdir && C:\Users\biocbuild\bbs-3.9-bioc\R\bin\R.exe CMD INSTALL --merge-multiarch --build --library=TCseq.buildbin-libdir TCseq_1.7.1.tar.gz && C:\Users\biocbuild\bbs-3.9-bioc\R\bin\R.exe CMD INSTALL TCseq_1.7.1.zip && rm TCseq_1.7.1.tar.gz TCseq_1.7.1.zip
###
##############################################################################
##############################################################################
% Total % Received % Xferd Average Speed Time Time Time Current
Dload Upload Total Spent Left Speed
0 0 0 0 0 0 0 0 --:--:-- --:--:-- --:--:-- 0
100 598k 100 598k 0 0 900k 0 --:--:-- --:--:-- --:--:-- 909k
install for i386
* installing *source* package 'TCseq' ...
** R
** data
*** moving datasets to lazyload DB
** byte-compile and prepare package for lazy loading
Error in reconcilePropertiesAndPrototype(name, slots, prototype, superClasses, :
The prototype for class "TCA" has undefined slot(s): ''
Error: unable to load R code in package 'TCseq'
Execution halted
ERROR: lazy loading failed for package 'TCseq'
* removing 'C:/Users/biocbuild/bbs-3.9-bioc/meat/TCseq.buildbin-libdir/TCseq'