| Back to Multiple platform build/check report for BioC 3.9 |
|
This page was generated on 2019-04-09 13:17:32 -0400 (Tue, 09 Apr 2019).
| Package 1599/1703 | Hostname | OS / Arch | INSTALL | BUILD | CHECK | BUILD BIN | ||||||
| TCseq 1.7.1 Mengjun Wu
| malbec2 | Linux (Ubuntu 18.04.2 LTS) / x86_64 | ERROR | ERROR | skipped | |||||||
| tokay2 | Windows Server 2012 R2 Standard / x64 | ERROR | ERROR | skipped | skipped | |||||||
| celaya2 | OS X 10.11.6 El Capitan / x86_64 | ERROR | [ ERROR ] | skipped | skipped | |||||||
| merida2 | OS X 10.11.6 El Capitan / x86_64 | OK | OK | OK | OK |
| Package: TCseq |
| Version: 1.7.1 |
| Command: /Library/Frameworks/R.framework/Versions/Current/Resources/bin/R CMD build --keep-empty-dirs --no-resave-data TCseq |
| StartedAt: 2019-04-08 22:20:58 -0400 (Mon, 08 Apr 2019) |
| EndedAt: 2019-04-08 22:21:17 -0400 (Mon, 08 Apr 2019) |
| EllapsedTime: 19.0 seconds |
| RetCode: 1 |
| Status: ERROR |
| PackageFile: None |
| PackageFileSize: NA |
##############################################################################
##############################################################################
###
### Running command:
###
### /Library/Frameworks/R.framework/Versions/Current/Resources/bin/R CMD build --keep-empty-dirs --no-resave-data TCseq
###
##############################################################################
##############################################################################
* checking for file ‘TCseq/DESCRIPTION’ ... OK
* preparing ‘TCseq’:
* checking DESCRIPTION meta-information ... OK
* installing the package to build vignettes
-----------------------------------
* installing *source* package ‘TCseq’ ...
** using staged installation
** R
** data
*** moving datasets to lazyload DB
** byte-compile and prepare package for lazy loading
Error in reconcilePropertiesAndPrototype(name, slots, prototype, superClasses, :
The prototype for class “TCA” has undefined slot(s): ''
Error: unable to load R code in package ‘TCseq’
Execution halted
ERROR: lazy loading failed for package ‘TCseq’
* removing ‘/private/tmp/RtmpkeLKHw/Rinst112065ad9792c/TCseq’
-----------------------------------
ERROR: package installation failed