| Back to Multiple platform build/check report for BioC 3.9 |
|
This page was generated on 2019-04-09 13:35:29 -0400 (Tue, 09 Apr 2019).
| Package 232/1703 | Hostname | OS / Arch | INSTALL | BUILD | CHECK | BUILD BIN | ||||||
| CEMiTool 1.7.7 Helder Nakaya
| malbec2 | Linux (Ubuntu 18.04.2 LTS) / x86_64 | OK | OK | OK | |||||||
| tokay2 | Windows Server 2012 R2 Standard / x64 | OK | OK | OK | OK | |||||||
| celaya2 | OS X 10.11.6 El Capitan / x86_64 | OK | OK | OK | OK | |||||||
| merida2 | OS X 10.11.6 El Capitan / x86_64 | OK | OK | [ OK ] | OK |
| Package: CEMiTool |
| Version: 1.7.7 |
| Command: /Library/Frameworks/R.framework/Versions/Current/Resources/bin/R CMD check --install=check:CEMiTool.install-out.txt --library=/Library/Frameworks/R.framework/Versions/Current/Resources/library --no-vignettes --timings CEMiTool_1.7.7.tar.gz |
| StartedAt: 2019-04-08 23:46:21 -0400 (Mon, 08 Apr 2019) |
| EndedAt: 2019-04-08 23:51:08 -0400 (Mon, 08 Apr 2019) |
| EllapsedTime: 286.7 seconds |
| RetCode: 0 |
| Status: OK |
| CheckDir: CEMiTool.Rcheck |
| Warnings: 0 |
##############################################################################
##############################################################################
###
### Running command:
###
### /Library/Frameworks/R.framework/Versions/Current/Resources/bin/R CMD check --install=check:CEMiTool.install-out.txt --library=/Library/Frameworks/R.framework/Versions/Current/Resources/library --no-vignettes --timings CEMiTool_1.7.7.tar.gz
###
##############################################################################
##############################################################################
* using log directory ‘/Users/biocbuild/bbs-3.9-bioc/meat/CEMiTool.Rcheck’
* using R Under development (unstable) (2018-11-27 r75683)
* using platform: x86_64-apple-darwin15.6.0 (64-bit)
* using session charset: UTF-8
* using option ‘--no-vignettes’
* checking for file ‘CEMiTool/DESCRIPTION’ ... OK
* this is package ‘CEMiTool’ version ‘1.7.7’
* package encoding: UTF-8
* checking package namespace information ... OK
* checking package dependencies ... OK
* checking if this is a source package ... OK
* checking if there is a namespace ... OK
* checking for hidden files and directories ... OK
* checking for portable file names ... OK
* checking for sufficient/correct file permissions ... OK
* checking whether package ‘CEMiTool’ can be installed ... OK
* checking installed package size ... NOTE
installed size is 6.6Mb
sub-directories of 1Mb or more:
data 3.1Mb
extdata 2.8Mb
* checking package directory ... OK
* checking ‘build’ directory ... OK
* checking DESCRIPTION meta-information ... OK
* checking top-level files ... OK
* checking for left-over files ... OK
* checking index information ... OK
* checking package subdirectories ... OK
* checking R files for non-ASCII characters ... OK
* checking R files for syntax errors ... OK
* checking whether the package can be loaded ... OK
* checking whether the package can be loaded with stated dependencies ... OK
* checking whether the package can be unloaded cleanly ... OK
* checking whether the namespace can be loaded with stated dependencies ... OK
* checking whether the namespace can be unloaded cleanly ... OK
* checking dependencies in R code ... OK
* checking S3 generic/method consistency ... OK
* checking replacement functions ... OK
* checking foreign function calls ... OK
* checking R code for possible problems ... NOTE
cem_overlap : <anonymous>: no visible binding for global variable
‘splitBy’
cem_overlap: no visible binding for global variable ‘object’
enrich_mods : <anonymous> : <anonymous> : <anonymous>: no visible
binding for global variable ‘gene’
enrich_mods : <anonymous> : <anonymous> : <anonymous>: no visible
binding for global variable ‘P.Value’
enrich_mods : <anonymous> : <anonymous> : <anonymous>: no visible
global function definition for ‘median’
enrich_mods : <anonymous> : <anonymous> : <anonymous>: no visible
global function definition for ‘sd’
flip_vector: no visible global function definition for ‘setNames’
makeContMatrix: no visible global function definition for
‘model.matrix’
makeLimmaComp: no visible global function definition for ‘setNames’
mod_activity : <anonymous>: no visible binding for global variable
‘modules’
mod_activity : <anonymous> : <anonymous>: no visible binding for global
variable ‘gene’
mod_activity : <anonymous> : <anonymous>: no visible binding for global
variable ‘comparison’
mod_activity : <anonymous> : <anonymous>: no visible global function
definition for ‘median’
mod_activity : <anonymous> : <anonymous>: no visible binding for global
variable ‘logFC’
mod_activity : <anonymous> : <anonymous>: no visible binding for global
variable ‘module’
mod_activity : <anonymous> : <anonymous>: no visible binding for global
variable ‘fc_median’
mod_activity : <anonymous> : <anonymous>: no visible binding for global
variable ‘parameter’
mod_activity : <anonymous> : <anonymous>: no visible binding for global
variable ‘value’
mod_activity : <anonymous>: no visible binding for global variable
‘new_col’
mod_activity : <anonymous>: no visible binding for global variable
‘comparison’
mod_activity : <anonymous>: no visible binding for global variable
‘parameter’
mod_activity : <anonymous>: no visible binding for global variable
‘value’
mod_compare : <anonymous>: no visible binding for global variable
‘modules’
mod_compare: no visible binding for global variable ‘first_mod’
mod_compare: no visible binding for global variable ‘second_mod’
mod_compare: no visible global function definition for ‘p.adjust’
mod_compare: no visible binding for global variable ‘Jaccard’
mod_compare: no visible binding for global variable ‘Fisherp’
mod_compare: no visible binding for global variable ‘fdr’
mod_info : <anonymous> : <anonymous>: no visible binding for global
variable ‘value’
mod_info : <anonymous> : <anonymous>: no visible binding for global
variable ‘pathway’
mod_info : <anonymous> : <anonymous>: no visible binding for global
variable ‘module’
mod_info : <anonymous> : <anonymous>: no visible binding for global
variable ‘metric’
mod_info : <anonymous>: no visible binding for global variable ‘metric’
mod_info : <anonymous>: no visible binding for global variable
‘modules’
mod_info : <anonymous>: no visible binding for global variable ‘module’
mod_info: no visible binding for global variable ‘value’
mod_info: no visible binding for global variable ‘module’
plot_comembership: no visible binding for global variable ‘Var1’
plot_comembership: no visible binding for global variable ‘Freq’
plot_consensus: no visible global function definition for ‘sd’
plot_consensus: no visible binding for global variable ‘X1’
plot_consensus: no visible binding for global variable ‘Y1’
plot_consensus: no visible binding for global variable ‘X2’
plot_consensus: no visible binding for global variable ‘Y2’
plot_consensus: no visible binding for global variable ‘Communities’
plot_similarity: no visible binding for global variable ‘X1’
plot_similarity: no visible binding for global variable ‘Y1’
plot_similarity: no visible binding for global variable ‘X2’
plot_similarity: no visible binding for global variable ‘Y2’
plot_similarity: no visible binding for global variable ‘Weight’
plot_similarity: no visible binding for global variable ‘Names’
filter_expr,CEMiTool: no visible global function definition for ‘var’
get_hubs,CEMiTool : <anonymous>: no visible global function definition
for ‘head’
get_merged_mods,CEMiTool: no visible global function definition for
‘hclust’
get_merged_mods,CEMiTool: no visible global function definition for
‘as.dist’
get_mods,CEMiTool: no visible global function definition for ‘hclust’
get_mods,CEMiTool: no visible global function definition for ‘as.dist’
get_phi,CEMiTool: no visible global function definition for ‘tail’
get_phi,CEMiTool: no visible global function definition for ‘head’
mod_summary,CEMiTool: no visible global function definition for ‘:=’
plot_gsea,CEMiTool: no visible global function definition for ‘hclust’
plot_gsea,CEMiTool: no visible global function definition for ‘dist’
plot_mean_var,CEMiTool: no visible binding for global variable ‘var’
plot_mean_var,CEMiTool: no visible binding for global variable ‘Mean’
plot_mean_var,CEMiTool: no visible binding for global variable
‘Variance’
plot_mean_var,CEMiTool: no visible binding for global variable
‘..eq.label..’
plot_mean_var,CEMiTool: no visible binding for global variable
‘..rr.label..’
plot_ora,CEMiTool : <anonymous>: no visible global function definition
for ‘head’
plot_qq,CEMiTool: no visible binding for global variable ‘data’
plot_sample_tree,CEMiTool: no visible global function definition for
‘hclust’
plot_sample_tree,CEMiTool: no visible global function definition for
‘dist’
plot_sample_tree,CEMiTool: no visible global function definition for
‘dev.off’
save_plots,CEMiTool : <anonymous>: no visible global function
definition for ‘dev.off’
save_plots,CEMiTool: no visible global function definition for
‘dev.off’
Undefined global functions or variables:
..eq.label.. ..rr.label.. := Communities Fisherp Freq Jaccard Mean
Names P.Value Var1 Variance Weight X1 X2 Y1 Y2 as.dist comparison
data dev.off dist fc_median fdr first_mod gene hclust head logFC
median metric model.matrix module modules new_col object p.adjust
parameter pathway sd second_mod setNames splitBy tail value var
Consider adding
importFrom("grDevices", "dev.off")
importFrom("stats", "as.dist", "dist", "hclust", "median",
"model.matrix", "p.adjust", "sd", "setNames", "var")
importFrom("utils", "data", "head", "tail")
to your NAMESPACE file.
* checking Rd files ... OK
* checking Rd metadata ... OK
* checking Rd cross-references ... OK
* checking for missing documentation entries ... OK
* checking for code/documentation mismatches ... OK
* checking Rd \usage sections ... OK
* checking Rd contents ... OK
* checking for unstated dependencies in examples ... OK
* checking contents of ‘data’ directory ... OK
* checking data for non-ASCII characters ... OK
* checking data for ASCII and uncompressed saves ... OK
* checking files in ‘vignettes’ ... OK
* checking examples ... OK
Examples with CPU or elapsed time > 5s
user system elapsed
plot_interactions 9.397 0.173 9.626
cemitool 8.541 0.340 9.009
plot_gsea 6.155 2.641 4.525
mod_gsea 5.471 1.341 4.446
gsea_data 4.918 1.391 3.971
* checking for unstated dependencies in ‘tests’ ... OK
* checking tests ...
Running ‘testthat.R’
OK
* checking for unstated dependencies in vignettes ... OK
* checking package vignettes in ‘inst/doc’ ... OK
* checking running R code from vignettes ... SKIPPED
* checking re-building of vignette outputs ... SKIPPED
* checking PDF version of manual ... OK
* DONE
Status: 2 NOTEs
See
‘/Users/biocbuild/bbs-3.9-bioc/meat/CEMiTool.Rcheck/00check.log’
for details.
CEMiTool.Rcheck/00install.out
############################################################################## ############################################################################## ### ### Running command: ### ### /Library/Frameworks/R.framework/Versions/Current/Resources/bin/R CMD INSTALL CEMiTool ### ############################################################################## ############################################################################## * installing to library ‘/Library/Frameworks/R.framework/Versions/3.6/Resources/library’ * installing *source* package ‘CEMiTool’ ... ** R ** data *** moving datasets to lazyload DB ** exec ** inst ** byte-compile and prepare package for lazy loading ** help *** installing help indices ** building package indices ** installing vignettes ** testing if installed package can be loaded * DONE (CEMiTool)
CEMiTool.Rcheck/tests/testthat.Rout
R Under development (unstable) (2018-11-27 r75683) -- "Unsuffered Consequences"
Copyright (C) 2018 The R Foundation for Statistical Computing
Platform: x86_64-apple-darwin15.6.0 (64-bit)
R is free software and comes with ABSOLUTELY NO WARRANTY.
You are welcome to redistribute it under certain conditions.
Type 'license()' or 'licence()' for distribution details.
R is a collaborative project with many contributors.
Type 'contributors()' for more information and
'citation()' on how to cite R or R packages in publications.
Type 'demo()' for some demos, 'help()' for on-line help, or
'help.start()' for an HTML browser interface to help.
Type 'q()' to quit R.
> library(testthat)
> library(CEMiTool)
> test_check('CEMiTool')
══ testthat results ═══════════════════════════════════════════════════════════
OK: 94 SKIPPED: 0 FAILED: 0
>
> proc.time()
user system elapsed
45.599 11.309 39.933
CEMiTool.Rcheck/CEMiTool-Ex.timings
| name | user | system | elapsed | |
| CEMiTool-class | 0.022 | 0.006 | 0.028 | |
| adj_data | 0.602 | 0.013 | 0.625 | |
| cem | 0.027 | 0.006 | 0.033 | |
| cem_overlap | 0.001 | 0.000 | 0.001 | |
| cemitool | 8.541 | 0.340 | 9.009 | |
| enrich_mods | 0.000 | 0.000 | 0.001 | |
| expr0 | 0.001 | 0.001 | 0.003 | |
| expr_data | 0.038 | 0.007 | 0.046 | |
| filter_expr | 0.395 | 0.018 | 0.416 | |
| find_modules | 1.381 | 0.022 | 1.436 | |
| fit_data | 1.142 | 0.016 | 1.170 | |
| generate_report | 0.001 | 0.000 | 0.000 | |
| get_adj | 0.233 | 0.010 | 0.247 | |
| get_beta_data | 0.907 | 0.032 | 0.960 | |
| get_cemitool_r2_beta | 1.416 | 0.023 | 1.453 | |
| get_connectivity | 1.229 | 0.021 | 1.268 | |
| get_hubs | 0.018 | 0.004 | 0.021 | |
| get_merged_mods | 0.825 | 0.014 | 0.847 | |
| get_mods | 0.717 | 0.007 | 0.730 | |
| get_phi | 1.255 | 0.017 | 1.285 | |
| gsea_data | 4.918 | 1.391 | 3.971 | |
| interactions_data | 0.922 | 0.566 | 0.528 | |
| makeContMatrix | 0.001 | 0.001 | 0.001 | |
| makeLimmaComp | 0.000 | 0.000 | 0.001 | |
| mod_colors | 0.038 | 0.012 | 0.051 | |
| mod_gsea | 5.471 | 1.341 | 4.446 | |
| mod_names | 0.098 | 0.091 | 0.027 | |
| mod_ora | 4.300 | 0.610 | 4.125 | |
| mod_summary | 0.112 | 0.065 | 0.072 | |
| module_genes | 0.097 | 0.099 | 0.047 | |
| new_cem | 0.068 | 0.050 | 0.027 | |
| nmodules | 0.105 | 0.095 | 0.049 | |
| ora_data | 3.307 | 0.205 | 3.336 | |
| overlap_community | 0.000 | 0.000 | 0.001 | |
| plot_beta_r2 | 0.215 | 0.006 | 0.223 | |
| plot_comembership | 0.000 | 0.000 | 0.001 | |
| plot_consensus | 0 | 0 | 0 | |
| plot_gsea | 6.155 | 2.641 | 4.525 | |
| plot_hist | 0.472 | 0.047 | 0.528 | |
| plot_interactions | 9.397 | 0.173 | 9.626 | |
| plot_mean_k | 0.227 | 0.006 | 0.234 | |
| plot_mean_var | 0.623 | 0.046 | 0.674 | |
| plot_ora | 3.857 | 0.156 | 4.048 | |
| plot_profile | 2.202 | 0.017 | 2.239 | |
| plot_qq | 2.565 | 0.296 | 2.885 | |
| plot_sample_tree | 0.737 | 0.037 | 0.782 | |
| plot_similarity | 0.001 | 0.000 | 0.001 | |
| read_gmt | 0.919 | 0.026 | 0.951 | |
| sample_annot | 0.003 | 0.002 | 0.005 | |
| sample_annotation | 0.019 | 0.002 | 0.021 | |
| save_plots | 0.035 | 0.006 | 0.042 | |
| show_plot | 0.228 | 0.006 | 0.234 | |
| stat_overlap_mods | 0.001 | 0.000 | 0.001 | |
| write_files | 0.564 | 0.447 | 0.215 | |