| Back to Multiple platform build/check report for BioC 3.9 | 
 | 
This page was generated on 2019-04-09 13:35:29 -0400 (Tue, 09 Apr 2019).
| Package 232/1703 | Hostname | OS / Arch | INSTALL | BUILD | CHECK | BUILD BIN | ||||||
| CEMiTool 1.7.7 Helder Nakaya 
 | malbec2 | Linux (Ubuntu 18.04.2 LTS) / x86_64 | OK | OK | OK |  | ||||||
| tokay2 | Windows Server 2012 R2 Standard / x64 | OK | OK | OK | OK |  | ||||||
| celaya2 | OS X 10.11.6 El Capitan / x86_64 | OK | OK | OK | OK |  | ||||||
| merida2 | OS X 10.11.6 El Capitan / x86_64 | OK | OK | OK | [ OK ] | 
| Package: CEMiTool | 
| Version: 1.7.7 | 
| Command: rm -rf CEMiTool.buildbin-libdir && mkdir CEMiTool.buildbin-libdir && /Users/biocbuild/BBS/utils/build-universal.sh CEMiTool_1.7.7.tar.gz /Library/Frameworks/R.framework/Versions/Current/Resources/bin/R CEMiTool.buildbin-libdir | 
| StartedAt: 2019-04-09 04:55:29 -0400 (Tue, 09 Apr 2019) | 
| EndedAt: 2019-04-09 04:56:48 -0400 (Tue, 09 Apr 2019) | 
| EllapsedTime: 78.7 seconds | 
| RetCode: 0 | 
| Status: OK | 
| PackageFile: CEMiTool_1.7.7.tgz | 
| PackageFileSize: 6.128 MiB | 
############################################################################## ############################################################################## ### ### Running command: ### ### rm -rf CEMiTool.buildbin-libdir && mkdir CEMiTool.buildbin-libdir && /Users/biocbuild/BBS/utils/build-universal.sh CEMiTool_1.7.7.tar.gz /Library/Frameworks/R.framework/Versions/Current/Resources/bin/R CEMiTool.buildbin-libdir ### ############################################################################## ############################################################################## >>>>>>> >>>>>>> INSTALLATION WITH 'R CMD INSTALL --preclean --no-multiarch --library=CEMiTool.buildbin-libdir CEMiTool_1.7.7.tar.gz' >>>>>>> * installing *source* package ‘CEMiTool’ ... ** R ** data *** moving datasets to lazyload DB ** exec ** inst ** byte-compile and prepare package for lazy loading ** help *** installing help indices ** building package indices ** installing vignettes ** testing if installed package can be loaded * DONE (CEMiTool)