| Back to Multiple platform build/check report for BioC 3.9 |
|
This page was generated on 2019-04-09 12:40:02 -0400 (Tue, 09 Apr 2019).
| Package 201/1703 | Hostname | OS / Arch | INSTALL | BUILD | CHECK | BUILD BIN | ||||||
| CAMTHC 1.1.3 Lulu Chen
| malbec2 | Linux (Ubuntu 18.04.2 LTS) / x86_64 | OK | OK | OK | |||||||
| tokay2 | Windows Server 2012 R2 Standard / x64 | OK | OK | OK | [ OK ] | |||||||
| celaya2 | OS X 10.11.6 El Capitan / x86_64 | OK | OK | OK | OK | |||||||
| merida2 | OS X 10.11.6 El Capitan / x86_64 | OK | OK | OK | OK |
| Package: CAMTHC |
| Version: 1.1.3 |
| Command: rm -rf CAMTHC.buildbin-libdir && mkdir CAMTHC.buildbin-libdir && C:\Users\biocbuild\bbs-3.9-bioc\R\bin\R.exe CMD INSTALL --merge-multiarch --build --library=CAMTHC.buildbin-libdir CAMTHC_1.1.3.tar.gz |
| StartedAt: 2019-04-09 07:33:41 -0400 (Tue, 09 Apr 2019) |
| EndedAt: 2019-04-09 07:34:10 -0400 (Tue, 09 Apr 2019) |
| EllapsedTime: 29.1 seconds |
| RetCode: 0 |
| Status: OK |
| PackageFile: CAMTHC_1.1.3.zip |
| PackageFileSize: 2.866 MiB |
##############################################################################
##############################################################################
###
### Running command:
###
### rm -rf CAMTHC.buildbin-libdir && mkdir CAMTHC.buildbin-libdir && C:\Users\biocbuild\bbs-3.9-bioc\R\bin\R.exe CMD INSTALL --merge-multiarch --build --library=CAMTHC.buildbin-libdir CAMTHC_1.1.3.tar.gz
###
##############################################################################
##############################################################################
install for i386
* installing *source* package 'CAMTHC' ...
** R
** data
** inst
** byte-compile and prepare package for lazy loading
** help
*** installing help indices
converting help for package 'CAMTHC'
finding HTML links ... done
AS-accessor html
AfromMarkers html
CAM html
CAMASObj-class html
CAMASest html
CAMMGCluster html
CAMMGObj-class html
CAMObj-class html
CAMPrep html
CAMPrepObj-class html
CAMTHC-package html
MDL html
MDLObj-class html
MGsforA html
MGstatistic html
PCAmat html
XWProj html
cornerSort html
ratMix3 html
redoASest html
reselectMG html
sffsHull html
simplexplot html
** building package indices
** installing vignettes
** testing if installed package can be loaded from temporary location
** testing if installed package can be loaded from final location
** testing if installed package keeps a record of temporary installation path
install for x64
* installing *source* package 'CAMTHC' ...
** testing if installed package can be loaded
* MD5 sums
packaged installation of 'CAMTHC' as CAMTHC_1.1.3.zip
* DONE (CAMTHC)