| Back to Multiple platform build/check report for BioC 3.9 |
|
This page was generated on 2019-04-09 13:20:36 -0400 (Tue, 09 Apr 2019).
| Package 201/1703 | Hostname | OS / Arch | INSTALL | BUILD | CHECK | BUILD BIN | ||||||
| CAMTHC 1.1.3 Lulu Chen
| malbec2 | Linux (Ubuntu 18.04.2 LTS) / x86_64 | OK | OK | OK | |||||||
| tokay2 | Windows Server 2012 R2 Standard / x64 | OK | OK | OK | OK | |||||||
| celaya2 | OS X 10.11.6 El Capitan / x86_64 | OK | OK | [ OK ] | OK | |||||||
| merida2 | OS X 10.11.6 El Capitan / x86_64 | OK | OK | OK | OK |
| Package: CAMTHC |
| Version: 1.1.3 |
| Command: /Library/Frameworks/R.framework/Versions/Current/Resources/bin/R CMD check --install=check:CAMTHC.install-out.txt --library=/Library/Frameworks/R.framework/Versions/Current/Resources/library --no-vignettes --timings CAMTHC_1.1.3.tar.gz |
| StartedAt: 2019-04-09 00:21:18 -0400 (Tue, 09 Apr 2019) |
| EndedAt: 2019-04-09 00:26:26 -0400 (Tue, 09 Apr 2019) |
| EllapsedTime: 308.0 seconds |
| RetCode: 0 |
| Status: OK |
| CheckDir: CAMTHC.Rcheck |
| Warnings: 0 |
##############################################################################
##############################################################################
###
### Running command:
###
### /Library/Frameworks/R.framework/Versions/Current/Resources/bin/R CMD check --install=check:CAMTHC.install-out.txt --library=/Library/Frameworks/R.framework/Versions/Current/Resources/library --no-vignettes --timings CAMTHC_1.1.3.tar.gz
###
##############################################################################
##############################################################################
* using log directory ‘/Users/biocbuild/bbs-3.9-bioc/meat/CAMTHC.Rcheck’
* using R Under development (unstable) (2019-03-18 r76245)
* using platform: x86_64-apple-darwin15.6.0 (64-bit)
* using session charset: UTF-8
* using option ‘--no-vignettes’
* checking for file ‘CAMTHC/DESCRIPTION’ ... OK
* checking extension type ... Package
* this is package ‘CAMTHC’ version ‘1.1.3’
* package encoding: UTF-8
* checking package namespace information ... OK
* checking package dependencies ... OK
* checking if this is a source package ... OK
* checking if there is a namespace ... OK
* checking for hidden files and directories ... OK
* checking for portable file names ... OK
* checking for sufficient/correct file permissions ... OK
* checking whether package ‘CAMTHC’ can be installed ... OK
* checking installed package size ... OK
* checking package directory ... OK
* checking ‘build’ directory ... OK
* checking DESCRIPTION meta-information ... OK
* checking top-level files ... OK
* checking for left-over files ... OK
* checking index information ... OK
* checking package subdirectories ... OK
* checking R files for non-ASCII characters ... OK
* checking R files for syntax errors ... OK
* checking whether the package can be loaded ... OK
* checking whether the package can be loaded with stated dependencies ... OK
* checking whether the package can be unloaded cleanly ... OK
* checking whether the namespace can be loaded with stated dependencies ... OK
* checking whether the namespace can be unloaded cleanly ... OK
* checking dependencies in R code ... OK
* checking S3 generic/method consistency ... OK
* checking replacement functions ... OK
* checking foreign function calls ... OK
* checking R code for possible problems ... OK
* checking Rd files ... OK
* checking Rd metadata ... OK
* checking Rd cross-references ... OK
* checking for missing documentation entries ... OK
* checking for code/documentation mismatches ... OK
* checking Rd \usage sections ... OK
* checking Rd contents ... OK
* checking for unstated dependencies in examples ... OK
* checking contents of ‘data’ directory ... OK
* checking data for non-ASCII characters ... OK
* checking data for ASCII and uncompressed saves ... OK
* checking files in ‘vignettes’ ... OK
* checking examples ... OK
Examples with CPU or elapsed time > 5s
user system elapsed
MGsforA 27.855 8.847 36.663
redoASest 15.469 4.893 20.341
reselectMG 15.469 4.752 20.197
AS-accessor 14.305 4.835 19.127
PCAmat 14.227 4.335 18.541
CAMASest 14.194 4.365 18.537
CAMPrep 13.891 4.466 18.342
CAM 13.918 4.382 18.278
CAMMGCluster 13.166 4.245 17.392
XWProj 6.432 0.906 7.352
* checking for unstated dependencies in ‘tests’ ... OK
* checking tests ...
Running ‘testthat.R’
OK
* checking for unstated dependencies in vignettes ... OK
* checking package vignettes in ‘inst/doc’ ... OK
* checking running R code from vignettes ... SKIPPED
* checking re-building of vignette outputs ... SKIPPED
* checking PDF version of manual ... OK
* DONE
Status: OK
CAMTHC.Rcheck/00install.out
############################################################################## ############################################################################## ### ### Running command: ### ### /Library/Frameworks/R.framework/Versions/Current/Resources/bin/R CMD INSTALL CAMTHC ### ############################################################################## ############################################################################## * installing to library ‘/Library/Frameworks/R.framework/Versions/3.6/Resources/library’ * installing *source* package ‘CAMTHC’ ... ** using staged installation ** R ** data ** inst ** byte-compile and prepare package for lazy loading ** help *** installing help indices ** building package indices ** installing vignettes ** testing if installed package can be loaded from temporary location ** testing if installed package can be loaded from final location ** testing if installed package keeps a record of temporary installation path * DONE (CAMTHC)
CAMTHC.Rcheck/tests/testthat.Rout
R Under development (unstable) (2019-03-18 r76245) -- "Unsuffered Consequences"
Copyright (C) 2019 The R Foundation for Statistical Computing
Platform: x86_64-apple-darwin15.6.0 (64-bit)
R is free software and comes with ABSOLUTELY NO WARRANTY.
You are welcome to redistribute it under certain conditions.
Type 'license()' or 'licence()' for distribution details.
R is a collaborative project with many contributors.
Type 'contributors()' for more information and
'citation()' on how to cite R or R packages in publications.
Type 'demo()' for some demos, 'help()' for on-line help, or
'help.start()' for an HTML browser interface to help.
Type 'q()' to quit R.
> library(testthat)
> library(CAMTHC)
>
> test_check("CAMTHC")
══ testthat results ═══════════════════════════════════════════════════════════
OK: 5 SKIPPED: 0 FAILED: 0
>
> proc.time()
user system elapsed
5.377 0.738 5.970
CAMTHC.Rcheck/CAMTHC-Ex.timings
| name | user | system | elapsed | |
| AS-accessor | 14.305 | 4.835 | 19.127 | |
| AfromMarkers | 0.527 | 0.027 | 0.553 | |
| CAM | 13.918 | 4.382 | 18.278 | |
| CAMASest | 14.194 | 4.365 | 18.537 | |
| CAMMGCluster | 13.166 | 4.245 | 17.392 | |
| CAMPrep | 13.891 | 4.466 | 18.342 | |
| MDL | 0.000 | 0.001 | 0.001 | |
| MGsforA | 27.855 | 8.847 | 36.663 | |
| MGstatistic | 0.611 | 0.032 | 0.643 | |
| PCAmat | 14.227 | 4.335 | 18.541 | |
| XWProj | 6.432 | 0.906 | 7.352 | |
| cornerSort | 0.123 | 0.031 | 0.113 | |
| redoASest | 15.469 | 4.893 | 20.341 | |
| reselectMG | 15.469 | 4.752 | 20.197 | |
| sffsHull | 0.080 | 0.000 | 0.081 | |
| simplexplot | 0.694 | 0.053 | 0.748 | |