| Back to Workflows build report for BioC 3.8 | 
This page was generated on 2019-01-30 16:00:25 -0500 (Wed, 30 Jan 2019).
| Package 12/23 | Hostname | OS / Arch | INSTALL | BUILD | ||||||
| maEndToEnd 2.0.0 Bernd Klaus 
 | malbec1 | Linux (Ubuntu 16.04.1 LTS) / x86_64 | OK | OK |  | |||||
| tokay1 | Windows Server 2012 R2 Standard / x64 | [ OK ] | OK | 
| Package: maEndToEnd | 
| Version: 2.0.0 | 
| Command: C:\cygwin\bin\curl.exe -O https://malbec1.bioconductor.org/BBS/3.8/workflows/src/contrib/maEndToEnd_2.0.0.tar.gz && rm -rf maEndToEnd.buildbin-libdir && mkdir maEndToEnd.buildbin-libdir && C:\Users\biocbuild\bbs-3.8-bioc\R\bin\R.exe CMD INSTALL --merge-multiarch --build --library=maEndToEnd.buildbin-libdir maEndToEnd_2.0.0.tar.gz && C:\Users\biocbuild\bbs-3.8-bioc\R\bin\R.exe CMD INSTALL maEndToEnd_2.0.0.zip && rm maEndToEnd_2.0.0.tar.gz maEndToEnd_2.0.0.zip | 
| StartedAt: 2019-01-30 07:57:40 -0500 (Wed, 30 Jan 2019) | 
| EndedAt: 2019-01-30 07:58:57 -0500 (Wed, 30 Jan 2019) | 
| EllapsedTime: 77.7 seconds | 
| RetCode: 0 | 
| Status: OK | 
##############################################################################
##############################################################################
###
### Running command:
###
###   C:\cygwin\bin\curl.exe -O https://malbec1.bioconductor.org/BBS/3.8/workflows/src/contrib/maEndToEnd_2.0.0.tar.gz && rm -rf maEndToEnd.buildbin-libdir && mkdir maEndToEnd.buildbin-libdir && C:\Users\biocbuild\bbs-3.8-bioc\R\bin\R.exe CMD INSTALL --merge-multiarch --build --library=maEndToEnd.buildbin-libdir maEndToEnd_2.0.0.tar.gz && C:\Users\biocbuild\bbs-3.8-bioc\R\bin\R.exe CMD INSTALL maEndToEnd_2.0.0.zip && rm maEndToEnd_2.0.0.tar.gz maEndToEnd_2.0.0.zip
###
##############################################################################
##############################################################################
  % Total    % Received % Xferd  Average Speed   Time    Time     Time  Current
                                 Dload  Upload   Total   Spent    Left  Speed
  0     0    0     0    0     0      0      0 --:--:-- --:--:-- --:--:--     0
100 69789  100 69789    0     0  1895k      0 --:--:-- --:--:-- --:--:-- 2129k
install for i386
* installing *source* package 'maEndToEnd' ...
** inst
** help
No man pages found in package  'maEndToEnd' 
*** installing help indices
** building package indices
** installing vignettes
** testing if installed package can be loaded
groupGOTerms: 	GOBPTerm, GOMFTerm, GOCCTerm environments built.
In R CMD INSTALL
install for x64
* installing *source* package 'maEndToEnd' ...
** testing if installed package can be loaded
groupGOTerms: 	GOBPTerm, GOMFTerm, GOCCTerm environments built.
* MD5 sums
packaged installation of 'maEndToEnd' as maEndToEnd_2.0.0.zip
* DONE (maEndToEnd)
In R CMD INSTALL
In R CMD INSTALL
* installing to library 'C:/Users/biocbuild/bbs-3.8-bioc/R/library'
package 'maEndToEnd' successfully unpacked and MD5 sums checked
In R CMD INSTALL