| Back to Workflows build report for BioC 3.8 | 
This page was generated on 2019-01-30 16:00:24 -0500 (Wed, 30 Jan 2019).
| Package 16/23 | Hostname | OS / Arch | INSTALL | BUILD | ||||||
| RNAseq123 1.4.3 Matthew Ritchie 
 | malbec1 | Linux (Ubuntu 16.04.1 LTS) / x86_64 | OK | OK |  | |||||
| tokay1 | Windows Server 2012 R2 Standard / x64 | [ OK ] | OK | 
| Package: RNAseq123 | 
| Version: 1.4.3 | 
| Command: C:\cygwin\bin\curl.exe -O https://malbec1.bioconductor.org/BBS/3.8/workflows/src/contrib/RNAseq123_1.4.3.tar.gz && rm -rf RNAseq123.buildbin-libdir && mkdir RNAseq123.buildbin-libdir && C:\Users\biocbuild\bbs-3.8-bioc\R\bin\R.exe CMD INSTALL --merge-multiarch --build --library=RNAseq123.buildbin-libdir RNAseq123_1.4.3.tar.gz && C:\Users\biocbuild\bbs-3.8-bioc\R\bin\R.exe CMD INSTALL RNAseq123_1.4.3.zip && rm RNAseq123_1.4.3.tar.gz RNAseq123_1.4.3.zip | 
| StartedAt: 2019-01-30 07:57:40 -0500 (Wed, 30 Jan 2019) | 
| EndedAt: 2019-01-30 07:58:32 -0500 (Wed, 30 Jan 2019) | 
| EllapsedTime: 52.4 seconds | 
| RetCode: 0 | 
| Status: OK | 
##############################################################################
##############################################################################
###
### Running command:
###
###   C:\cygwin\bin\curl.exe -O https://malbec1.bioconductor.org/BBS/3.8/workflows/src/contrib/RNAseq123_1.4.3.tar.gz && rm -rf RNAseq123.buildbin-libdir && mkdir RNAseq123.buildbin-libdir && C:\Users\biocbuild\bbs-3.8-bioc\R\bin\R.exe CMD INSTALL --merge-multiarch --build --library=RNAseq123.buildbin-libdir RNAseq123_1.4.3.tar.gz && C:\Users\biocbuild\bbs-3.8-bioc\R\bin\R.exe CMD INSTALL RNAseq123_1.4.3.zip && rm RNAseq123_1.4.3.tar.gz RNAseq123_1.4.3.zip
###
##############################################################################
##############################################################################
  % Total    % Received % Xferd  Average Speed   Time    Time     Time  Current
                                 Dload  Upload   Total   Spent    Left  Speed
  0     0    0     0    0     0      0      0 --:--:-- --:--:-- --:--:--     0
100 2341k  100 2341k    0     0  25.3M      0 --:--:-- --:--:-- --:--:-- 26.5M
install for i386
* installing *source* package 'RNAseq123' ...
** inst
** help
No man pages found in package  'RNAseq123' 
*** installing help indices
** building package indices
** installing vignettes
** testing if installed package can be loaded
In R CMD INSTALL
install for x64
* installing *source* package 'RNAseq123' ...
** testing if installed package can be loaded
* MD5 sums
packaged installation of 'RNAseq123' as RNAseq123_1.4.3.zip
* DONE (RNAseq123)
In R CMD INSTALL
In R CMD INSTALL
* installing to library 'C:/Users/biocbuild/bbs-3.8-bioc/R/library'
package 'RNAseq123' successfully unpacked and MD5 sums checked
In R CMD INSTALL