| Back to Workflows build report for BioC 3.8 |
This page was generated on 2019-01-30 16:00:24 -0500 (Wed, 30 Jan 2019).
| Package 16/23 | Hostname | OS / Arch | INSTALL | BUILD | ||||||
| RNAseq123 1.4.3 Matthew Ritchie
| malbec1 | Linux (Ubuntu 16.04.1 LTS) / x86_64 | OK | OK | ||||||
| tokay1 | Windows Server 2012 R2 Standard / x64 | OK | [ OK ] |
| Package: RNAseq123 |
| Version: 1.4.3 |
| Command: chmod a+r RNAseq123 -R && C:\Users\biocbuild\bbs-3.8-bioc\R\bin\R.exe CMD build --keep-empty-dirs --no-resave-data RNAseq123 |
| StartedAt: 2019-01-30 08:04:37 -0500 (Wed, 30 Jan 2019) |
| EndedAt: 2019-01-30 08:15:43 -0500 (Wed, 30 Jan 2019) |
| EllapsedTime: 665.4 seconds |
| RetCode: 0 |
| Status: OK |
| PackageFile: RNAseq123_1.4.3.tar.gz |
| PackageFileSize: 3.438 MiB |
##############################################################################
##############################################################################
###
### Running command:
###
### chmod a+r RNAseq123 -R && C:\Users\biocbuild\bbs-3.8-bioc\R\bin\R.exe CMD build --keep-empty-dirs --no-resave-data RNAseq123
###
##############################################################################
##############################################################################
* checking for file 'RNAseq123/DESCRIPTION' ... OK
* preparing 'RNAseq123':
* checking DESCRIPTION meta-information ... OK
* installing the package to build vignettes
* creating vignettes ... OK
Warning: 'inst/doc' file
'limmaWorkflow_CHN.R'
ignored as vignettes have been rebuilt.
Run R CMD build with --no-build-vignettes to prevent rebuilding.
* checking for LF line-endings in source and make files and shell scripts
* checking for empty or unneeded directories
* creating default NAMESPACE file
* building 'RNAseq123_1.4.3.tar.gz'