| Back to Multiple platform build/check report for BioC 3.8 |
|
This page was generated on 2019-04-13 11:22:17 -0400 (Sat, 13 Apr 2019).
| Package 1630/1649 | Hostname | OS / Arch | INSTALL | BUILD | CHECK | BUILD BIN | ||||||
| waveTiling 1.24.0 Kristof De Beuf
| malbec1 | Linux (Ubuntu 16.04.6 LTS) / x86_64 | OK | OK | NA | |||||||
| tokay1 | Windows Server 2012 R2 Standard / x64 | OK | OK | OK | [ OK ] | |||||||
| merida1 | OS X 10.11.6 El Capitan / x86_64 | OK | OK | OK | OK |
| Package: waveTiling |
| Version: 1.24.0 |
| Command: rm -rf waveTiling.buildbin-libdir && mkdir waveTiling.buildbin-libdir && C:\Users\biocbuild\bbs-3.8-bioc\R\bin\R.exe CMD INSTALL --merge-multiarch --build --library=waveTiling.buildbin-libdir waveTiling_1.24.0.tar.gz |
| StartedAt: 2019-04-13 08:03:50 -0400 (Sat, 13 Apr 2019) |
| EndedAt: 2019-04-13 08:04:28 -0400 (Sat, 13 Apr 2019) |
| EllapsedTime: 37.6 seconds |
| RetCode: 0 |
| Status: OK |
| PackageFile: waveTiling_1.24.0.zip |
| PackageFileSize: 917.7 KiB |
##############################################################################
##############################################################################
###
### Running command:
###
### rm -rf waveTiling.buildbin-libdir && mkdir waveTiling.buildbin-libdir && C:\Users\biocbuild\bbs-3.8-bioc\R\bin\R.exe CMD INSTALL --merge-multiarch --build --library=waveTiling.buildbin-libdir waveTiling_1.24.0.tar.gz
###
##############################################################################
##############################################################################
install for i386
* installing *source* package 'waveTiling' ...
** libs
C:/Rtools/mingw_32/bin/gcc -I"C:/Users/BIOCBU˜1/BBS-3˜1.8-B/R/include" -DNDEBUG -I"C:/extsoft/include" -O3 -Wall -std=gnu99 -mtune=generic -c waveTiling.c -o waveTiling.o
waveTiling.c: In function 'MAPMARG':
waveTiling.c:10:11: warning: unused variable 'n' [-Wunused-variable]
int i,j,m,n,Jcount=0;
^
waveTiling.c: In function 'MAPMARGEQSMOOTH':
waveTiling.c:43:11: warning: unused variable 'n' [-Wunused-variable]
int i,j,m,n,Jcount=0;
^
waveTiling.c: In function 'MAPMARGIMP':
waveTiling.c:81:11: warning: unused variable 'n' [-Wunused-variable]
int i,j,m,n,Jcount=0;
^
waveTiling.c: In function 'MAPMARGIMPEQSMOOTH':
waveTiling.c:114:11: warning: unused variable 'n' [-Wunused-variable]
int i,j,m,n,Jcount=0;
^
C:/Rtools/mingw_32/bin/gcc -shared -s -static-libgcc -o waveTiling.dll tmp.def waveTiling.o -LC:/extsoft/lib/i386 -LC:/extsoft/lib -LC:/Users/BIOCBU˜1/BBS-3˜1.8-B/R/bin/i386 -lR
installing to C:/Users/biocbuild/bbs-3.8-bioc/meat/waveTiling.buildbin-libdir/waveTiling/libs/i386
** R
** inst
** byte-compile and prepare package for lazy loading
** help
*** installing help indices
converting help for package 'waveTiling'
finding HTML links ... done
GenomeInfo-class html
MapFilterProbe-class html
WaveTilingFeatureSet-class html
finding level-2 HTML links ... done
WfmFit-class html
WfmFitCircadian-class html
WfmFitCustom-class html
WfmFitFactor-class html
WfmFitTime-class html
WfmInf-class html
WfmInfCompare-class html
WfmInfCustom-class html
WfmInfEffects-class html
WfmInfMeans-class html
WfmInfOverallMean-class html
addPheno html
bgCorrQn html
cel2TilingFeatureSet html
filterOverlap html
getNonAnnotatedRegions html
getSigGenes html
makeContrasts html
makeDesign html
plotWfm html
selectProbesFromFilterOverlap html
selectProbesFromTilingFeatureSet html
wfm.fit html
wfm.inference html
** building package indices
** installing vignettes
** testing if installed package can be loaded
In R CMD INSTALL
install for x64
* installing *source* package 'waveTiling' ...
** libs
C:/Rtools/mingw_64/bin/gcc -I"C:/Users/BIOCBU˜1/BBS-3˜1.8-B/R/include" -DNDEBUG -I"C:/extsoft/include" -O2 -Wall -std=gnu99 -mtune=generic -c waveTiling.c -o waveTiling.o
waveTiling.c: In function 'MAPMARG':
waveTiling.c:10:11: warning: unused variable 'n' [-Wunused-variable]
int i,j,m,n,Jcount=0;
^
waveTiling.c: In function 'MAPMARGEQSMOOTH':
waveTiling.c:43:11: warning: unused variable 'n' [-Wunused-variable]
int i,j,m,n,Jcount=0;
^
waveTiling.c: In function 'MAPMARGIMP':
waveTiling.c:81:11: warning: unused variable 'n' [-Wunused-variable]
int i,j,m,n,Jcount=0;
^
waveTiling.c: In function 'MAPMARGIMPEQSMOOTH':
waveTiling.c:114:11: warning: unused variable 'n' [-Wunused-variable]
int i,j,m,n,Jcount=0;
^
C:/Rtools/mingw_64/bin/gcc -shared -s -static-libgcc -o waveTiling.dll tmp.def waveTiling.o -LC:/extsoft/lib/x64 -LC:/extsoft/lib -LC:/Users/BIOCBU˜1/BBS-3˜1.8-B/R/bin/x64 -lR
installing to C:/Users/biocbuild/bbs-3.8-bioc/meat/waveTiling.buildbin-libdir/waveTiling/libs/x64
** testing if installed package can be loaded
* MD5 sums
packaged installation of 'waveTiling' as waveTiling_1.24.0.zip
* DONE (waveTiling)
In R CMD INSTALL
In R CMD INSTALL